BEGIN:VCALENDAR
VERSION:2.0
PRODID:-//Nolensville First Baptist Church - ECPv6.15.20//NONSGML v1.0//EN
CALSCALE:GREGORIAN
METHOD:PUBLISH
X-WR-CALNAME:Nolensville First Baptist Church
X-ORIGINAL-URL:https://nolensvillefbc.com
X-WR-CALDESC:Events for Nolensville First Baptist Church
REFRESH-INTERVAL;VALUE=DURATION:PT1H
X-Robots-Tag:noindex
X-PUBLISHED-TTL:PT1H
BEGIN:VTIMEZONE
TZID:America/Chicago
BEGIN:DAYLIGHT
TZOFFSETFROM:-0600
TZOFFSETTO:-0500
TZNAME:CDT
DTSTART:20280312T080000
END:DAYLIGHT
BEGIN:STANDARD
TZOFFSETFROM:-0500
TZOFFSETTO:-0600
TZNAME:CST
DTSTART:20281105T070000
END:STANDARD
BEGIN:DAYLIGHT
TZOFFSETFROM:-0600
TZOFFSETTO:-0500
TZNAME:CDT
DTSTART:20290311T080000
END:DAYLIGHT
BEGIN:STANDARD
TZOFFSETFROM:-0500
TZOFFSETTO:-0600
TZNAME:CST
DTSTART:20291104T070000
END:STANDARD
BEGIN:DAYLIGHT
TZOFFSETFROM:-0600
TZOFFSETTO:-0500
TZNAME:CDT
DTSTART:20300310T080000
END:DAYLIGHT
BEGIN:STANDARD
TZOFFSETFROM:-0500
TZOFFSETTO:-0600
TZNAME:CST
DTSTART:20301103T070000
END:STANDARD
BEGIN:DAYLIGHT
TZOFFSETFROM:-0600
TZOFFSETTO:-0500
TZNAME:CDT
DTSTART:20310309T080000
END:DAYLIGHT
BEGIN:STANDARD
TZOFFSETFROM:-0500
TZOFFSETTO:-0600
TZNAME:CST
DTSTART:20311102T070000
END:STANDARD
END:VTIMEZONE
BEGIN:VEVENT
DTSTART;TZID=America/Chicago:20290519T080000
DTEND;TZID=America/Chicago:20290519T090000
DTSTAMP:20260419T123224
CREATED:20250428T181728Z
LAST-MODIFIED:20250522T162400Z
UID:990001388-1873872000-1873875600@nolensvillefbc.com
SUMMARY:Men's Breakfast
DESCRIPTION:Men will gather to enjoy a fresh cooked breakfast and fellowship in a brief Bible Study. All men are welcome!
URL:https://nolensvillefbc.com/event/mens-breakfast/2029-05-19/
LOCATION:Nolensville First Baptist Church\, 9624 Clovercroft Road\, Nolensville\, TN\, 37135\, United States
CATEGORIES:Men
ORGANIZER;CN="Nolensville First Baptist Church":MAILTO:info@nolensvillefbc.com
END:VEVENT
BEGIN:VEVENT
DTSTART;TZID=America/Chicago:20290616T080000
DTEND;TZID=America/Chicago:20290616T090000
DTSTAMP:20260419T123224
CREATED:20250428T181728Z
LAST-MODIFIED:20250522T162400Z
UID:990001389-1876291200-1876294800@nolensvillefbc.com
SUMMARY:Men's Breakfast
DESCRIPTION:Men will gather to enjoy a fresh cooked breakfast and fellowship in a brief Bible Study. All men are welcome!
URL:https://nolensvillefbc.com/event/mens-breakfast/2029-06-16/
LOCATION:Nolensville First Baptist Church\, 9624 Clovercroft Road\, Nolensville\, TN\, 37135\, United States
CATEGORIES:Men
ORGANIZER;CN="Nolensville First Baptist Church":MAILTO:info@nolensvillefbc.com
END:VEVENT
BEGIN:VEVENT
DTSTART;TZID=America/Chicago:20290721T080000
DTEND;TZID=America/Chicago:20290721T090000
DTSTAMP:20260419T123224
CREATED:20250428T181728Z
LAST-MODIFIED:20250522T162400Z
UID:990001390-1879315200-1879318800@nolensvillefbc.com
SUMMARY:Men's Breakfast
DESCRIPTION:Men will gather to enjoy a fresh cooked breakfast and fellowship in a brief Bible Study. All men are welcome!
URL:https://nolensvillefbc.com/event/mens-breakfast/2029-07-21/
LOCATION:Nolensville First Baptist Church\, 9624 Clovercroft Road\, Nolensville\, TN\, 37135\, United States
CATEGORIES:Men
ORGANIZER;CN="Nolensville First Baptist Church":MAILTO:info@nolensvillefbc.com
END:VEVENT
BEGIN:VEVENT
DTSTART;TZID=America/Chicago:20290818T080000
DTEND;TZID=America/Chicago:20290818T090000
DTSTAMP:20260419T123225
CREATED:20250428T181728Z
LAST-MODIFIED:20250522T162400Z
UID:990001391-1881734400-1881738000@nolensvillefbc.com
SUMMARY:Men's Breakfast
DESCRIPTION:Men will gather to enjoy a fresh cooked breakfast and fellowship in a brief Bible Study. All men are welcome!
URL:https://nolensvillefbc.com/event/mens-breakfast/2029-08-18/
LOCATION:Nolensville First Baptist Church\, 9624 Clovercroft Road\, Nolensville\, TN\, 37135\, United States
CATEGORIES:Men
ORGANIZER;CN="Nolensville First Baptist Church":MAILTO:info@nolensvillefbc.com
END:VEVENT
BEGIN:VEVENT
DTSTART;TZID=America/Chicago:20290915T080000
DTEND;TZID=America/Chicago:20290915T090000
DTSTAMP:20260419T123225
CREATED:20250428T181728Z
LAST-MODIFIED:20250522T162400Z
UID:990001392-1884153600-1884157200@nolensvillefbc.com
SUMMARY:Men's Breakfast
DESCRIPTION:Men will gather to enjoy a fresh cooked breakfast and fellowship in a brief Bible Study. All men are welcome!
URL:https://nolensvillefbc.com/event/mens-breakfast/2029-09-15/
LOCATION:Nolensville First Baptist Church\, 9624 Clovercroft Road\, Nolensville\, TN\, 37135\, United States
CATEGORIES:Men
ORGANIZER;CN="Nolensville First Baptist Church":MAILTO:info@nolensvillefbc.com
END:VEVENT
BEGIN:VEVENT
DTSTART;TZID=America/Chicago:20291020T080000
DTEND;TZID=America/Chicago:20291020T090000
DTSTAMP:20260419T123225
CREATED:20250428T181728Z
LAST-MODIFIED:20250522T162400Z
UID:990001393-1887177600-1887181200@nolensvillefbc.com
SUMMARY:Men's Breakfast
DESCRIPTION:Men will gather to enjoy a fresh cooked breakfast and fellowship in a brief Bible Study. All men are welcome!
URL:https://nolensvillefbc.com/event/mens-breakfast/2029-10-20/
LOCATION:Nolensville First Baptist Church\, 9624 Clovercroft Road\, Nolensville\, TN\, 37135\, United States
CATEGORIES:Men
ORGANIZER;CN="Nolensville First Baptist Church":MAILTO:info@nolensvillefbc.com
END:VEVENT
BEGIN:VEVENT
DTSTART;TZID=America/Chicago:20291117T080000
DTEND;TZID=America/Chicago:20291117T090000
DTSTAMP:20260419T123225
CREATED:20250428T181728Z
LAST-MODIFIED:20250522T162400Z
UID:990001394-1889596800-1889600400@nolensvillefbc.com
SUMMARY:Men's Breakfast
DESCRIPTION:Men will gather to enjoy a fresh cooked breakfast and fellowship in a brief Bible Study. All men are welcome!
URL:https://nolensvillefbc.com/event/mens-breakfast/2029-11-17/
LOCATION:Nolensville First Baptist Church\, 9624 Clovercroft Road\, Nolensville\, TN\, 37135\, United States
CATEGORIES:Men
ORGANIZER;CN="Nolensville First Baptist Church":MAILTO:info@nolensvillefbc.com
END:VEVENT
BEGIN:VEVENT
DTSTART;TZID=America/Chicago:20291215T080000
DTEND;TZID=America/Chicago:20291215T090000
DTSTAMP:20260419T123225
CREATED:20250428T181728Z
LAST-MODIFIED:20250522T162400Z
UID:990001395-1892016000-1892019600@nolensvillefbc.com
SUMMARY:Men's Breakfast
DESCRIPTION:Men will gather to enjoy a fresh cooked breakfast and fellowship in a brief Bible Study. All men are welcome!
URL:https://nolensvillefbc.com/event/mens-breakfast/2029-12-15/
LOCATION:Nolensville First Baptist Church\, 9624 Clovercroft Road\, Nolensville\, TN\, 37135\, United States
CATEGORIES:Men
ORGANIZER;CN="Nolensville First Baptist Church":MAILTO:info@nolensvillefbc.com
END:VEVENT
BEGIN:VEVENT
DTSTART;TZID=America/Chicago:20300119T080000
DTEND;TZID=America/Chicago:20300119T090000
DTSTAMP:20260419T123225
CREATED:20250428T181728Z
LAST-MODIFIED:20250522T162400Z
UID:990001396-1895040000-1895043600@nolensvillefbc.com
SUMMARY:Men's Breakfast
DESCRIPTION:Men will gather to enjoy a fresh cooked breakfast and fellowship in a brief Bible Study. All men are welcome!
URL:https://nolensvillefbc.com/event/mens-breakfast/2030-01-19/
LOCATION:Nolensville First Baptist Church\, 9624 Clovercroft Road\, Nolensville\, TN\, 37135\, United States
CATEGORIES:Men
ORGANIZER;CN="Nolensville First Baptist Church":MAILTO:info@nolensvillefbc.com
END:VEVENT
BEGIN:VEVENT
DTSTART;TZID=America/Chicago:20300216T080000
DTEND;TZID=America/Chicago:20300216T090000
DTSTAMP:20260419T123225
CREATED:20250428T181728Z
LAST-MODIFIED:20250522T162400Z
UID:990001397-1897459200-1897462800@nolensvillefbc.com
SUMMARY:Men's Breakfast
DESCRIPTION:Men will gather to enjoy a fresh cooked breakfast and fellowship in a brief Bible Study. All men are welcome!
URL:https://nolensvillefbc.com/event/mens-breakfast/2030-02-16/
LOCATION:Nolensville First Baptist Church\, 9624 Clovercroft Road\, Nolensville\, TN\, 37135\, United States
CATEGORIES:Men
ORGANIZER;CN="Nolensville First Baptist Church":MAILTO:info@nolensvillefbc.com
END:VEVENT
BEGIN:VEVENT
DTSTART;TZID=America/Chicago:20300316T080000
DTEND;TZID=America/Chicago:20300316T090000
DTSTAMP:20260419T123225
CREATED:20250428T181728Z
LAST-MODIFIED:20250522T162400Z
UID:990001398-1899878400-1899882000@nolensvillefbc.com
SUMMARY:Men's Breakfast
DESCRIPTION:Men will gather to enjoy a fresh cooked breakfast and fellowship in a brief Bible Study. All men are welcome!
URL:https://nolensvillefbc.com/event/mens-breakfast/2030-03-16/
LOCATION:Nolensville First Baptist Church\, 9624 Clovercroft Road\, Nolensville\, TN\, 37135\, United States
CATEGORIES:Men
ORGANIZER;CN="Nolensville First Baptist Church":MAILTO:info@nolensvillefbc.com
END:VEVENT
BEGIN:VEVENT
DTSTART;TZID=America/Chicago:20300420T080000
DTEND;TZID=America/Chicago:20300420T090000
DTSTAMP:20260419T123225
CREATED:20250428T181728Z
LAST-MODIFIED:20250522T162400Z
UID:990001399-1902902400-1902906000@nolensvillefbc.com
SUMMARY:Men's Breakfast
DESCRIPTION:Men will gather to enjoy a fresh cooked breakfast and fellowship in a brief Bible Study. All men are welcome!
URL:https://nolensvillefbc.com/event/mens-breakfast/2030-04-20/
LOCATION:Nolensville First Baptist Church\, 9624 Clovercroft Road\, Nolensville\, TN\, 37135\, United States
CATEGORIES:Men
ORGANIZER;CN="Nolensville First Baptist Church":MAILTO:info@nolensvillefbc.com
END:VEVENT
BEGIN:VEVENT
DTSTART;TZID=America/Chicago:20300518T080000
DTEND;TZID=America/Chicago:20300518T090000
DTSTAMP:20260419T123225
CREATED:20250428T181728Z
LAST-MODIFIED:20250522T162400Z
UID:990001400-1905321600-1905325200@nolensvillefbc.com
SUMMARY:Men's Breakfast
DESCRIPTION:Men will gather to enjoy a fresh cooked breakfast and fellowship in a brief Bible Study. All men are welcome!
URL:https://nolensvillefbc.com/event/mens-breakfast/2030-05-18/
LOCATION:Nolensville First Baptist Church\, 9624 Clovercroft Road\, Nolensville\, TN\, 37135\, United States
CATEGORIES:Men
ORGANIZER;CN="Nolensville First Baptist Church":MAILTO:info@nolensvillefbc.com
END:VEVENT
END:VCALENDAR