BEGIN:VCALENDAR
VERSION:2.0
PRODID:-//Nolensville First Baptist Church - ECPv6.15.20//NONSGML v1.0//EN
CALSCALE:GREGORIAN
METHOD:PUBLISH
X-WR-CALNAME:Nolensville First Baptist Church
X-ORIGINAL-URL:https://nolensvillefbc.com
X-WR-CALDESC:Events for Nolensville First Baptist Church
REFRESH-INTERVAL;VALUE=DURATION:PT1H
X-Robots-Tag:noindex
X-PUBLISHED-TTL:PT1H
BEGIN:VTIMEZONE
TZID:America/Chicago
BEGIN:DAYLIGHT
TZOFFSETFROM:-0600
TZOFFSETTO:-0500
TZNAME:CDT
DTSTART:20250309T080000
END:DAYLIGHT
BEGIN:STANDARD
TZOFFSETFROM:-0500
TZOFFSETTO:-0600
TZNAME:CST
DTSTART:20251102T070000
END:STANDARD
BEGIN:DAYLIGHT
TZOFFSETFROM:-0600
TZOFFSETTO:-0500
TZNAME:CDT
DTSTART:20260308T080000
END:DAYLIGHT
BEGIN:STANDARD
TZOFFSETFROM:-0500
TZOFFSETTO:-0600
TZNAME:CST
DTSTART:20261101T070000
END:STANDARD
BEGIN:DAYLIGHT
TZOFFSETFROM:-0600
TZOFFSETTO:-0500
TZNAME:CDT
DTSTART:20270314T080000
END:DAYLIGHT
BEGIN:STANDARD
TZOFFSETFROM:-0500
TZOFFSETTO:-0600
TZNAME:CST
DTSTART:20271107T070000
END:STANDARD
END:VTIMEZONE
BEGIN:VEVENT
DTSTART;TZID=America/Chicago:20260603T180000
DTEND;TZID=America/Chicago:20260603T190000
DTSTAMP:20260423T184419
CREATED:20250103T204907Z
LAST-MODIFIED:20250402T163756Z
UID:990000857-1780509600-1780513200@nolensvillefbc.com
SUMMARY:Wednesday Bible Study
DESCRIPTION:Join us for Wednesday Night Bible Study\nWednesday nights are a great mid-week Church service. Each week there is a brief time of prayer followed by a Bible Study led by Dr. Farmer.
URL:https://nolensvillefbc.com/event/wednesday-bible-study/2026-06-03/
LOCATION:Nolensville First Baptist Church\, 9624 Clovercroft Road\, Nolensville\, TN\, 37135\, United States
CATEGORIES:Worship
ORGANIZER;CN="Nolensville First Baptist Church":MAILTO:info@nolensvillefbc.com
END:VEVENT
BEGIN:VEVENT
DTSTART;TZID=America/Chicago:20260607T104500
DTEND;TZID=America/Chicago:20260607T114500
DTSTAMP:20260423T184419
CREATED:20250103T203523Z
LAST-MODIFIED:20250103T204947Z
UID:990000075-1780829100-1780832700@nolensvillefbc.com
SUMMARY:Sunday Worship Service
DESCRIPTION:Join Nolensville First Baptist Church for our weekly Sunday worship service. \nLearn about what to expect\, and read through our frequently asked questions on our Visit page.
URL:https://nolensvillefbc.com/event/sunday-worship-service/2026-06-07/
LOCATION:Nolensville First Baptist Church\, 9624 Clovercroft Road\, Nolensville\, TN\, 37135\, United States
CATEGORIES:Worship
ORGANIZER;CN="Nolensville First Baptist Church":MAILTO:info@nolensvillefbc.com
END:VEVENT
BEGIN:VEVENT
DTSTART;TZID=America/Chicago:20260610T180000
DTEND;TZID=America/Chicago:20260610T190000
DTSTAMP:20260423T184419
CREATED:20250103T204907Z
LAST-MODIFIED:20250402T163756Z
UID:990000858-1781114400-1781118000@nolensvillefbc.com
SUMMARY:Wednesday Bible Study
DESCRIPTION:Join us for Wednesday Night Bible Study\nWednesday nights are a great mid-week Church service. Each week there is a brief time of prayer followed by a Bible Study led by Dr. Farmer.
URL:https://nolensvillefbc.com/event/wednesday-bible-study/2026-06-10/
LOCATION:Nolensville First Baptist Church\, 9624 Clovercroft Road\, Nolensville\, TN\, 37135\, United States
CATEGORIES:Worship
ORGANIZER;CN="Nolensville First Baptist Church":MAILTO:info@nolensvillefbc.com
END:VEVENT
BEGIN:VEVENT
DTSTART;TZID=America/Chicago:20260614T104500
DTEND;TZID=America/Chicago:20260614T114500
DTSTAMP:20260423T184419
CREATED:20250103T203523Z
LAST-MODIFIED:20250103T204947Z
UID:990000076-1781433900-1781437500@nolensvillefbc.com
SUMMARY:Sunday Worship Service
DESCRIPTION:Join Nolensville First Baptist Church for our weekly Sunday worship service. \nLearn about what to expect\, and read through our frequently asked questions on our Visit page.
URL:https://nolensvillefbc.com/event/sunday-worship-service/2026-06-14/
LOCATION:Nolensville First Baptist Church\, 9624 Clovercroft Road\, Nolensville\, TN\, 37135\, United States
CATEGORIES:Worship
ORGANIZER;CN="Nolensville First Baptist Church":MAILTO:info@nolensvillefbc.com
END:VEVENT
BEGIN:VEVENT
DTSTART;TZID=America/Chicago:20260617T180000
DTEND;TZID=America/Chicago:20260617T190000
DTSTAMP:20260423T184419
CREATED:20250103T204907Z
LAST-MODIFIED:20250402T163756Z
UID:990000859-1781719200-1781722800@nolensvillefbc.com
SUMMARY:Wednesday Bible Study
DESCRIPTION:Join us for Wednesday Night Bible Study\nWednesday nights are a great mid-week Church service. Each week there is a brief time of prayer followed by a Bible Study led by Dr. Farmer.
URL:https://nolensvillefbc.com/event/wednesday-bible-study/2026-06-17/
LOCATION:Nolensville First Baptist Church\, 9624 Clovercroft Road\, Nolensville\, TN\, 37135\, United States
CATEGORIES:Worship
ORGANIZER;CN="Nolensville First Baptist Church":MAILTO:info@nolensvillefbc.com
END:VEVENT
BEGIN:VEVENT
DTSTART;TZID=America/Chicago:20260621T104500
DTEND;TZID=America/Chicago:20260621T114500
DTSTAMP:20260423T184419
CREATED:20250103T203523Z
LAST-MODIFIED:20250103T204947Z
UID:990000077-1782038700-1782042300@nolensvillefbc.com
SUMMARY:Sunday Worship Service
DESCRIPTION:Join Nolensville First Baptist Church for our weekly Sunday worship service. \nLearn about what to expect\, and read through our frequently asked questions on our Visit page.
URL:https://nolensvillefbc.com/event/sunday-worship-service/2026-06-21/
LOCATION:Nolensville First Baptist Church\, 9624 Clovercroft Road\, Nolensville\, TN\, 37135\, United States
CATEGORIES:Worship
ORGANIZER;CN="Nolensville First Baptist Church":MAILTO:info@nolensvillefbc.com
END:VEVENT
BEGIN:VEVENT
DTSTART;TZID=America/Chicago:20260624T180000
DTEND;TZID=America/Chicago:20260624T190000
DTSTAMP:20260423T184419
CREATED:20250103T204907Z
LAST-MODIFIED:20250402T163756Z
UID:990000860-1782324000-1782327600@nolensvillefbc.com
SUMMARY:Wednesday Bible Study
DESCRIPTION:Join us for Wednesday Night Bible Study\nWednesday nights are a great mid-week Church service. Each week there is a brief time of prayer followed by a Bible Study led by Dr. Farmer.
URL:https://nolensvillefbc.com/event/wednesday-bible-study/2026-06-24/
LOCATION:Nolensville First Baptist Church\, 9624 Clovercroft Road\, Nolensville\, TN\, 37135\, United States
CATEGORIES:Worship
ORGANIZER;CN="Nolensville First Baptist Church":MAILTO:info@nolensvillefbc.com
END:VEVENT
BEGIN:VEVENT
DTSTART;TZID=America/Chicago:20260628T104500
DTEND;TZID=America/Chicago:20260628T114500
DTSTAMP:20260423T184419
CREATED:20250103T203523Z
LAST-MODIFIED:20250103T204947Z
UID:990000078-1782643500-1782647100@nolensvillefbc.com
SUMMARY:Sunday Worship Service
DESCRIPTION:Join Nolensville First Baptist Church for our weekly Sunday worship service. \nLearn about what to expect\, and read through our frequently asked questions on our Visit page.
URL:https://nolensvillefbc.com/event/sunday-worship-service/2026-06-28/
LOCATION:Nolensville First Baptist Church\, 9624 Clovercroft Road\, Nolensville\, TN\, 37135\, United States
CATEGORIES:Worship
ORGANIZER;CN="Nolensville First Baptist Church":MAILTO:info@nolensvillefbc.com
END:VEVENT
END:VCALENDAR