BEGIN:VCALENDAR
VERSION:2.0
PRODID:-//Nolensville First Baptist Church - ECPv6.15.20//NONSGML v1.0//EN
CALSCALE:GREGORIAN
METHOD:PUBLISH
X-ORIGINAL-URL:https://nolensvillefbc.com
X-WR-CALDESC:Events for Nolensville First Baptist Church
REFRESH-INTERVAL;VALUE=DURATION:PT1H
X-Robots-Tag:noindex
X-PUBLISHED-TTL:PT1H
BEGIN:VTIMEZONE
TZID:America/Chicago
BEGIN:DAYLIGHT
TZOFFSETFROM:-0600
TZOFFSETTO:-0500
TZNAME:CDT
DTSTART:20240310T080000
END:DAYLIGHT
BEGIN:STANDARD
TZOFFSETFROM:-0500
TZOFFSETTO:-0600
TZNAME:CST
DTSTART:20241103T070000
END:STANDARD
BEGIN:DAYLIGHT
TZOFFSETFROM:-0600
TZOFFSETTO:-0500
TZNAME:CDT
DTSTART:20250309T080000
END:DAYLIGHT
BEGIN:STANDARD
TZOFFSETFROM:-0500
TZOFFSETTO:-0600
TZNAME:CST
DTSTART:20251102T070000
END:STANDARD
BEGIN:DAYLIGHT
TZOFFSETFROM:-0600
TZOFFSETTO:-0500
TZNAME:CDT
DTSTART:20260308T080000
END:DAYLIGHT
BEGIN:STANDARD
TZOFFSETFROM:-0500
TZOFFSETTO:-0600
TZNAME:CST
DTSTART:20261101T070000
END:STANDARD
END:VTIMEZONE
BEGIN:VEVENT
DTSTART;TZID=America/Chicago:20250316T104500
DTEND;TZID=America/Chicago:20250316T114500
DTSTAMP:20260424T041530
CREATED:20250103T203523Z
LAST-MODIFIED:20250103T204947Z
UID:990000011-1742121900-1742125500@nolensvillefbc.com
SUMMARY:Sunday Worship Service
DESCRIPTION:Join Nolensville First Baptist Church for our weekly Sunday worship service. \nLearn about what to expect\, and read through our frequently asked questions on our Visit page.
URL:https://nolensvillefbc.com/event/sunday-worship-service/2025-03-16/
LOCATION:Nolensville First Baptist Church\, 9624 Clovercroft Road\, Nolensville\, TN\, 37135\, United States
CATEGORIES:Worship
ORGANIZER;CN="Nolensville First Baptist Church":MAILTO:info@nolensvillefbc.com
END:VEVENT
BEGIN:VEVENT
DTSTART;TZID=America/Chicago:20250312T180000
DTEND;TZID=America/Chicago:20250312T190000
DTSTAMP:20260424T041530
CREATED:20250103T204907Z
LAST-MODIFIED:20250402T163756Z
UID:990000793-1741802400-1741806000@nolensvillefbc.com
SUMMARY:Wednesday Bible Study
DESCRIPTION:Join us for Wednesday Night Bible Study\nWednesday nights are a great mid-week Church service. Each week there is a brief time of prayer followed by a Bible Study led by Dr. Farmer.
URL:https://nolensvillefbc.com/event/wednesday-bible-study/2025-03-12/
LOCATION:Nolensville First Baptist Church\, 9624 Clovercroft Road\, Nolensville\, TN\, 37135\, United States
CATEGORIES:Worship
ORGANIZER;CN="Nolensville First Baptist Church":MAILTO:info@nolensvillefbc.com
END:VEVENT
BEGIN:VEVENT
DTSTART;TZID=America/Chicago:20250309T104500
DTEND;TZID=America/Chicago:20250309T114500
DTSTAMP:20260424T041530
CREATED:20250103T203523Z
LAST-MODIFIED:20250103T204947Z
UID:990000010-1741517100-1741520700@nolensvillefbc.com
SUMMARY:Sunday Worship Service
DESCRIPTION:Join Nolensville First Baptist Church for our weekly Sunday worship service. \nLearn about what to expect\, and read through our frequently asked questions on our Visit page.
URL:https://nolensvillefbc.com/event/sunday-worship-service/2025-03-09/
LOCATION:Nolensville First Baptist Church\, 9624 Clovercroft Road\, Nolensville\, TN\, 37135\, United States
CATEGORIES:Worship
ORGANIZER;CN="Nolensville First Baptist Church":MAILTO:info@nolensvillefbc.com
END:VEVENT
BEGIN:VEVENT
DTSTART;TZID=America/Chicago:20250305T180000
DTEND;TZID=America/Chicago:20250305T190000
DTSTAMP:20260424T041530
CREATED:20250103T204907Z
LAST-MODIFIED:20250402T163756Z
UID:990000792-1741197600-1741201200@nolensvillefbc.com
SUMMARY:Wednesday Bible Study
DESCRIPTION:Join us for Wednesday Night Bible Study\nWednesday nights are a great mid-week Church service. Each week there is a brief time of prayer followed by a Bible Study led by Dr. Farmer.
URL:https://nolensvillefbc.com/event/wednesday-bible-study/2025-03-05/
LOCATION:Nolensville First Baptist Church\, 9624 Clovercroft Road\, Nolensville\, TN\, 37135\, United States
CATEGORIES:Worship
ORGANIZER;CN="Nolensville First Baptist Church":MAILTO:info@nolensvillefbc.com
END:VEVENT
BEGIN:VEVENT
DTSTART;TZID=America/Chicago:20250302T104500
DTEND;TZID=America/Chicago:20250302T114500
DTSTAMP:20260424T041530
CREATED:20250103T203523Z
LAST-MODIFIED:20250103T204947Z
UID:990000009-1740912300-1740915900@nolensvillefbc.com
SUMMARY:Sunday Worship Service
DESCRIPTION:Join Nolensville First Baptist Church for our weekly Sunday worship service. \nLearn about what to expect\, and read through our frequently asked questions on our Visit page.
URL:https://nolensvillefbc.com/event/sunday-worship-service/2025-03-02/
LOCATION:Nolensville First Baptist Church\, 9624 Clovercroft Road\, Nolensville\, TN\, 37135\, United States
CATEGORIES:Worship
ORGANIZER;CN="Nolensville First Baptist Church":MAILTO:info@nolensvillefbc.com
END:VEVENT
BEGIN:VEVENT
DTSTART;TZID=America/Chicago:20250226T180000
DTEND;TZID=America/Chicago:20250226T190000
DTSTAMP:20260424T041530
CREATED:20250103T204907Z
LAST-MODIFIED:20250402T163756Z
UID:990000791-1740592800-1740596400@nolensvillefbc.com
SUMMARY:Wednesday Bible Study
DESCRIPTION:Join us for Wednesday Night Bible Study\nWednesday nights are a great mid-week Church service. Each week there is a brief time of prayer followed by a Bible Study led by Dr. Farmer.
URL:https://nolensvillefbc.com/event/wednesday-bible-study/2025-02-26/
LOCATION:Nolensville First Baptist Church\, 9624 Clovercroft Road\, Nolensville\, TN\, 37135\, United States
CATEGORIES:Worship
ORGANIZER;CN="Nolensville First Baptist Church":MAILTO:info@nolensvillefbc.com
END:VEVENT
BEGIN:VEVENT
DTSTART;TZID=America/Chicago:20250223T104500
DTEND;TZID=America/Chicago:20250223T114500
DTSTAMP:20260424T041530
CREATED:20250103T203523Z
LAST-MODIFIED:20250103T204947Z
UID:990000008-1740307500-1740311100@nolensvillefbc.com
SUMMARY:Sunday Worship Service
DESCRIPTION:Join Nolensville First Baptist Church for our weekly Sunday worship service. \nLearn about what to expect\, and read through our frequently asked questions on our Visit page.
URL:https://nolensvillefbc.com/event/sunday-worship-service/2025-02-23/
LOCATION:Nolensville First Baptist Church\, 9624 Clovercroft Road\, Nolensville\, TN\, 37135\, United States
CATEGORIES:Worship
ORGANIZER;CN="Nolensville First Baptist Church":MAILTO:info@nolensvillefbc.com
END:VEVENT
BEGIN:VEVENT
DTSTART;TZID=America/Chicago:20250219T180000
DTEND;TZID=America/Chicago:20250219T190000
DTSTAMP:20260424T041530
CREATED:20250103T204907Z
LAST-MODIFIED:20250402T163756Z
UID:990000790-1739988000-1739991600@nolensvillefbc.com
SUMMARY:Wednesday Bible Study
DESCRIPTION:Join us for Wednesday Night Bible Study\nWednesday nights are a great mid-week Church service. Each week there is a brief time of prayer followed by a Bible Study led by Dr. Farmer.
URL:https://nolensvillefbc.com/event/wednesday-bible-study/2025-02-19/
LOCATION:Nolensville First Baptist Church\, 9624 Clovercroft Road\, Nolensville\, TN\, 37135\, United States
CATEGORIES:Worship
ORGANIZER;CN="Nolensville First Baptist Church":MAILTO:info@nolensvillefbc.com
END:VEVENT
BEGIN:VEVENT
DTSTART;TZID=America/Chicago:20250216T104500
DTEND;TZID=America/Chicago:20250216T114500
DTSTAMP:20260424T041530
CREATED:20250103T203523Z
LAST-MODIFIED:20250103T204947Z
UID:990000007-1739702700-1739706300@nolensvillefbc.com
SUMMARY:Sunday Worship Service
DESCRIPTION:Join Nolensville First Baptist Church for our weekly Sunday worship service. \nLearn about what to expect\, and read through our frequently asked questions on our Visit page.
URL:https://nolensvillefbc.com/event/sunday-worship-service/2025-02-16/
LOCATION:Nolensville First Baptist Church\, 9624 Clovercroft Road\, Nolensville\, TN\, 37135\, United States
CATEGORIES:Worship
ORGANIZER;CN="Nolensville First Baptist Church":MAILTO:info@nolensvillefbc.com
END:VEVENT
BEGIN:VEVENT
DTSTART;TZID=America/Chicago:20250212T180000
DTEND;TZID=America/Chicago:20250212T190000
DTSTAMP:20260424T041530
CREATED:20250103T204907Z
LAST-MODIFIED:20250402T163756Z
UID:990000789-1739383200-1739386800@nolensvillefbc.com
SUMMARY:Wednesday Bible Study
DESCRIPTION:Join us for Wednesday Night Bible Study\nWednesday nights are a great mid-week Church service. Each week there is a brief time of prayer followed by a Bible Study led by Dr. Farmer.
URL:https://nolensvillefbc.com/event/wednesday-bible-study/2025-02-12/
LOCATION:Nolensville First Baptist Church\, 9624 Clovercroft Road\, Nolensville\, TN\, 37135\, United States
CATEGORIES:Worship
ORGANIZER;CN="Nolensville First Baptist Church":MAILTO:info@nolensvillefbc.com
END:VEVENT
BEGIN:VEVENT
DTSTART;TZID=America/Chicago:20250209T104500
DTEND;TZID=America/Chicago:20250209T114500
DTSTAMP:20260424T041530
CREATED:20250103T203523Z
LAST-MODIFIED:20250103T204947Z
UID:990000006-1739097900-1739101500@nolensvillefbc.com
SUMMARY:Sunday Worship Service
DESCRIPTION:Join Nolensville First Baptist Church for our weekly Sunday worship service. \nLearn about what to expect\, and read through our frequently asked questions on our Visit page.
URL:https://nolensvillefbc.com/event/sunday-worship-service/2025-02-09/
LOCATION:Nolensville First Baptist Church\, 9624 Clovercroft Road\, Nolensville\, TN\, 37135\, United States
CATEGORIES:Worship
ORGANIZER;CN="Nolensville First Baptist Church":MAILTO:info@nolensvillefbc.com
END:VEVENT
BEGIN:VEVENT
DTSTART;TZID=America/Chicago:20250205T180000
DTEND;TZID=America/Chicago:20250205T190000
DTSTAMP:20260424T041530
CREATED:20250103T204907Z
LAST-MODIFIED:20250402T163756Z
UID:990000788-1738778400-1738782000@nolensvillefbc.com
SUMMARY:Wednesday Bible Study
DESCRIPTION:Join us for Wednesday Night Bible Study\nWednesday nights are a great mid-week Church service. Each week there is a brief time of prayer followed by a Bible Study led by Dr. Farmer.
URL:https://nolensvillefbc.com/event/wednesday-bible-study/2025-02-05/
LOCATION:Nolensville First Baptist Church\, 9624 Clovercroft Road\, Nolensville\, TN\, 37135\, United States
CATEGORIES:Worship
ORGANIZER;CN="Nolensville First Baptist Church":MAILTO:info@nolensvillefbc.com
END:VEVENT
BEGIN:VEVENT
DTSTART;TZID=America/Chicago:20250202T104500
DTEND;TZID=America/Chicago:20250202T114500
DTSTAMP:20260424T041530
CREATED:20250103T203523Z
LAST-MODIFIED:20250103T204947Z
UID:990000005-1738493100-1738496700@nolensvillefbc.com
SUMMARY:Sunday Worship Service
DESCRIPTION:Join Nolensville First Baptist Church for our weekly Sunday worship service. \nLearn about what to expect\, and read through our frequently asked questions on our Visit page.
URL:https://nolensvillefbc.com/event/sunday-worship-service/2025-02-02/
LOCATION:Nolensville First Baptist Church\, 9624 Clovercroft Road\, Nolensville\, TN\, 37135\, United States
CATEGORIES:Worship
ORGANIZER;CN="Nolensville First Baptist Church":MAILTO:info@nolensvillefbc.com
END:VEVENT
BEGIN:VEVENT
DTSTART;TZID=America/Chicago:20250129T180000
DTEND;TZID=America/Chicago:20250129T190000
DTSTAMP:20260424T041530
CREATED:20250103T204907Z
LAST-MODIFIED:20250402T163756Z
UID:990000787-1738173600-1738177200@nolensvillefbc.com
SUMMARY:Wednesday Bible Study
DESCRIPTION:Join us for Wednesday Night Bible Study\nWednesday nights are a great mid-week Church service. Each week there is a brief time of prayer followed by a Bible Study led by Dr. Farmer.
URL:https://nolensvillefbc.com/event/wednesday-bible-study/2025-01-29/
LOCATION:Nolensville First Baptist Church\, 9624 Clovercroft Road\, Nolensville\, TN\, 37135\, United States
CATEGORIES:Worship
ORGANIZER;CN="Nolensville First Baptist Church":MAILTO:info@nolensvillefbc.com
END:VEVENT
BEGIN:VEVENT
DTSTART;TZID=America/Chicago:20250126T104500
DTEND;TZID=America/Chicago:20250126T114500
DTSTAMP:20260424T041530
CREATED:20250103T203523Z
LAST-MODIFIED:20250103T204947Z
UID:990000004-1737888300-1737891900@nolensvillefbc.com
SUMMARY:Sunday Worship Service
DESCRIPTION:Join Nolensville First Baptist Church for our weekly Sunday worship service. \nLearn about what to expect\, and read through our frequently asked questions on our Visit page.
URL:https://nolensvillefbc.com/event/sunday-worship-service/2025-01-26/
LOCATION:Nolensville First Baptist Church\, 9624 Clovercroft Road\, Nolensville\, TN\, 37135\, United States
CATEGORIES:Worship
ORGANIZER;CN="Nolensville First Baptist Church":MAILTO:info@nolensvillefbc.com
END:VEVENT
BEGIN:VEVENT
DTSTART;TZID=America/Chicago:20250122T180000
DTEND;TZID=America/Chicago:20250122T190000
DTSTAMP:20260424T041530
CREATED:20250103T204907Z
LAST-MODIFIED:20250402T163756Z
UID:990000786-1737568800-1737572400@nolensvillefbc.com
SUMMARY:Wednesday Bible Study
DESCRIPTION:Join us for Wednesday Night Bible Study\nWednesday nights are a great mid-week Church service. Each week there is a brief time of prayer followed by a Bible Study led by Dr. Farmer.
URL:https://nolensvillefbc.com/event/wednesday-bible-study/2025-01-22/
LOCATION:Nolensville First Baptist Church\, 9624 Clovercroft Road\, Nolensville\, TN\, 37135\, United States
CATEGORIES:Worship
ORGANIZER;CN="Nolensville First Baptist Church":MAILTO:info@nolensvillefbc.com
END:VEVENT
BEGIN:VEVENT
DTSTART;TZID=America/Chicago:20250119T104500
DTEND;TZID=America/Chicago:20250119T114500
DTSTAMP:20260424T041530
CREATED:20250103T203523Z
LAST-MODIFIED:20250103T204947Z
UID:990000003-1737283500-1737287100@nolensvillefbc.com
SUMMARY:Sunday Worship Service
DESCRIPTION:Join Nolensville First Baptist Church for our weekly Sunday worship service. \nLearn about what to expect\, and read through our frequently asked questions on our Visit page.
URL:https://nolensvillefbc.com/event/sunday-worship-service/2025-01-19/
LOCATION:Nolensville First Baptist Church\, 9624 Clovercroft Road\, Nolensville\, TN\, 37135\, United States
CATEGORIES:Worship
ORGANIZER;CN="Nolensville First Baptist Church":MAILTO:info@nolensvillefbc.com
END:VEVENT
BEGIN:VEVENT
DTSTART;TZID=America/Chicago:20250115T180000
DTEND;TZID=America/Chicago:20250115T190000
DTSTAMP:20260424T041530
CREATED:20250103T204907Z
LAST-MODIFIED:20250402T163756Z
UID:990000785-1736964000-1736967600@nolensvillefbc.com
SUMMARY:Wednesday Bible Study
DESCRIPTION:Join us for Wednesday Night Bible Study\nWednesday nights are a great mid-week Church service. Each week there is a brief time of prayer followed by a Bible Study led by Dr. Farmer.
URL:https://nolensvillefbc.com/event/wednesday-bible-study/2025-01-15/
LOCATION:Nolensville First Baptist Church\, 9624 Clovercroft Road\, Nolensville\, TN\, 37135\, United States
CATEGORIES:Worship
ORGANIZER;CN="Nolensville First Baptist Church":MAILTO:info@nolensvillefbc.com
END:VEVENT
BEGIN:VEVENT
DTSTART;TZID=America/Chicago:20250112T104500
DTEND;TZID=America/Chicago:20250112T114500
DTSTAMP:20260424T041530
CREATED:20250103T203523Z
LAST-MODIFIED:20250103T204947Z
UID:990000002-1736678700-1736682300@nolensvillefbc.com
SUMMARY:Sunday Worship Service
DESCRIPTION:Join Nolensville First Baptist Church for our weekly Sunday worship service. \nLearn about what to expect\, and read through our frequently asked questions on our Visit page.
URL:https://nolensvillefbc.com/event/sunday-worship-service/2025-01-12/
LOCATION:Nolensville First Baptist Church\, 9624 Clovercroft Road\, Nolensville\, TN\, 37135\, United States
CATEGORIES:Worship
ORGANIZER;CN="Nolensville First Baptist Church":MAILTO:info@nolensvillefbc.com
END:VEVENT
BEGIN:VEVENT
DTSTART;TZID=America/Chicago:20250108T180000
DTEND;TZID=America/Chicago:20250108T190000
DTSTAMP:20260424T041530
CREATED:20250103T204907Z
LAST-MODIFIED:20250402T163756Z
UID:990000784-1736359200-1736362800@nolensvillefbc.com
SUMMARY:Wednesday Bible Study
DESCRIPTION:Join us for Wednesday Night Bible Study\nWednesday nights are a great mid-week Church service. Each week there is a brief time of prayer followed by a Bible Study led by Dr. Farmer.
URL:https://nolensvillefbc.com/event/wednesday-bible-study/2025-01-08/
LOCATION:Nolensville First Baptist Church\, 9624 Clovercroft Road\, Nolensville\, TN\, 37135\, United States
CATEGORIES:Worship
ORGANIZER;CN="Nolensville First Baptist Church":MAILTO:info@nolensvillefbc.com
END:VEVENT
BEGIN:VEVENT
DTSTART;TZID=America/Chicago:20250105T104500
DTEND;TZID=America/Chicago:20250105T114500
DTSTAMP:20260424T041530
CREATED:20250103T203523Z
LAST-MODIFIED:20250103T204947Z
UID:990000001-1736073900-1736077500@nolensvillefbc.com
SUMMARY:Sunday Worship Service
DESCRIPTION:Join Nolensville First Baptist Church for our weekly Sunday worship service. \nLearn about what to expect\, and read through our frequently asked questions on our Visit page.
URL:https://nolensvillefbc.com/event/sunday-worship-service/2025-01-05/
LOCATION:Nolensville First Baptist Church\, 9624 Clovercroft Road\, Nolensville\, TN\, 37135\, United States
CATEGORIES:Worship
ORGANIZER;CN="Nolensville First Baptist Church":MAILTO:info@nolensvillefbc.com
END:VEVENT
END:VCALENDAR