BEGIN:VCALENDAR
VERSION:2.0
PRODID:-//Nolensville First Baptist Church - ECPv6.15.20//NONSGML v1.0//EN
CALSCALE:GREGORIAN
METHOD:PUBLISH
X-ORIGINAL-URL:https://nolensvillefbc.com
X-WR-CALDESC:Events for Nolensville First Baptist Church
REFRESH-INTERVAL;VALUE=DURATION:PT1H
X-Robots-Tag:noindex
X-PUBLISHED-TTL:PT1H
BEGIN:VTIMEZONE
TZID:America/Chicago
BEGIN:DAYLIGHT
TZOFFSETFROM:-0600
TZOFFSETTO:-0500
TZNAME:CDT
DTSTART:20240310T080000
END:DAYLIGHT
BEGIN:STANDARD
TZOFFSETFROM:-0500
TZOFFSETTO:-0600
TZNAME:CST
DTSTART:20241103T070000
END:STANDARD
BEGIN:DAYLIGHT
TZOFFSETFROM:-0600
TZOFFSETTO:-0500
TZNAME:CDT
DTSTART:20250309T080000
END:DAYLIGHT
BEGIN:STANDARD
TZOFFSETFROM:-0500
TZOFFSETTO:-0600
TZNAME:CST
DTSTART:20251102T070000
END:STANDARD
BEGIN:DAYLIGHT
TZOFFSETFROM:-0600
TZOFFSETTO:-0500
TZNAME:CDT
DTSTART:20260308T080000
END:DAYLIGHT
BEGIN:STANDARD
TZOFFSETFROM:-0500
TZOFFSETTO:-0600
TZNAME:CST
DTSTART:20261101T070000
END:STANDARD
END:VTIMEZONE
BEGIN:VEVENT
DTSTART;TZID=America/Chicago:20250827T180000
DTEND;TZID=America/Chicago:20250827T190000
DTSTAMP:20260423T214026
CREATED:20250103T204907Z
LAST-MODIFIED:20250402T163756Z
UID:990000817-1756317600-1756321200@nolensvillefbc.com
SUMMARY:Wednesday Bible Study
DESCRIPTION:Join us for Wednesday Night Bible Study\nWednesday nights are a great mid-week Church service. Each week there is a brief time of prayer followed by a Bible Study led by Dr. Farmer.
URL:https://nolensvillefbc.com/event/wednesday-bible-study/2025-08-27/
LOCATION:Nolensville First Baptist Church\, 9624 Clovercroft Road\, Nolensville\, TN\, 37135\, United States
CATEGORIES:Worship
ORGANIZER;CN="Nolensville First Baptist Church":MAILTO:info@nolensvillefbc.com
END:VEVENT
BEGIN:VEVENT
DTSTART;TZID=America/Chicago:20250824T104500
DTEND;TZID=America/Chicago:20250824T114500
DTSTAMP:20260423T214026
CREATED:20250103T203523Z
LAST-MODIFIED:20250103T204947Z
UID:990000034-1756032300-1756035900@nolensvillefbc.com
SUMMARY:Sunday Worship Service
DESCRIPTION:Join Nolensville First Baptist Church for our weekly Sunday worship service. \nLearn about what to expect\, and read through our frequently asked questions on our Visit page.
URL:https://nolensvillefbc.com/event/sunday-worship-service/2025-08-24/
LOCATION:Nolensville First Baptist Church\, 9624 Clovercroft Road\, Nolensville\, TN\, 37135\, United States
CATEGORIES:Worship
ORGANIZER;CN="Nolensville First Baptist Church":MAILTO:info@nolensvillefbc.com
END:VEVENT
BEGIN:VEVENT
DTSTART;TZID=America/Chicago:20250820T180000
DTEND;TZID=America/Chicago:20250820T190000
DTSTAMP:20260423T214026
CREATED:20250103T204907Z
LAST-MODIFIED:20250402T163756Z
UID:990000816-1755712800-1755716400@nolensvillefbc.com
SUMMARY:Wednesday Bible Study
DESCRIPTION:Join us for Wednesday Night Bible Study\nWednesday nights are a great mid-week Church service. Each week there is a brief time of prayer followed by a Bible Study led by Dr. Farmer.
URL:https://nolensvillefbc.com/event/wednesday-bible-study/2025-08-20/
LOCATION:Nolensville First Baptist Church\, 9624 Clovercroft Road\, Nolensville\, TN\, 37135\, United States
CATEGORIES:Worship
ORGANIZER;CN="Nolensville First Baptist Church":MAILTO:info@nolensvillefbc.com
END:VEVENT
BEGIN:VEVENT
DTSTART;TZID=America/Chicago:20250817T104500
DTEND;TZID=America/Chicago:20250817T114500
DTSTAMP:20260423T214026
CREATED:20250103T203523Z
LAST-MODIFIED:20250103T204947Z
UID:990000033-1755427500-1755431100@nolensvillefbc.com
SUMMARY:Sunday Worship Service
DESCRIPTION:Join Nolensville First Baptist Church for our weekly Sunday worship service. \nLearn about what to expect\, and read through our frequently asked questions on our Visit page.
URL:https://nolensvillefbc.com/event/sunday-worship-service/2025-08-17/
LOCATION:Nolensville First Baptist Church\, 9624 Clovercroft Road\, Nolensville\, TN\, 37135\, United States
CATEGORIES:Worship
ORGANIZER;CN="Nolensville First Baptist Church":MAILTO:info@nolensvillefbc.com
END:VEVENT
BEGIN:VEVENT
DTSTART;TZID=America/Chicago:20250813T180000
DTEND;TZID=America/Chicago:20250813T190000
DTSTAMP:20260423T214026
CREATED:20250103T204907Z
LAST-MODIFIED:20250402T163756Z
UID:990000815-1755108000-1755111600@nolensvillefbc.com
SUMMARY:Wednesday Bible Study
DESCRIPTION:Join us for Wednesday Night Bible Study\nWednesday nights are a great mid-week Church service. Each week there is a brief time of prayer followed by a Bible Study led by Dr. Farmer.
URL:https://nolensvillefbc.com/event/wednesday-bible-study/2025-08-13/
LOCATION:Nolensville First Baptist Church\, 9624 Clovercroft Road\, Nolensville\, TN\, 37135\, United States
CATEGORIES:Worship
ORGANIZER;CN="Nolensville First Baptist Church":MAILTO:info@nolensvillefbc.com
END:VEVENT
BEGIN:VEVENT
DTSTART;TZID=America/Chicago:20250810T104500
DTEND;TZID=America/Chicago:20250810T114500
DTSTAMP:20260423T214026
CREATED:20250103T203523Z
LAST-MODIFIED:20250103T204947Z
UID:990000032-1754822700-1754826300@nolensvillefbc.com
SUMMARY:Sunday Worship Service
DESCRIPTION:Join Nolensville First Baptist Church for our weekly Sunday worship service. \nLearn about what to expect\, and read through our frequently asked questions on our Visit page.
URL:https://nolensvillefbc.com/event/sunday-worship-service/2025-08-10/
LOCATION:Nolensville First Baptist Church\, 9624 Clovercroft Road\, Nolensville\, TN\, 37135\, United States
CATEGORIES:Worship
ORGANIZER;CN="Nolensville First Baptist Church":MAILTO:info@nolensvillefbc.com
END:VEVENT
BEGIN:VEVENT
DTSTART;TZID=America/Chicago:20250806T180000
DTEND;TZID=America/Chicago:20250806T190000
DTSTAMP:20260423T214026
CREATED:20250103T204907Z
LAST-MODIFIED:20250402T163756Z
UID:990000814-1754503200-1754506800@nolensvillefbc.com
SUMMARY:Wednesday Bible Study
DESCRIPTION:Join us for Wednesday Night Bible Study\nWednesday nights are a great mid-week Church service. Each week there is a brief time of prayer followed by a Bible Study led by Dr. Farmer.
URL:https://nolensvillefbc.com/event/wednesday-bible-study/2025-08-06/
LOCATION:Nolensville First Baptist Church\, 9624 Clovercroft Road\, Nolensville\, TN\, 37135\, United States
CATEGORIES:Worship
ORGANIZER;CN="Nolensville First Baptist Church":MAILTO:info@nolensvillefbc.com
END:VEVENT
BEGIN:VEVENT
DTSTART;TZID=America/Chicago:20250803T104500
DTEND;TZID=America/Chicago:20250803T114500
DTSTAMP:20260423T214026
CREATED:20250103T203523Z
LAST-MODIFIED:20250103T204947Z
UID:990000031-1754217900-1754221500@nolensvillefbc.com
SUMMARY:Sunday Worship Service
DESCRIPTION:Join Nolensville First Baptist Church for our weekly Sunday worship service. \nLearn about what to expect\, and read through our frequently asked questions on our Visit page.
URL:https://nolensvillefbc.com/event/sunday-worship-service/2025-08-03/
LOCATION:Nolensville First Baptist Church\, 9624 Clovercroft Road\, Nolensville\, TN\, 37135\, United States
CATEGORIES:Worship
ORGANIZER;CN="Nolensville First Baptist Church":MAILTO:info@nolensvillefbc.com
END:VEVENT
BEGIN:VEVENT
DTSTART;TZID=America/Chicago:20250730T180000
DTEND;TZID=America/Chicago:20250730T190000
DTSTAMP:20260423T214026
CREATED:20250103T204907Z
LAST-MODIFIED:20250402T163756Z
UID:990000813-1753898400-1753902000@nolensvillefbc.com
SUMMARY:Wednesday Bible Study
DESCRIPTION:Join us for Wednesday Night Bible Study\nWednesday nights are a great mid-week Church service. Each week there is a brief time of prayer followed by a Bible Study led by Dr. Farmer.
URL:https://nolensvillefbc.com/event/wednesday-bible-study/2025-07-30/
LOCATION:Nolensville First Baptist Church\, 9624 Clovercroft Road\, Nolensville\, TN\, 37135\, United States
CATEGORIES:Worship
ORGANIZER;CN="Nolensville First Baptist Church":MAILTO:info@nolensvillefbc.com
END:VEVENT
BEGIN:VEVENT
DTSTART;TZID=America/Chicago:20250727T104500
DTEND;TZID=America/Chicago:20250727T114500
DTSTAMP:20260423T214026
CREATED:20250103T203523Z
LAST-MODIFIED:20250103T204947Z
UID:990000030-1753613100-1753616700@nolensvillefbc.com
SUMMARY:Sunday Worship Service
DESCRIPTION:Join Nolensville First Baptist Church for our weekly Sunday worship service. \nLearn about what to expect\, and read through our frequently asked questions on our Visit page.
URL:https://nolensvillefbc.com/event/sunday-worship-service/2025-07-27/
LOCATION:Nolensville First Baptist Church\, 9624 Clovercroft Road\, Nolensville\, TN\, 37135\, United States
CATEGORIES:Worship
ORGANIZER;CN="Nolensville First Baptist Church":MAILTO:info@nolensvillefbc.com
END:VEVENT
BEGIN:VEVENT
DTSTART;TZID=America/Chicago:20250723T180000
DTEND;TZID=America/Chicago:20250723T190000
DTSTAMP:20260423T214026
CREATED:20250103T204907Z
LAST-MODIFIED:20250402T163756Z
UID:990000812-1753293600-1753297200@nolensvillefbc.com
SUMMARY:Wednesday Bible Study
DESCRIPTION:Join us for Wednesday Night Bible Study\nWednesday nights are a great mid-week Church service. Each week there is a brief time of prayer followed by a Bible Study led by Dr. Farmer.
URL:https://nolensvillefbc.com/event/wednesday-bible-study/2025-07-23/
LOCATION:Nolensville First Baptist Church\, 9624 Clovercroft Road\, Nolensville\, TN\, 37135\, United States
CATEGORIES:Worship
ORGANIZER;CN="Nolensville First Baptist Church":MAILTO:info@nolensvillefbc.com
END:VEVENT
BEGIN:VEVENT
DTSTART;TZID=America/Chicago:20250720T104500
DTEND;TZID=America/Chicago:20250720T114500
DTSTAMP:20260423T214026
CREATED:20250103T203523Z
LAST-MODIFIED:20250103T204947Z
UID:990000029-1753008300-1753011900@nolensvillefbc.com
SUMMARY:Sunday Worship Service
DESCRIPTION:Join Nolensville First Baptist Church for our weekly Sunday worship service. \nLearn about what to expect\, and read through our frequently asked questions on our Visit page.
URL:https://nolensvillefbc.com/event/sunday-worship-service/2025-07-20/
LOCATION:Nolensville First Baptist Church\, 9624 Clovercroft Road\, Nolensville\, TN\, 37135\, United States
CATEGORIES:Worship
ORGANIZER;CN="Nolensville First Baptist Church":MAILTO:info@nolensvillefbc.com
END:VEVENT
BEGIN:VEVENT
DTSTART;TZID=America/Chicago:20250716T180000
DTEND;TZID=America/Chicago:20250716T190000
DTSTAMP:20260423T214026
CREATED:20250103T204907Z
LAST-MODIFIED:20250402T163756Z
UID:990000811-1752688800-1752692400@nolensvillefbc.com
SUMMARY:Wednesday Bible Study
DESCRIPTION:Join us for Wednesday Night Bible Study\nWednesday nights are a great mid-week Church service. Each week there is a brief time of prayer followed by a Bible Study led by Dr. Farmer.
URL:https://nolensvillefbc.com/event/wednesday-bible-study/2025-07-16/
LOCATION:Nolensville First Baptist Church\, 9624 Clovercroft Road\, Nolensville\, TN\, 37135\, United States
CATEGORIES:Worship
ORGANIZER;CN="Nolensville First Baptist Church":MAILTO:info@nolensvillefbc.com
END:VEVENT
BEGIN:VEVENT
DTSTART;TZID=America/Chicago:20250713T104500
DTEND;TZID=America/Chicago:20250713T114500
DTSTAMP:20260423T214026
CREATED:20250103T203523Z
LAST-MODIFIED:20250103T204947Z
UID:990000028-1752403500-1752407100@nolensvillefbc.com
SUMMARY:Sunday Worship Service
DESCRIPTION:Join Nolensville First Baptist Church for our weekly Sunday worship service. \nLearn about what to expect\, and read through our frequently asked questions on our Visit page.
URL:https://nolensvillefbc.com/event/sunday-worship-service/2025-07-13/
LOCATION:Nolensville First Baptist Church\, 9624 Clovercroft Road\, Nolensville\, TN\, 37135\, United States
CATEGORIES:Worship
ORGANIZER;CN="Nolensville First Baptist Church":MAILTO:info@nolensvillefbc.com
END:VEVENT
BEGIN:VEVENT
DTSTART;TZID=America/Chicago:20250709T180000
DTEND;TZID=America/Chicago:20250709T190000
DTSTAMP:20260423T214026
CREATED:20250103T204907Z
LAST-MODIFIED:20250402T163756Z
UID:990000810-1752084000-1752087600@nolensvillefbc.com
SUMMARY:Wednesday Bible Study
DESCRIPTION:Join us for Wednesday Night Bible Study\nWednesday nights are a great mid-week Church service. Each week there is a brief time of prayer followed by a Bible Study led by Dr. Farmer.
URL:https://nolensvillefbc.com/event/wednesday-bible-study/2025-07-09/
LOCATION:Nolensville First Baptist Church\, 9624 Clovercroft Road\, Nolensville\, TN\, 37135\, United States
CATEGORIES:Worship
ORGANIZER;CN="Nolensville First Baptist Church":MAILTO:info@nolensvillefbc.com
END:VEVENT
BEGIN:VEVENT
DTSTART;TZID=America/Chicago:20250706T104500
DTEND;TZID=America/Chicago:20250706T114500
DTSTAMP:20260423T214026
CREATED:20250103T203523Z
LAST-MODIFIED:20250103T204947Z
UID:990000027-1751798700-1751802300@nolensvillefbc.com
SUMMARY:Sunday Worship Service
DESCRIPTION:Join Nolensville First Baptist Church for our weekly Sunday worship service. \nLearn about what to expect\, and read through our frequently asked questions on our Visit page.
URL:https://nolensvillefbc.com/event/sunday-worship-service/2025-07-06/
LOCATION:Nolensville First Baptist Church\, 9624 Clovercroft Road\, Nolensville\, TN\, 37135\, United States
CATEGORIES:Worship
ORGANIZER;CN="Nolensville First Baptist Church":MAILTO:info@nolensvillefbc.com
END:VEVENT
BEGIN:VEVENT
DTSTART;TZID=America/Chicago:20250702T180000
DTEND;TZID=America/Chicago:20250702T190000
DTSTAMP:20260423T214026
CREATED:20250103T204907Z
LAST-MODIFIED:20250402T163756Z
UID:990000809-1751479200-1751482800@nolensvillefbc.com
SUMMARY:Wednesday Bible Study
DESCRIPTION:Join us for Wednesday Night Bible Study\nWednesday nights are a great mid-week Church service. Each week there is a brief time of prayer followed by a Bible Study led by Dr. Farmer.
URL:https://nolensvillefbc.com/event/wednesday-bible-study/2025-07-02/
LOCATION:Nolensville First Baptist Church\, 9624 Clovercroft Road\, Nolensville\, TN\, 37135\, United States
CATEGORIES:Worship
ORGANIZER;CN="Nolensville First Baptist Church":MAILTO:info@nolensvillefbc.com
END:VEVENT
BEGIN:VEVENT
DTSTART;TZID=America/Chicago:20250629T104500
DTEND;TZID=America/Chicago:20250629T114500
DTSTAMP:20260423T214026
CREATED:20250522T164315Z
LAST-MODIFIED:20250522T164416Z
UID:990001423-1751193900-1751197500@nolensvillefbc.com
SUMMARY:Lord's Supper
DESCRIPTION:At the conclusion of the regular Sunday Worship service\, we will be observing the Lord’s Supper.
URL:https://nolensvillefbc.com/event/lords-supper/2025-06-29/
LOCATION:Nolensville First Baptist Church\, 9624 Clovercroft Road\, Nolensville\, TN\, 37135\, United States
CATEGORIES:Worship
ATTACH;FMTTYPE=image/jpeg:https://nolensvillefbc.com/wp-content/uploads/2025/05/Communion.jpg
ORGANIZER;CN="Nolensville First Baptist Church":MAILTO:info@nolensvillefbc.com
END:VEVENT
BEGIN:VEVENT
DTSTART;TZID=America/Chicago:20250629T104500
DTEND;TZID=America/Chicago:20250629T114500
DTSTAMP:20260423T214026
CREATED:20250103T203523Z
LAST-MODIFIED:20250103T204947Z
UID:990000026-1751193900-1751197500@nolensvillefbc.com
SUMMARY:Sunday Worship Service
DESCRIPTION:Join Nolensville First Baptist Church for our weekly Sunday worship service. \nLearn about what to expect\, and read through our frequently asked questions on our Visit page.
URL:https://nolensvillefbc.com/event/sunday-worship-service/2025-06-29/
LOCATION:Nolensville First Baptist Church\, 9624 Clovercroft Road\, Nolensville\, TN\, 37135\, United States
CATEGORIES:Worship
ORGANIZER;CN="Nolensville First Baptist Church":MAILTO:info@nolensvillefbc.com
END:VEVENT
BEGIN:VEVENT
DTSTART;TZID=America/Chicago:20250625T180000
DTEND;TZID=America/Chicago:20250625T190000
DTSTAMP:20260423T214026
CREATED:20250103T204907Z
LAST-MODIFIED:20250402T163756Z
UID:990000808-1750874400-1750878000@nolensvillefbc.com
SUMMARY:Wednesday Bible Study
DESCRIPTION:Join us for Wednesday Night Bible Study\nWednesday nights are a great mid-week Church service. Each week there is a brief time of prayer followed by a Bible Study led by Dr. Farmer.
URL:https://nolensvillefbc.com/event/wednesday-bible-study/2025-06-25/
LOCATION:Nolensville First Baptist Church\, 9624 Clovercroft Road\, Nolensville\, TN\, 37135\, United States
CATEGORIES:Worship
ORGANIZER;CN="Nolensville First Baptist Church":MAILTO:info@nolensvillefbc.com
END:VEVENT
BEGIN:VEVENT
DTSTART;TZID=America/Chicago:20250622T104500
DTEND;TZID=America/Chicago:20250622T114500
DTSTAMP:20260423T214026
CREATED:20250103T203523Z
LAST-MODIFIED:20250103T204947Z
UID:990000025-1750589100-1750592700@nolensvillefbc.com
SUMMARY:Sunday Worship Service
DESCRIPTION:Join Nolensville First Baptist Church for our weekly Sunday worship service. \nLearn about what to expect\, and read through our frequently asked questions on our Visit page.
URL:https://nolensvillefbc.com/event/sunday-worship-service/2025-06-22/
LOCATION:Nolensville First Baptist Church\, 9624 Clovercroft Road\, Nolensville\, TN\, 37135\, United States
CATEGORIES:Worship
ORGANIZER;CN="Nolensville First Baptist Church":MAILTO:info@nolensvillefbc.com
END:VEVENT
BEGIN:VEVENT
DTSTART;TZID=America/Chicago:20250618T180000
DTEND;TZID=America/Chicago:20250618T190000
DTSTAMP:20260423T214026
CREATED:20250103T204907Z
LAST-MODIFIED:20250402T163756Z
UID:990000807-1750269600-1750273200@nolensvillefbc.com
SUMMARY:Wednesday Bible Study
DESCRIPTION:Join us for Wednesday Night Bible Study\nWednesday nights are a great mid-week Church service. Each week there is a brief time of prayer followed by a Bible Study led by Dr. Farmer.
URL:https://nolensvillefbc.com/event/wednesday-bible-study/2025-06-18/
LOCATION:Nolensville First Baptist Church\, 9624 Clovercroft Road\, Nolensville\, TN\, 37135\, United States
CATEGORIES:Worship
ORGANIZER;CN="Nolensville First Baptist Church":MAILTO:info@nolensvillefbc.com
END:VEVENT
BEGIN:VEVENT
DTSTART;TZID=America/Chicago:20250615T104500
DTEND;TZID=America/Chicago:20250615T114500
DTSTAMP:20260423T214026
CREATED:20250103T203523Z
LAST-MODIFIED:20250103T204947Z
UID:990000024-1749984300-1749987900@nolensvillefbc.com
SUMMARY:Sunday Worship Service
DESCRIPTION:Join Nolensville First Baptist Church for our weekly Sunday worship service. \nLearn about what to expect\, and read through our frequently asked questions on our Visit page.
URL:https://nolensvillefbc.com/event/sunday-worship-service/2025-06-15/
LOCATION:Nolensville First Baptist Church\, 9624 Clovercroft Road\, Nolensville\, TN\, 37135\, United States
CATEGORIES:Worship
ORGANIZER;CN="Nolensville First Baptist Church":MAILTO:info@nolensvillefbc.com
END:VEVENT
BEGIN:VEVENT
DTSTART;TZID=America/Chicago:20250611T180000
DTEND;TZID=America/Chicago:20250611T190000
DTSTAMP:20260423T214026
CREATED:20250103T204907Z
LAST-MODIFIED:20250402T163756Z
UID:990000806-1749664800-1749668400@nolensvillefbc.com
SUMMARY:Wednesday Bible Study
DESCRIPTION:Join us for Wednesday Night Bible Study\nWednesday nights are a great mid-week Church service. Each week there is a brief time of prayer followed by a Bible Study led by Dr. Farmer.
URL:https://nolensvillefbc.com/event/wednesday-bible-study/2025-06-11/
LOCATION:Nolensville First Baptist Church\, 9624 Clovercroft Road\, Nolensville\, TN\, 37135\, United States
CATEGORIES:Worship
ORGANIZER;CN="Nolensville First Baptist Church":MAILTO:info@nolensvillefbc.com
END:VEVENT
BEGIN:VEVENT
DTSTART;TZID=America/Chicago:20250608T104500
DTEND;TZID=America/Chicago:20250608T114500
DTSTAMP:20260423T214026
CREATED:20250103T203523Z
LAST-MODIFIED:20250103T204947Z
UID:990000023-1749379500-1749383100@nolensvillefbc.com
SUMMARY:Sunday Worship Service
DESCRIPTION:Join Nolensville First Baptist Church for our weekly Sunday worship service. \nLearn about what to expect\, and read through our frequently asked questions on our Visit page.
URL:https://nolensvillefbc.com/event/sunday-worship-service/2025-06-08/
LOCATION:Nolensville First Baptist Church\, 9624 Clovercroft Road\, Nolensville\, TN\, 37135\, United States
CATEGORIES:Worship
ORGANIZER;CN="Nolensville First Baptist Church":MAILTO:info@nolensvillefbc.com
END:VEVENT
BEGIN:VEVENT
DTSTART;TZID=America/Chicago:20250604T180000
DTEND;TZID=America/Chicago:20250604T190000
DTSTAMP:20260423T214026
CREATED:20250103T204907Z
LAST-MODIFIED:20250402T163756Z
UID:990000805-1749060000-1749063600@nolensvillefbc.com
SUMMARY:Wednesday Bible Study
DESCRIPTION:Join us for Wednesday Night Bible Study\nWednesday nights are a great mid-week Church service. Each week there is a brief time of prayer followed by a Bible Study led by Dr. Farmer.
URL:https://nolensvillefbc.com/event/wednesday-bible-study/2025-06-04/
LOCATION:Nolensville First Baptist Church\, 9624 Clovercroft Road\, Nolensville\, TN\, 37135\, United States
CATEGORIES:Worship
ORGANIZER;CN="Nolensville First Baptist Church":MAILTO:info@nolensvillefbc.com
END:VEVENT
BEGIN:VEVENT
DTSTART;TZID=America/Chicago:20250601T104500
DTEND;TZID=America/Chicago:20250601T114500
DTSTAMP:20260423T214026
CREATED:20250103T203523Z
LAST-MODIFIED:20250103T204947Z
UID:990000022-1748774700-1748778300@nolensvillefbc.com
SUMMARY:Sunday Worship Service
DESCRIPTION:Join Nolensville First Baptist Church for our weekly Sunday worship service. \nLearn about what to expect\, and read through our frequently asked questions on our Visit page.
URL:https://nolensvillefbc.com/event/sunday-worship-service/2025-06-01/
LOCATION:Nolensville First Baptist Church\, 9624 Clovercroft Road\, Nolensville\, TN\, 37135\, United States
CATEGORIES:Worship
ORGANIZER;CN="Nolensville First Baptist Church":MAILTO:info@nolensvillefbc.com
END:VEVENT
BEGIN:VEVENT
DTSTART;TZID=America/Chicago:20250528T180000
DTEND;TZID=America/Chicago:20250528T190000
DTSTAMP:20260423T214026
CREATED:20250103T204907Z
LAST-MODIFIED:20250402T163756Z
UID:990000804-1748455200-1748458800@nolensvillefbc.com
SUMMARY:Wednesday Bible Study
DESCRIPTION:Join us for Wednesday Night Bible Study\nWednesday nights are a great mid-week Church service. Each week there is a brief time of prayer followed by a Bible Study led by Dr. Farmer.
URL:https://nolensvillefbc.com/event/wednesday-bible-study/2025-05-28/
LOCATION:Nolensville First Baptist Church\, 9624 Clovercroft Road\, Nolensville\, TN\, 37135\, United States
CATEGORIES:Worship
ORGANIZER;CN="Nolensville First Baptist Church":MAILTO:info@nolensvillefbc.com
END:VEVENT
BEGIN:VEVENT
DTSTART;TZID=America/Chicago:20250525T104500
DTEND;TZID=America/Chicago:20250525T114500
DTSTAMP:20260423T214026
CREATED:20250103T203523Z
LAST-MODIFIED:20250103T204947Z
UID:990000021-1748169900-1748173500@nolensvillefbc.com
SUMMARY:Sunday Worship Service
DESCRIPTION:Join Nolensville First Baptist Church for our weekly Sunday worship service. \nLearn about what to expect\, and read through our frequently asked questions on our Visit page.
URL:https://nolensvillefbc.com/event/sunday-worship-service/2025-05-25/
LOCATION:Nolensville First Baptist Church\, 9624 Clovercroft Road\, Nolensville\, TN\, 37135\, United States
CATEGORIES:Worship
ORGANIZER;CN="Nolensville First Baptist Church":MAILTO:info@nolensvillefbc.com
END:VEVENT
BEGIN:VEVENT
DTSTART;TZID=America/Chicago:20250521T180000
DTEND;TZID=America/Chicago:20250521T190000
DTSTAMP:20260423T214026
CREATED:20250103T204907Z
LAST-MODIFIED:20250402T163756Z
UID:990000803-1747850400-1747854000@nolensvillefbc.com
SUMMARY:Wednesday Bible Study
DESCRIPTION:Join us for Wednesday Night Bible Study\nWednesday nights are a great mid-week Church service. Each week there is a brief time of prayer followed by a Bible Study led by Dr. Farmer.
URL:https://nolensvillefbc.com/event/wednesday-bible-study/2025-05-21/
LOCATION:Nolensville First Baptist Church\, 9624 Clovercroft Road\, Nolensville\, TN\, 37135\, United States
CATEGORIES:Worship
ORGANIZER;CN="Nolensville First Baptist Church":MAILTO:info@nolensvillefbc.com
END:VEVENT
END:VCALENDAR