BEGIN:VCALENDAR
VERSION:2.0
PRODID:-//Nolensville First Baptist Church - ECPv6.15.20//NONSGML v1.0//EN
CALSCALE:GREGORIAN
METHOD:PUBLISH
X-ORIGINAL-URL:https://nolensvillefbc.com
X-WR-CALDESC:Events for Nolensville First Baptist Church
REFRESH-INTERVAL;VALUE=DURATION:PT1H
X-Robots-Tag:noindex
X-PUBLISHED-TTL:PT1H
BEGIN:VTIMEZONE
TZID:America/Chicago
BEGIN:DAYLIGHT
TZOFFSETFROM:-0600
TZOFFSETTO:-0500
TZNAME:CDT
DTSTART:20260308T080000
END:DAYLIGHT
BEGIN:STANDARD
TZOFFSETFROM:-0500
TZOFFSETTO:-0600
TZNAME:CST
DTSTART:20261101T070000
END:STANDARD
BEGIN:DAYLIGHT
TZOFFSETFROM:-0600
TZOFFSETTO:-0500
TZNAME:CDT
DTSTART:20270314T080000
END:DAYLIGHT
BEGIN:STANDARD
TZOFFSETFROM:-0500
TZOFFSETTO:-0600
TZNAME:CST
DTSTART:20271107T070000
END:STANDARD
BEGIN:DAYLIGHT
TZOFFSETFROM:-0600
TZOFFSETTO:-0500
TZNAME:CDT
DTSTART:20280312T080000
END:DAYLIGHT
BEGIN:STANDARD
TZOFFSETFROM:-0500
TZOFFSETTO:-0600
TZNAME:CST
DTSTART:20281105T070000
END:STANDARD
END:VTIMEZONE
BEGIN:VEVENT
DTSTART;TZID=America/Chicago:20270131T104500
DTEND;TZID=America/Chicago:20270131T114500
DTSTAMP:20260423T172603
CREATED:20250522T164315Z
LAST-MODIFIED:20250522T164416Z
UID:990001430-1801392300-1801395900@nolensvillefbc.com
SUMMARY:Lord's Supper
DESCRIPTION:At the conclusion of the regular Sunday Worship service\, we will be observing the Lord’s Supper.
URL:https://nolensvillefbc.com/event/lords-supper/2027-01-31/
LOCATION:Nolensville First Baptist Church\, 9624 Clovercroft Road\, Nolensville\, TN\, 37135\, United States
CATEGORIES:Worship
ATTACH;FMTTYPE=image/jpeg:https://nolensvillefbc.com/wp-content/uploads/2025/05/Communion.jpg
ORGANIZER;CN="Nolensville First Baptist Church":MAILTO:info@nolensvillefbc.com
END:VEVENT
BEGIN:VEVENT
DTSTART;TZID=America/Chicago:20270203T180000
DTEND;TZID=America/Chicago:20270203T190000
DTSTAMP:20260423T172603
CREATED:20250103T204907Z
LAST-MODIFIED:20250402T163756Z
UID:990000892-1801677600-1801681200@nolensvillefbc.com
SUMMARY:Wednesday Bible Study
DESCRIPTION:Join us for Wednesday Night Bible Study\nWednesday nights are a great mid-week Church service. Each week there is a brief time of prayer followed by a Bible Study led by Dr. Farmer.
URL:https://nolensvillefbc.com/event/wednesday-bible-study/2027-02-03/
LOCATION:Nolensville First Baptist Church\, 9624 Clovercroft Road\, Nolensville\, TN\, 37135\, United States
CATEGORIES:Worship
ORGANIZER;CN="Nolensville First Baptist Church":MAILTO:info@nolensvillefbc.com
END:VEVENT
BEGIN:VEVENT
DTSTART;TZID=America/Chicago:20270207T104500
DTEND;TZID=America/Chicago:20270207T114500
DTSTAMP:20260423T172603
CREATED:20250103T203523Z
LAST-MODIFIED:20250103T204947Z
UID:990000110-1801997100-1802000700@nolensvillefbc.com
SUMMARY:Sunday Worship Service
DESCRIPTION:Join Nolensville First Baptist Church for our weekly Sunday worship service. \nLearn about what to expect\, and read through our frequently asked questions on our Visit page.
URL:https://nolensvillefbc.com/event/sunday-worship-service/2027-02-07/
LOCATION:Nolensville First Baptist Church\, 9624 Clovercroft Road\, Nolensville\, TN\, 37135\, United States
CATEGORIES:Worship
ORGANIZER;CN="Nolensville First Baptist Church":MAILTO:info@nolensvillefbc.com
END:VEVENT
BEGIN:VEVENT
DTSTART;TZID=America/Chicago:20270210T180000
DTEND;TZID=America/Chicago:20270210T190000
DTSTAMP:20260423T172603
CREATED:20250103T204907Z
LAST-MODIFIED:20250402T163756Z
UID:990000893-1802282400-1802286000@nolensvillefbc.com
SUMMARY:Wednesday Bible Study
DESCRIPTION:Join us for Wednesday Night Bible Study\nWednesday nights are a great mid-week Church service. Each week there is a brief time of prayer followed by a Bible Study led by Dr. Farmer.
URL:https://nolensvillefbc.com/event/wednesday-bible-study/2027-02-10/
LOCATION:Nolensville First Baptist Church\, 9624 Clovercroft Road\, Nolensville\, TN\, 37135\, United States
CATEGORIES:Worship
ORGANIZER;CN="Nolensville First Baptist Church":MAILTO:info@nolensvillefbc.com
END:VEVENT
BEGIN:VEVENT
DTSTART;TZID=America/Chicago:20270214T104500
DTEND;TZID=America/Chicago:20270214T114500
DTSTAMP:20260423T172603
CREATED:20250103T203523Z
LAST-MODIFIED:20250103T204947Z
UID:990000111-1802601900-1802605500@nolensvillefbc.com
SUMMARY:Sunday Worship Service
DESCRIPTION:Join Nolensville First Baptist Church for our weekly Sunday worship service. \nLearn about what to expect\, and read through our frequently asked questions on our Visit page.
URL:https://nolensvillefbc.com/event/sunday-worship-service/2027-02-14/
LOCATION:Nolensville First Baptist Church\, 9624 Clovercroft Road\, Nolensville\, TN\, 37135\, United States
CATEGORIES:Worship
ORGANIZER;CN="Nolensville First Baptist Church":MAILTO:info@nolensvillefbc.com
END:VEVENT
BEGIN:VEVENT
DTSTART;TZID=America/Chicago:20270217T180000
DTEND;TZID=America/Chicago:20270217T190000
DTSTAMP:20260423T172603
CREATED:20250103T204907Z
LAST-MODIFIED:20250402T163756Z
UID:990000894-1802887200-1802890800@nolensvillefbc.com
SUMMARY:Wednesday Bible Study
DESCRIPTION:Join us for Wednesday Night Bible Study\nWednesday nights are a great mid-week Church service. Each week there is a brief time of prayer followed by a Bible Study led by Dr. Farmer.
URL:https://nolensvillefbc.com/event/wednesday-bible-study/2027-02-17/
LOCATION:Nolensville First Baptist Church\, 9624 Clovercroft Road\, Nolensville\, TN\, 37135\, United States
CATEGORIES:Worship
ORGANIZER;CN="Nolensville First Baptist Church":MAILTO:info@nolensvillefbc.com
END:VEVENT
BEGIN:VEVENT
DTSTART;TZID=America/Chicago:20270221T104500
DTEND;TZID=America/Chicago:20270221T114500
DTSTAMP:20260423T172603
CREATED:20250103T203523Z
LAST-MODIFIED:20250103T204947Z
UID:990000112-1803206700-1803210300@nolensvillefbc.com
SUMMARY:Sunday Worship Service
DESCRIPTION:Join Nolensville First Baptist Church for our weekly Sunday worship service. \nLearn about what to expect\, and read through our frequently asked questions on our Visit page.
URL:https://nolensvillefbc.com/event/sunday-worship-service/2027-02-21/
LOCATION:Nolensville First Baptist Church\, 9624 Clovercroft Road\, Nolensville\, TN\, 37135\, United States
CATEGORIES:Worship
ORGANIZER;CN="Nolensville First Baptist Church":MAILTO:info@nolensvillefbc.com
END:VEVENT
BEGIN:VEVENT
DTSTART;TZID=America/Chicago:20270224T180000
DTEND;TZID=America/Chicago:20270224T190000
DTSTAMP:20260423T172603
CREATED:20250103T204907Z
LAST-MODIFIED:20250402T163756Z
UID:990000895-1803492000-1803495600@nolensvillefbc.com
SUMMARY:Wednesday Bible Study
DESCRIPTION:Join us for Wednesday Night Bible Study\nWednesday nights are a great mid-week Church service. Each week there is a brief time of prayer followed by a Bible Study led by Dr. Farmer.
URL:https://nolensvillefbc.com/event/wednesday-bible-study/2027-02-24/
LOCATION:Nolensville First Baptist Church\, 9624 Clovercroft Road\, Nolensville\, TN\, 37135\, United States
CATEGORIES:Worship
ORGANIZER;CN="Nolensville First Baptist Church":MAILTO:info@nolensvillefbc.com
END:VEVENT
BEGIN:VEVENT
DTSTART;TZID=America/Chicago:20270228T104500
DTEND;TZID=America/Chicago:20270228T114500
DTSTAMP:20260423T172603
CREATED:20250103T203523Z
LAST-MODIFIED:20250103T204947Z
UID:990000113-1803811500-1803815100@nolensvillefbc.com
SUMMARY:Sunday Worship Service
DESCRIPTION:Join Nolensville First Baptist Church for our weekly Sunday worship service. \nLearn about what to expect\, and read through our frequently asked questions on our Visit page.
URL:https://nolensvillefbc.com/event/sunday-worship-service/2027-02-28/
LOCATION:Nolensville First Baptist Church\, 9624 Clovercroft Road\, Nolensville\, TN\, 37135\, United States
CATEGORIES:Worship
ORGANIZER;CN="Nolensville First Baptist Church":MAILTO:info@nolensvillefbc.com
END:VEVENT
BEGIN:VEVENT
DTSTART;TZID=America/Chicago:20270303T180000
DTEND;TZID=America/Chicago:20270303T190000
DTSTAMP:20260423T172603
CREATED:20250103T204907Z
LAST-MODIFIED:20250402T163756Z
UID:990000896-1804096800-1804100400@nolensvillefbc.com
SUMMARY:Wednesday Bible Study
DESCRIPTION:Join us for Wednesday Night Bible Study\nWednesday nights are a great mid-week Church service. Each week there is a brief time of prayer followed by a Bible Study led by Dr. Farmer.
URL:https://nolensvillefbc.com/event/wednesday-bible-study/2027-03-03/
LOCATION:Nolensville First Baptist Church\, 9624 Clovercroft Road\, Nolensville\, TN\, 37135\, United States
CATEGORIES:Worship
ORGANIZER;CN="Nolensville First Baptist Church":MAILTO:info@nolensvillefbc.com
END:VEVENT
BEGIN:VEVENT
DTSTART;TZID=America/Chicago:20270307T104500
DTEND;TZID=America/Chicago:20270307T114500
DTSTAMP:20260423T172603
CREATED:20250103T203523Z
LAST-MODIFIED:20250103T204947Z
UID:990000114-1804416300-1804419900@nolensvillefbc.com
SUMMARY:Sunday Worship Service
DESCRIPTION:Join Nolensville First Baptist Church for our weekly Sunday worship service. \nLearn about what to expect\, and read through our frequently asked questions on our Visit page.
URL:https://nolensvillefbc.com/event/sunday-worship-service/2027-03-07/
LOCATION:Nolensville First Baptist Church\, 9624 Clovercroft Road\, Nolensville\, TN\, 37135\, United States
CATEGORIES:Worship
ORGANIZER;CN="Nolensville First Baptist Church":MAILTO:info@nolensvillefbc.com
END:VEVENT
BEGIN:VEVENT
DTSTART;TZID=America/Chicago:20270310T180000
DTEND;TZID=America/Chicago:20270310T190000
DTSTAMP:20260423T172603
CREATED:20250103T204907Z
LAST-MODIFIED:20250402T163756Z
UID:990000897-1804701600-1804705200@nolensvillefbc.com
SUMMARY:Wednesday Bible Study
DESCRIPTION:Join us for Wednesday Night Bible Study\nWednesday nights are a great mid-week Church service. Each week there is a brief time of prayer followed by a Bible Study led by Dr. Farmer.
URL:https://nolensvillefbc.com/event/wednesday-bible-study/2027-03-10/
LOCATION:Nolensville First Baptist Church\, 9624 Clovercroft Road\, Nolensville\, TN\, 37135\, United States
CATEGORIES:Worship
ORGANIZER;CN="Nolensville First Baptist Church":MAILTO:info@nolensvillefbc.com
END:VEVENT
BEGIN:VEVENT
DTSTART;TZID=America/Chicago:20270314T104500
DTEND;TZID=America/Chicago:20270314T114500
DTSTAMP:20260423T172603
CREATED:20250103T203523Z
LAST-MODIFIED:20250103T204947Z
UID:990000115-1805021100-1805024700@nolensvillefbc.com
SUMMARY:Sunday Worship Service
DESCRIPTION:Join Nolensville First Baptist Church for our weekly Sunday worship service. \nLearn about what to expect\, and read through our frequently asked questions on our Visit page.
URL:https://nolensvillefbc.com/event/sunday-worship-service/2027-03-14/
LOCATION:Nolensville First Baptist Church\, 9624 Clovercroft Road\, Nolensville\, TN\, 37135\, United States
CATEGORIES:Worship
ORGANIZER;CN="Nolensville First Baptist Church":MAILTO:info@nolensvillefbc.com
END:VEVENT
BEGIN:VEVENT
DTSTART;TZID=America/Chicago:20270317T180000
DTEND;TZID=America/Chicago:20270317T190000
DTSTAMP:20260423T172603
CREATED:20250103T204907Z
LAST-MODIFIED:20250402T163756Z
UID:990000898-1805306400-1805310000@nolensvillefbc.com
SUMMARY:Wednesday Bible Study
DESCRIPTION:Join us for Wednesday Night Bible Study\nWednesday nights are a great mid-week Church service. Each week there is a brief time of prayer followed by a Bible Study led by Dr. Farmer.
URL:https://nolensvillefbc.com/event/wednesday-bible-study/2027-03-17/
LOCATION:Nolensville First Baptist Church\, 9624 Clovercroft Road\, Nolensville\, TN\, 37135\, United States
CATEGORIES:Worship
ORGANIZER;CN="Nolensville First Baptist Church":MAILTO:info@nolensvillefbc.com
END:VEVENT
BEGIN:VEVENT
DTSTART;TZID=America/Chicago:20270321T104500
DTEND;TZID=America/Chicago:20270321T114500
DTSTAMP:20260423T172603
CREATED:20250103T203523Z
LAST-MODIFIED:20250103T204947Z
UID:990000116-1805625900-1805629500@nolensvillefbc.com
SUMMARY:Sunday Worship Service
DESCRIPTION:Join Nolensville First Baptist Church for our weekly Sunday worship service. \nLearn about what to expect\, and read through our frequently asked questions on our Visit page.
URL:https://nolensvillefbc.com/event/sunday-worship-service/2027-03-21/
LOCATION:Nolensville First Baptist Church\, 9624 Clovercroft Road\, Nolensville\, TN\, 37135\, United States
CATEGORIES:Worship
ORGANIZER;CN="Nolensville First Baptist Church":MAILTO:info@nolensvillefbc.com
END:VEVENT
BEGIN:VEVENT
DTSTART;TZID=America/Chicago:20270324T180000
DTEND;TZID=America/Chicago:20270324T190000
DTSTAMP:20260423T172603
CREATED:20250103T204907Z
LAST-MODIFIED:20250402T163756Z
UID:990000899-1805911200-1805914800@nolensvillefbc.com
SUMMARY:Wednesday Bible Study
DESCRIPTION:Join us for Wednesday Night Bible Study\nWednesday nights are a great mid-week Church service. Each week there is a brief time of prayer followed by a Bible Study led by Dr. Farmer.
URL:https://nolensvillefbc.com/event/wednesday-bible-study/2027-03-24/
LOCATION:Nolensville First Baptist Church\, 9624 Clovercroft Road\, Nolensville\, TN\, 37135\, United States
CATEGORIES:Worship
ORGANIZER;CN="Nolensville First Baptist Church":MAILTO:info@nolensvillefbc.com
END:VEVENT
BEGIN:VEVENT
DTSTART;TZID=America/Chicago:20270328T104500
DTEND;TZID=America/Chicago:20270328T114500
DTSTAMP:20260423T172603
CREATED:20250103T203523Z
LAST-MODIFIED:20250103T204947Z
UID:990000117-1806230700-1806234300@nolensvillefbc.com
SUMMARY:Sunday Worship Service
DESCRIPTION:Join Nolensville First Baptist Church for our weekly Sunday worship service. \nLearn about what to expect\, and read through our frequently asked questions on our Visit page.
URL:https://nolensvillefbc.com/event/sunday-worship-service/2027-03-28/
LOCATION:Nolensville First Baptist Church\, 9624 Clovercroft Road\, Nolensville\, TN\, 37135\, United States
CATEGORIES:Worship
ORGANIZER;CN="Nolensville First Baptist Church":MAILTO:info@nolensvillefbc.com
END:VEVENT
BEGIN:VEVENT
DTSTART;TZID=America/Chicago:20270331T180000
DTEND;TZID=America/Chicago:20270331T190000
DTSTAMP:20260423T172603
CREATED:20250103T204907Z
LAST-MODIFIED:20250402T163756Z
UID:990000900-1806516000-1806519600@nolensvillefbc.com
SUMMARY:Wednesday Bible Study
DESCRIPTION:Join us for Wednesday Night Bible Study\nWednesday nights are a great mid-week Church service. Each week there is a brief time of prayer followed by a Bible Study led by Dr. Farmer.
URL:https://nolensvillefbc.com/event/wednesday-bible-study/2027-03-31/
LOCATION:Nolensville First Baptist Church\, 9624 Clovercroft Road\, Nolensville\, TN\, 37135\, United States
CATEGORIES:Worship
ORGANIZER;CN="Nolensville First Baptist Church":MAILTO:info@nolensvillefbc.com
END:VEVENT
BEGIN:VEVENT
DTSTART;TZID=America/Chicago:20270404T104500
DTEND;TZID=America/Chicago:20270404T114500
DTSTAMP:20260423T172603
CREATED:20250103T203523Z
LAST-MODIFIED:20250103T204947Z
UID:990000118-1806835500-1806839100@nolensvillefbc.com
SUMMARY:Sunday Worship Service
DESCRIPTION:Join Nolensville First Baptist Church for our weekly Sunday worship service. \nLearn about what to expect\, and read through our frequently asked questions on our Visit page.
URL:https://nolensvillefbc.com/event/sunday-worship-service/2027-04-04/
LOCATION:Nolensville First Baptist Church\, 9624 Clovercroft Road\, Nolensville\, TN\, 37135\, United States
CATEGORIES:Worship
ORGANIZER;CN="Nolensville First Baptist Church":MAILTO:info@nolensvillefbc.com
END:VEVENT
BEGIN:VEVENT
DTSTART;TZID=America/Chicago:20270407T180000
DTEND;TZID=America/Chicago:20270407T190000
DTSTAMP:20260423T172603
CREATED:20250103T204907Z
LAST-MODIFIED:20250402T163756Z
UID:990000901-1807120800-1807124400@nolensvillefbc.com
SUMMARY:Wednesday Bible Study
DESCRIPTION:Join us for Wednesday Night Bible Study\nWednesday nights are a great mid-week Church service. Each week there is a brief time of prayer followed by a Bible Study led by Dr. Farmer.
URL:https://nolensvillefbc.com/event/wednesday-bible-study/2027-04-07/
LOCATION:Nolensville First Baptist Church\, 9624 Clovercroft Road\, Nolensville\, TN\, 37135\, United States
CATEGORIES:Worship
ORGANIZER;CN="Nolensville First Baptist Church":MAILTO:info@nolensvillefbc.com
END:VEVENT
BEGIN:VEVENT
DTSTART;TZID=America/Chicago:20270411T104500
DTEND;TZID=America/Chicago:20270411T114500
DTSTAMP:20260423T172603
CREATED:20250103T203523Z
LAST-MODIFIED:20250103T204947Z
UID:990000119-1807440300-1807443900@nolensvillefbc.com
SUMMARY:Sunday Worship Service
DESCRIPTION:Join Nolensville First Baptist Church for our weekly Sunday worship service. \nLearn about what to expect\, and read through our frequently asked questions on our Visit page.
URL:https://nolensvillefbc.com/event/sunday-worship-service/2027-04-11/
LOCATION:Nolensville First Baptist Church\, 9624 Clovercroft Road\, Nolensville\, TN\, 37135\, United States
CATEGORIES:Worship
ORGANIZER;CN="Nolensville First Baptist Church":MAILTO:info@nolensvillefbc.com
END:VEVENT
BEGIN:VEVENT
DTSTART;TZID=America/Chicago:20270414T180000
DTEND;TZID=America/Chicago:20270414T190000
DTSTAMP:20260423T172603
CREATED:20250103T204907Z
LAST-MODIFIED:20250402T163756Z
UID:990000902-1807725600-1807729200@nolensvillefbc.com
SUMMARY:Wednesday Bible Study
DESCRIPTION:Join us for Wednesday Night Bible Study\nWednesday nights are a great mid-week Church service. Each week there is a brief time of prayer followed by a Bible Study led by Dr. Farmer.
URL:https://nolensvillefbc.com/event/wednesday-bible-study/2027-04-14/
LOCATION:Nolensville First Baptist Church\, 9624 Clovercroft Road\, Nolensville\, TN\, 37135\, United States
CATEGORIES:Worship
ORGANIZER;CN="Nolensville First Baptist Church":MAILTO:info@nolensvillefbc.com
END:VEVENT
BEGIN:VEVENT
DTSTART;TZID=America/Chicago:20270418T104500
DTEND;TZID=America/Chicago:20270418T114500
DTSTAMP:20260423T172603
CREATED:20250103T203523Z
LAST-MODIFIED:20250103T204947Z
UID:990000120-1808045100-1808048700@nolensvillefbc.com
SUMMARY:Sunday Worship Service
DESCRIPTION:Join Nolensville First Baptist Church for our weekly Sunday worship service. \nLearn about what to expect\, and read through our frequently asked questions on our Visit page.
URL:https://nolensvillefbc.com/event/sunday-worship-service/2027-04-18/
LOCATION:Nolensville First Baptist Church\, 9624 Clovercroft Road\, Nolensville\, TN\, 37135\, United States
CATEGORIES:Worship
ORGANIZER;CN="Nolensville First Baptist Church":MAILTO:info@nolensvillefbc.com
END:VEVENT
BEGIN:VEVENT
DTSTART;TZID=America/Chicago:20270421T180000
DTEND;TZID=America/Chicago:20270421T190000
DTSTAMP:20260423T172603
CREATED:20250103T204907Z
LAST-MODIFIED:20250402T163756Z
UID:990000903-1808330400-1808334000@nolensvillefbc.com
SUMMARY:Wednesday Bible Study
DESCRIPTION:Join us for Wednesday Night Bible Study\nWednesday nights are a great mid-week Church service. Each week there is a brief time of prayer followed by a Bible Study led by Dr. Farmer.
URL:https://nolensvillefbc.com/event/wednesday-bible-study/2027-04-21/
LOCATION:Nolensville First Baptist Church\, 9624 Clovercroft Road\, Nolensville\, TN\, 37135\, United States
CATEGORIES:Worship
ORGANIZER;CN="Nolensville First Baptist Church":MAILTO:info@nolensvillefbc.com
END:VEVENT
BEGIN:VEVENT
DTSTART;TZID=America/Chicago:20270425T104500
DTEND;TZID=America/Chicago:20270425T114500
DTSTAMP:20260423T172603
CREATED:20250103T203523Z
LAST-MODIFIED:20250103T204947Z
UID:990000121-1808649900-1808653500@nolensvillefbc.com
SUMMARY:Sunday Worship Service
DESCRIPTION:Join Nolensville First Baptist Church for our weekly Sunday worship service. \nLearn about what to expect\, and read through our frequently asked questions on our Visit page.
URL:https://nolensvillefbc.com/event/sunday-worship-service/2027-04-25/
LOCATION:Nolensville First Baptist Church\, 9624 Clovercroft Road\, Nolensville\, TN\, 37135\, United States
CATEGORIES:Worship
ORGANIZER;CN="Nolensville First Baptist Church":MAILTO:info@nolensvillefbc.com
END:VEVENT
BEGIN:VEVENT
DTSTART;TZID=America/Chicago:20270428T180000
DTEND;TZID=America/Chicago:20270428T190000
DTSTAMP:20260423T172603
CREATED:20250103T204907Z
LAST-MODIFIED:20250402T163756Z
UID:990000904-1808935200-1808938800@nolensvillefbc.com
SUMMARY:Wednesday Bible Study
DESCRIPTION:Join us for Wednesday Night Bible Study\nWednesday nights are a great mid-week Church service. Each week there is a brief time of prayer followed by a Bible Study led by Dr. Farmer.
URL:https://nolensvillefbc.com/event/wednesday-bible-study/2027-04-28/
LOCATION:Nolensville First Baptist Church\, 9624 Clovercroft Road\, Nolensville\, TN\, 37135\, United States
CATEGORIES:Worship
ORGANIZER;CN="Nolensville First Baptist Church":MAILTO:info@nolensvillefbc.com
END:VEVENT
BEGIN:VEVENT
DTSTART;TZID=America/Chicago:20270502T104500
DTEND;TZID=America/Chicago:20270502T114500
DTSTAMP:20260423T172603
CREATED:20250103T203523Z
LAST-MODIFIED:20250103T204947Z
UID:990000122-1809254700-1809258300@nolensvillefbc.com
SUMMARY:Sunday Worship Service
DESCRIPTION:Join Nolensville First Baptist Church for our weekly Sunday worship service. \nLearn about what to expect\, and read through our frequently asked questions on our Visit page.
URL:https://nolensvillefbc.com/event/sunday-worship-service/2027-05-02/
LOCATION:Nolensville First Baptist Church\, 9624 Clovercroft Road\, Nolensville\, TN\, 37135\, United States
CATEGORIES:Worship
ORGANIZER;CN="Nolensville First Baptist Church":MAILTO:info@nolensvillefbc.com
END:VEVENT
BEGIN:VEVENT
DTSTART;TZID=America/Chicago:20270505T180000
DTEND;TZID=America/Chicago:20270505T190000
DTSTAMP:20260423T172603
CREATED:20250103T204907Z
LAST-MODIFIED:20250402T163756Z
UID:990000905-1809540000-1809543600@nolensvillefbc.com
SUMMARY:Wednesday Bible Study
DESCRIPTION:Join us for Wednesday Night Bible Study\nWednesday nights are a great mid-week Church service. Each week there is a brief time of prayer followed by a Bible Study led by Dr. Farmer.
URL:https://nolensvillefbc.com/event/wednesday-bible-study/2027-05-05/
LOCATION:Nolensville First Baptist Church\, 9624 Clovercroft Road\, Nolensville\, TN\, 37135\, United States
CATEGORIES:Worship
ORGANIZER;CN="Nolensville First Baptist Church":MAILTO:info@nolensvillefbc.com
END:VEVENT
BEGIN:VEVENT
DTSTART;TZID=America/Chicago:20270509T104500
DTEND;TZID=America/Chicago:20270509T114500
DTSTAMP:20260423T172603
CREATED:20250103T203523Z
LAST-MODIFIED:20250103T204947Z
UID:990000123-1809859500-1809863100@nolensvillefbc.com
SUMMARY:Sunday Worship Service
DESCRIPTION:Join Nolensville First Baptist Church for our weekly Sunday worship service. \nLearn about what to expect\, and read through our frequently asked questions on our Visit page.
URL:https://nolensvillefbc.com/event/sunday-worship-service/2027-05-09/
LOCATION:Nolensville First Baptist Church\, 9624 Clovercroft Road\, Nolensville\, TN\, 37135\, United States
CATEGORIES:Worship
ORGANIZER;CN="Nolensville First Baptist Church":MAILTO:info@nolensvillefbc.com
END:VEVENT
BEGIN:VEVENT
DTSTART;TZID=America/Chicago:20270512T180000
DTEND;TZID=America/Chicago:20270512T190000
DTSTAMP:20260423T172603
CREATED:20250103T204907Z
LAST-MODIFIED:20250402T163756Z
UID:990000906-1810144800-1810148400@nolensvillefbc.com
SUMMARY:Wednesday Bible Study
DESCRIPTION:Join us for Wednesday Night Bible Study\nWednesday nights are a great mid-week Church service. Each week there is a brief time of prayer followed by a Bible Study led by Dr. Farmer.
URL:https://nolensvillefbc.com/event/wednesday-bible-study/2027-05-12/
LOCATION:Nolensville First Baptist Church\, 9624 Clovercroft Road\, Nolensville\, TN\, 37135\, United States
CATEGORIES:Worship
ORGANIZER;CN="Nolensville First Baptist Church":MAILTO:info@nolensvillefbc.com
END:VEVENT
END:VCALENDAR