BEGIN:VCALENDAR
VERSION:2.0
PRODID:-//Nolensville First Baptist Church - ECPv6.15.20//NONSGML v1.0//EN
CALSCALE:GREGORIAN
METHOD:PUBLISH
X-WR-CALNAME:Nolensville First Baptist Church
X-ORIGINAL-URL:https://nolensvillefbc.com
X-WR-CALDESC:Events for Nolensville First Baptist Church
REFRESH-INTERVAL;VALUE=DURATION:PT1H
X-Robots-Tag:noindex
X-PUBLISHED-TTL:PT1H
BEGIN:VTIMEZONE
TZID:America/Chicago
BEGIN:DAYLIGHT
TZOFFSETFROM:-0600
TZOFFSETTO:-0500
TZNAME:CDT
DTSTART:20260308T080000
END:DAYLIGHT
BEGIN:STANDARD
TZOFFSETFROM:-0500
TZOFFSETTO:-0600
TZNAME:CST
DTSTART:20261101T070000
END:STANDARD
BEGIN:DAYLIGHT
TZOFFSETFROM:-0600
TZOFFSETTO:-0500
TZNAME:CDT
DTSTART:20270314T080000
END:DAYLIGHT
BEGIN:STANDARD
TZOFFSETFROM:-0500
TZOFFSETTO:-0600
TZNAME:CST
DTSTART:20271107T070000
END:STANDARD
BEGIN:DAYLIGHT
TZOFFSETFROM:-0600
TZOFFSETTO:-0500
TZNAME:CDT
DTSTART:20280312T080000
END:DAYLIGHT
BEGIN:STANDARD
TZOFFSETFROM:-0500
TZOFFSETTO:-0600
TZNAME:CST
DTSTART:20281105T070000
END:STANDARD
BEGIN:DAYLIGHT
TZOFFSETFROM:-0600
TZOFFSETTO:-0500
TZNAME:CDT
DTSTART:20290311T080000
END:DAYLIGHT
BEGIN:STANDARD
TZOFFSETFROM:-0500
TZOFFSETTO:-0600
TZNAME:CST
DTSTART:20291104T070000
END:STANDARD
END:VTIMEZONE
BEGIN:VEVENT
DTSTART;TZID=America/Chicago:20271110T180000
DTEND;TZID=America/Chicago:20271110T190000
DTSTAMP:20260424T142959
CREATED:20250103T204907Z
LAST-MODIFIED:20250402T163756Z
UID:990000932-1825869600-1825873200@nolensvillefbc.com
SUMMARY:Wednesday Bible Study
DESCRIPTION:Join us for Wednesday Night Bible Study\nWednesday nights are a great mid-week Church service. Each week there is a brief time of prayer followed by a Bible Study led by Dr. Farmer.
URL:https://nolensvillefbc.com/event/wednesday-bible-study/2027-11-10/
LOCATION:Nolensville First Baptist Church\, 9624 Clovercroft Road\, Nolensville\, TN\, 37135\, United States
CATEGORIES:Worship
ORGANIZER;CN="Nolensville First Baptist Church":MAILTO:info@nolensvillefbc.com
END:VEVENT
BEGIN:VEVENT
DTSTART;TZID=America/Chicago:20271114T104500
DTEND;TZID=America/Chicago:20271114T114500
DTSTAMP:20260424T142959
CREATED:20250103T203523Z
LAST-MODIFIED:20250103T204947Z
UID:990000150-1826189100-1826192700@nolensvillefbc.com
SUMMARY:Sunday Worship Service
DESCRIPTION:Join Nolensville First Baptist Church for our weekly Sunday worship service. \nLearn about what to expect\, and read through our frequently asked questions on our Visit page.
URL:https://nolensvillefbc.com/event/sunday-worship-service/2027-11-14/
LOCATION:Nolensville First Baptist Church\, 9624 Clovercroft Road\, Nolensville\, TN\, 37135\, United States
CATEGORIES:Worship
ORGANIZER;CN="Nolensville First Baptist Church":MAILTO:info@nolensvillefbc.com
END:VEVENT
BEGIN:VEVENT
DTSTART;TZID=America/Chicago:20271117T180000
DTEND;TZID=America/Chicago:20271117T190000
DTSTAMP:20260424T142959
CREATED:20250103T204907Z
LAST-MODIFIED:20250402T163756Z
UID:990000933-1826474400-1826478000@nolensvillefbc.com
SUMMARY:Wednesday Bible Study
DESCRIPTION:Join us for Wednesday Night Bible Study\nWednesday nights are a great mid-week Church service. Each week there is a brief time of prayer followed by a Bible Study led by Dr. Farmer.
URL:https://nolensvillefbc.com/event/wednesday-bible-study/2027-11-17/
LOCATION:Nolensville First Baptist Church\, 9624 Clovercroft Road\, Nolensville\, TN\, 37135\, United States
CATEGORIES:Worship
ORGANIZER;CN="Nolensville First Baptist Church":MAILTO:info@nolensvillefbc.com
END:VEVENT
BEGIN:VEVENT
DTSTART;TZID=America/Chicago:20271121T104500
DTEND;TZID=America/Chicago:20271121T114500
DTSTAMP:20260424T142959
CREATED:20250103T203523Z
LAST-MODIFIED:20250103T204947Z
UID:990000151-1826793900-1826797500@nolensvillefbc.com
SUMMARY:Sunday Worship Service
DESCRIPTION:Join Nolensville First Baptist Church for our weekly Sunday worship service. \nLearn about what to expect\, and read through our frequently asked questions on our Visit page.
URL:https://nolensvillefbc.com/event/sunday-worship-service/2027-11-21/
LOCATION:Nolensville First Baptist Church\, 9624 Clovercroft Road\, Nolensville\, TN\, 37135\, United States
CATEGORIES:Worship
ORGANIZER;CN="Nolensville First Baptist Church":MAILTO:info@nolensvillefbc.com
END:VEVENT
BEGIN:VEVENT
DTSTART;TZID=America/Chicago:20271124T180000
DTEND;TZID=America/Chicago:20271124T190000
DTSTAMP:20260424T142959
CREATED:20250103T204907Z
LAST-MODIFIED:20250402T163756Z
UID:990000934-1827079200-1827082800@nolensvillefbc.com
SUMMARY:Wednesday Bible Study
DESCRIPTION:Join us for Wednesday Night Bible Study\nWednesday nights are a great mid-week Church service. Each week there is a brief time of prayer followed by a Bible Study led by Dr. Farmer.
URL:https://nolensvillefbc.com/event/wednesday-bible-study/2027-11-24/
LOCATION:Nolensville First Baptist Church\, 9624 Clovercroft Road\, Nolensville\, TN\, 37135\, United States
CATEGORIES:Worship
ORGANIZER;CN="Nolensville First Baptist Church":MAILTO:info@nolensvillefbc.com
END:VEVENT
BEGIN:VEVENT
DTSTART;TZID=America/Chicago:20271128T104500
DTEND;TZID=America/Chicago:20271128T114500
DTSTAMP:20260424T142959
CREATED:20250103T203523Z
LAST-MODIFIED:20250103T204947Z
UID:990000152-1827398700-1827402300@nolensvillefbc.com
SUMMARY:Sunday Worship Service
DESCRIPTION:Join Nolensville First Baptist Church for our weekly Sunday worship service. \nLearn about what to expect\, and read through our frequently asked questions on our Visit page.
URL:https://nolensvillefbc.com/event/sunday-worship-service/2027-11-28/
LOCATION:Nolensville First Baptist Church\, 9624 Clovercroft Road\, Nolensville\, TN\, 37135\, United States
CATEGORIES:Worship
ORGANIZER;CN="Nolensville First Baptist Church":MAILTO:info@nolensvillefbc.com
END:VEVENT
BEGIN:VEVENT
DTSTART;TZID=America/Chicago:20271201T180000
DTEND;TZID=America/Chicago:20271201T190000
DTSTAMP:20260424T142959
CREATED:20250103T204907Z
LAST-MODIFIED:20250402T163756Z
UID:990000935-1827684000-1827687600@nolensvillefbc.com
SUMMARY:Wednesday Bible Study
DESCRIPTION:Join us for Wednesday Night Bible Study\nWednesday nights are a great mid-week Church service. Each week there is a brief time of prayer followed by a Bible Study led by Dr. Farmer.
URL:https://nolensvillefbc.com/event/wednesday-bible-study/2027-12-01/
LOCATION:Nolensville First Baptist Church\, 9624 Clovercroft Road\, Nolensville\, TN\, 37135\, United States
CATEGORIES:Worship
ORGANIZER;CN="Nolensville First Baptist Church":MAILTO:info@nolensvillefbc.com
END:VEVENT
BEGIN:VEVENT
DTSTART;TZID=America/Chicago:20271205T104500
DTEND;TZID=America/Chicago:20271205T114500
DTSTAMP:20260424T142959
CREATED:20250103T203523Z
LAST-MODIFIED:20250103T204947Z
UID:990000153-1828003500-1828007100@nolensvillefbc.com
SUMMARY:Sunday Worship Service
DESCRIPTION:Join Nolensville First Baptist Church for our weekly Sunday worship service. \nLearn about what to expect\, and read through our frequently asked questions on our Visit page.
URL:https://nolensvillefbc.com/event/sunday-worship-service/2027-12-05/
LOCATION:Nolensville First Baptist Church\, 9624 Clovercroft Road\, Nolensville\, TN\, 37135\, United States
CATEGORIES:Worship
ORGANIZER;CN="Nolensville First Baptist Church":MAILTO:info@nolensvillefbc.com
END:VEVENT
BEGIN:VEVENT
DTSTART;TZID=America/Chicago:20271208T180000
DTEND;TZID=America/Chicago:20271208T190000
DTSTAMP:20260424T142959
CREATED:20250103T204907Z
LAST-MODIFIED:20250402T163756Z
UID:990000936-1828288800-1828292400@nolensvillefbc.com
SUMMARY:Wednesday Bible Study
DESCRIPTION:Join us for Wednesday Night Bible Study\nWednesday nights are a great mid-week Church service. Each week there is a brief time of prayer followed by a Bible Study led by Dr. Farmer.
URL:https://nolensvillefbc.com/event/wednesday-bible-study/2027-12-08/
LOCATION:Nolensville First Baptist Church\, 9624 Clovercroft Road\, Nolensville\, TN\, 37135\, United States
CATEGORIES:Worship
ORGANIZER;CN="Nolensville First Baptist Church":MAILTO:info@nolensvillefbc.com
END:VEVENT
BEGIN:VEVENT
DTSTART;TZID=America/Chicago:20271212T104500
DTEND;TZID=America/Chicago:20271212T114500
DTSTAMP:20260424T142959
CREATED:20250103T203523Z
LAST-MODIFIED:20250103T204947Z
UID:990000154-1828608300-1828611900@nolensvillefbc.com
SUMMARY:Sunday Worship Service
DESCRIPTION:Join Nolensville First Baptist Church for our weekly Sunday worship service. \nLearn about what to expect\, and read through our frequently asked questions on our Visit page.
URL:https://nolensvillefbc.com/event/sunday-worship-service/2027-12-12/
LOCATION:Nolensville First Baptist Church\, 9624 Clovercroft Road\, Nolensville\, TN\, 37135\, United States
CATEGORIES:Worship
ORGANIZER;CN="Nolensville First Baptist Church":MAILTO:info@nolensvillefbc.com
END:VEVENT
BEGIN:VEVENT
DTSTART;TZID=America/Chicago:20271215T180000
DTEND;TZID=America/Chicago:20271215T190000
DTSTAMP:20260424T142959
CREATED:20250103T204907Z
LAST-MODIFIED:20250402T163756Z
UID:990000937-1828893600-1828897200@nolensvillefbc.com
SUMMARY:Wednesday Bible Study
DESCRIPTION:Join us for Wednesday Night Bible Study\nWednesday nights are a great mid-week Church service. Each week there is a brief time of prayer followed by a Bible Study led by Dr. Farmer.
URL:https://nolensvillefbc.com/event/wednesday-bible-study/2027-12-15/
LOCATION:Nolensville First Baptist Church\, 9624 Clovercroft Road\, Nolensville\, TN\, 37135\, United States
CATEGORIES:Worship
ORGANIZER;CN="Nolensville First Baptist Church":MAILTO:info@nolensvillefbc.com
END:VEVENT
BEGIN:VEVENT
DTSTART;TZID=America/Chicago:20271219T104500
DTEND;TZID=America/Chicago:20271219T114500
DTSTAMP:20260424T142959
CREATED:20250103T203523Z
LAST-MODIFIED:20250103T204947Z
UID:990000155-1829213100-1829216700@nolensvillefbc.com
SUMMARY:Sunday Worship Service
DESCRIPTION:Join Nolensville First Baptist Church for our weekly Sunday worship service. \nLearn about what to expect\, and read through our frequently asked questions on our Visit page.
URL:https://nolensvillefbc.com/event/sunday-worship-service/2027-12-19/
LOCATION:Nolensville First Baptist Church\, 9624 Clovercroft Road\, Nolensville\, TN\, 37135\, United States
CATEGORIES:Worship
ORGANIZER;CN="Nolensville First Baptist Church":MAILTO:info@nolensvillefbc.com
END:VEVENT
BEGIN:VEVENT
DTSTART;TZID=America/Chicago:20271222T180000
DTEND;TZID=America/Chicago:20271222T190000
DTSTAMP:20260424T142959
CREATED:20250103T204907Z
LAST-MODIFIED:20250402T163756Z
UID:990000938-1829498400-1829502000@nolensvillefbc.com
SUMMARY:Wednesday Bible Study
DESCRIPTION:Join us for Wednesday Night Bible Study\nWednesday nights are a great mid-week Church service. Each week there is a brief time of prayer followed by a Bible Study led by Dr. Farmer.
URL:https://nolensvillefbc.com/event/wednesday-bible-study/2027-12-22/
LOCATION:Nolensville First Baptist Church\, 9624 Clovercroft Road\, Nolensville\, TN\, 37135\, United States
CATEGORIES:Worship
ORGANIZER;CN="Nolensville First Baptist Church":MAILTO:info@nolensvillefbc.com
END:VEVENT
BEGIN:VEVENT
DTSTART;TZID=America/Chicago:20271226T104500
DTEND;TZID=America/Chicago:20271226T114500
DTSTAMP:20260424T142959
CREATED:20250103T203523Z
LAST-MODIFIED:20250103T204947Z
UID:990000156-1829817900-1829821500@nolensvillefbc.com
SUMMARY:Sunday Worship Service
DESCRIPTION:Join Nolensville First Baptist Church for our weekly Sunday worship service. \nLearn about what to expect\, and read through our frequently asked questions on our Visit page.
URL:https://nolensvillefbc.com/event/sunday-worship-service/2027-12-26/
LOCATION:Nolensville First Baptist Church\, 9624 Clovercroft Road\, Nolensville\, TN\, 37135\, United States
CATEGORIES:Worship
ORGANIZER;CN="Nolensville First Baptist Church":MAILTO:info@nolensvillefbc.com
END:VEVENT
BEGIN:VEVENT
DTSTART;TZID=America/Chicago:20271229T180000
DTEND;TZID=America/Chicago:20271229T190000
DTSTAMP:20260424T142959
CREATED:20250103T204907Z
LAST-MODIFIED:20250402T163756Z
UID:990000939-1830103200-1830106800@nolensvillefbc.com
SUMMARY:Wednesday Bible Study
DESCRIPTION:Join us for Wednesday Night Bible Study\nWednesday nights are a great mid-week Church service. Each week there is a brief time of prayer followed by a Bible Study led by Dr. Farmer.
URL:https://nolensvillefbc.com/event/wednesday-bible-study/2027-12-29/
LOCATION:Nolensville First Baptist Church\, 9624 Clovercroft Road\, Nolensville\, TN\, 37135\, United States
CATEGORIES:Worship
ORGANIZER;CN="Nolensville First Baptist Church":MAILTO:info@nolensvillefbc.com
END:VEVENT
BEGIN:VEVENT
DTSTART;TZID=America/Chicago:20280102T104500
DTEND;TZID=America/Chicago:20280102T114500
DTSTAMP:20260424T142959
CREATED:20250103T203523Z
LAST-MODIFIED:20250103T204947Z
UID:990000157-1830422700-1830426300@nolensvillefbc.com
SUMMARY:Sunday Worship Service
DESCRIPTION:Join Nolensville First Baptist Church for our weekly Sunday worship service. \nLearn about what to expect\, and read through our frequently asked questions on our Visit page.
URL:https://nolensvillefbc.com/event/sunday-worship-service/2028-01-02/
LOCATION:Nolensville First Baptist Church\, 9624 Clovercroft Road\, Nolensville\, TN\, 37135\, United States
CATEGORIES:Worship
ORGANIZER;CN="Nolensville First Baptist Church":MAILTO:info@nolensvillefbc.com
END:VEVENT
BEGIN:VEVENT
DTSTART;TZID=America/Chicago:20280105T180000
DTEND;TZID=America/Chicago:20280105T190000
DTSTAMP:20260424T142959
CREATED:20250103T204907Z
LAST-MODIFIED:20250402T163756Z
UID:990000940-1830708000-1830711600@nolensvillefbc.com
SUMMARY:Wednesday Bible Study
DESCRIPTION:Join us for Wednesday Night Bible Study\nWednesday nights are a great mid-week Church service. Each week there is a brief time of prayer followed by a Bible Study led by Dr. Farmer.
URL:https://nolensvillefbc.com/event/wednesday-bible-study/2028-01-05/
LOCATION:Nolensville First Baptist Church\, 9624 Clovercroft Road\, Nolensville\, TN\, 37135\, United States
CATEGORIES:Worship
ORGANIZER;CN="Nolensville First Baptist Church":MAILTO:info@nolensvillefbc.com
END:VEVENT
BEGIN:VEVENT
DTSTART;TZID=America/Chicago:20280109T104500
DTEND;TZID=America/Chicago:20280109T114500
DTSTAMP:20260424T142959
CREATED:20250103T203523Z
LAST-MODIFIED:20250103T204947Z
UID:990000158-1831027500-1831031100@nolensvillefbc.com
SUMMARY:Sunday Worship Service
DESCRIPTION:Join Nolensville First Baptist Church for our weekly Sunday worship service. \nLearn about what to expect\, and read through our frequently asked questions on our Visit page.
URL:https://nolensvillefbc.com/event/sunday-worship-service/2028-01-09/
LOCATION:Nolensville First Baptist Church\, 9624 Clovercroft Road\, Nolensville\, TN\, 37135\, United States
CATEGORIES:Worship
ORGANIZER;CN="Nolensville First Baptist Church":MAILTO:info@nolensvillefbc.com
END:VEVENT
BEGIN:VEVENT
DTSTART;TZID=America/Chicago:20280112T180000
DTEND;TZID=America/Chicago:20280112T190000
DTSTAMP:20260424T142959
CREATED:20250103T204907Z
LAST-MODIFIED:20250402T163756Z
UID:990000941-1831312800-1831316400@nolensvillefbc.com
SUMMARY:Wednesday Bible Study
DESCRIPTION:Join us for Wednesday Night Bible Study\nWednesday nights are a great mid-week Church service. Each week there is a brief time of prayer followed by a Bible Study led by Dr. Farmer.
URL:https://nolensvillefbc.com/event/wednesday-bible-study/2028-01-12/
LOCATION:Nolensville First Baptist Church\, 9624 Clovercroft Road\, Nolensville\, TN\, 37135\, United States
CATEGORIES:Worship
ORGANIZER;CN="Nolensville First Baptist Church":MAILTO:info@nolensvillefbc.com
END:VEVENT
BEGIN:VEVENT
DTSTART;TZID=America/Chicago:20280116T104500
DTEND;TZID=America/Chicago:20280116T114500
DTSTAMP:20260424T142959
CREATED:20250103T203523Z
LAST-MODIFIED:20250103T204947Z
UID:990000159-1831632300-1831635900@nolensvillefbc.com
SUMMARY:Sunday Worship Service
DESCRIPTION:Join Nolensville First Baptist Church for our weekly Sunday worship service. \nLearn about what to expect\, and read through our frequently asked questions on our Visit page.
URL:https://nolensvillefbc.com/event/sunday-worship-service/2028-01-16/
LOCATION:Nolensville First Baptist Church\, 9624 Clovercroft Road\, Nolensville\, TN\, 37135\, United States
CATEGORIES:Worship
ORGANIZER;CN="Nolensville First Baptist Church":MAILTO:info@nolensvillefbc.com
END:VEVENT
BEGIN:VEVENT
DTSTART;TZID=America/Chicago:20280119T180000
DTEND;TZID=America/Chicago:20280119T190000
DTSTAMP:20260424T142959
CREATED:20250103T204907Z
LAST-MODIFIED:20250402T163756Z
UID:990000942-1831917600-1831921200@nolensvillefbc.com
SUMMARY:Wednesday Bible Study
DESCRIPTION:Join us for Wednesday Night Bible Study\nWednesday nights are a great mid-week Church service. Each week there is a brief time of prayer followed by a Bible Study led by Dr. Farmer.
URL:https://nolensvillefbc.com/event/wednesday-bible-study/2028-01-19/
LOCATION:Nolensville First Baptist Church\, 9624 Clovercroft Road\, Nolensville\, TN\, 37135\, United States
CATEGORIES:Worship
ORGANIZER;CN="Nolensville First Baptist Church":MAILTO:info@nolensvillefbc.com
END:VEVENT
BEGIN:VEVENT
DTSTART;TZID=America/Chicago:20280123T104500
DTEND;TZID=America/Chicago:20280123T114500
DTSTAMP:20260424T142959
CREATED:20250103T203523Z
LAST-MODIFIED:20250103T204947Z
UID:990000160-1832237100-1832240700@nolensvillefbc.com
SUMMARY:Sunday Worship Service
DESCRIPTION:Join Nolensville First Baptist Church for our weekly Sunday worship service. \nLearn about what to expect\, and read through our frequently asked questions on our Visit page.
URL:https://nolensvillefbc.com/event/sunday-worship-service/2028-01-23/
LOCATION:Nolensville First Baptist Church\, 9624 Clovercroft Road\, Nolensville\, TN\, 37135\, United States
CATEGORIES:Worship
ORGANIZER;CN="Nolensville First Baptist Church":MAILTO:info@nolensvillefbc.com
END:VEVENT
BEGIN:VEVENT
DTSTART;TZID=America/Chicago:20280126T180000
DTEND;TZID=America/Chicago:20280126T190000
DTSTAMP:20260424T142959
CREATED:20250103T204907Z
LAST-MODIFIED:20250402T163756Z
UID:990000943-1832522400-1832526000@nolensvillefbc.com
SUMMARY:Wednesday Bible Study
DESCRIPTION:Join us for Wednesday Night Bible Study\nWednesday nights are a great mid-week Church service. Each week there is a brief time of prayer followed by a Bible Study led by Dr. Farmer.
URL:https://nolensvillefbc.com/event/wednesday-bible-study/2028-01-26/
LOCATION:Nolensville First Baptist Church\, 9624 Clovercroft Road\, Nolensville\, TN\, 37135\, United States
CATEGORIES:Worship
ORGANIZER;CN="Nolensville First Baptist Church":MAILTO:info@nolensvillefbc.com
END:VEVENT
BEGIN:VEVENT
DTSTART;TZID=America/Chicago:20280130T104500
DTEND;TZID=America/Chicago:20280130T114500
DTSTAMP:20260424T142959
CREATED:20250103T203523Z
LAST-MODIFIED:20250103T204947Z
UID:990000161-1832841900-1832845500@nolensvillefbc.com
SUMMARY:Sunday Worship Service
DESCRIPTION:Join Nolensville First Baptist Church for our weekly Sunday worship service. \nLearn about what to expect\, and read through our frequently asked questions on our Visit page.
URL:https://nolensvillefbc.com/event/sunday-worship-service/2028-01-30/
LOCATION:Nolensville First Baptist Church\, 9624 Clovercroft Road\, Nolensville\, TN\, 37135\, United States
CATEGORIES:Worship
ORGANIZER;CN="Nolensville First Baptist Church":MAILTO:info@nolensvillefbc.com
END:VEVENT
BEGIN:VEVENT
DTSTART;TZID=America/Chicago:20280130T104500
DTEND;TZID=America/Chicago:20280130T114500
DTSTAMP:20260424T142959
CREATED:20250522T164315Z
LAST-MODIFIED:20250522T164416Z
UID:990001434-1832841900-1832845500@nolensvillefbc.com
SUMMARY:Lord's Supper
DESCRIPTION:At the conclusion of the regular Sunday Worship service\, we will be observing the Lord’s Supper.
URL:https://nolensvillefbc.com/event/lords-supper/2028-01-30/
LOCATION:Nolensville First Baptist Church\, 9624 Clovercroft Road\, Nolensville\, TN\, 37135\, United States
CATEGORIES:Worship
ATTACH;FMTTYPE=image/jpeg:https://nolensvillefbc.com/wp-content/uploads/2025/05/Communion.jpg
ORGANIZER;CN="Nolensville First Baptist Church":MAILTO:info@nolensvillefbc.com
END:VEVENT
BEGIN:VEVENT
DTSTART;TZID=America/Chicago:20280202T180000
DTEND;TZID=America/Chicago:20280202T190000
DTSTAMP:20260424T142959
CREATED:20250103T204907Z
LAST-MODIFIED:20250402T163756Z
UID:990000944-1833127200-1833130800@nolensvillefbc.com
SUMMARY:Wednesday Bible Study
DESCRIPTION:Join us for Wednesday Night Bible Study\nWednesday nights are a great mid-week Church service. Each week there is a brief time of prayer followed by a Bible Study led by Dr. Farmer.
URL:https://nolensvillefbc.com/event/wednesday-bible-study/2028-02-02/
LOCATION:Nolensville First Baptist Church\, 9624 Clovercroft Road\, Nolensville\, TN\, 37135\, United States
CATEGORIES:Worship
ORGANIZER;CN="Nolensville First Baptist Church":MAILTO:info@nolensvillefbc.com
END:VEVENT
BEGIN:VEVENT
DTSTART;TZID=America/Chicago:20280206T104500
DTEND;TZID=America/Chicago:20280206T114500
DTSTAMP:20260424T142959
CREATED:20250103T203523Z
LAST-MODIFIED:20250103T204947Z
UID:990000162-1833446700-1833450300@nolensvillefbc.com
SUMMARY:Sunday Worship Service
DESCRIPTION:Join Nolensville First Baptist Church for our weekly Sunday worship service. \nLearn about what to expect\, and read through our frequently asked questions on our Visit page.
URL:https://nolensvillefbc.com/event/sunday-worship-service/2028-02-06/
LOCATION:Nolensville First Baptist Church\, 9624 Clovercroft Road\, Nolensville\, TN\, 37135\, United States
CATEGORIES:Worship
ORGANIZER;CN="Nolensville First Baptist Church":MAILTO:info@nolensvillefbc.com
END:VEVENT
BEGIN:VEVENT
DTSTART;TZID=America/Chicago:20280209T180000
DTEND;TZID=America/Chicago:20280209T190000
DTSTAMP:20260424T142959
CREATED:20250103T204907Z
LAST-MODIFIED:20250402T163756Z
UID:990000945-1833732000-1833735600@nolensvillefbc.com
SUMMARY:Wednesday Bible Study
DESCRIPTION:Join us for Wednesday Night Bible Study\nWednesday nights are a great mid-week Church service. Each week there is a brief time of prayer followed by a Bible Study led by Dr. Farmer.
URL:https://nolensvillefbc.com/event/wednesday-bible-study/2028-02-09/
LOCATION:Nolensville First Baptist Church\, 9624 Clovercroft Road\, Nolensville\, TN\, 37135\, United States
CATEGORIES:Worship
ORGANIZER;CN="Nolensville First Baptist Church":MAILTO:info@nolensvillefbc.com
END:VEVENT
BEGIN:VEVENT
DTSTART;TZID=America/Chicago:20280213T104500
DTEND;TZID=America/Chicago:20280213T114500
DTSTAMP:20260424T142959
CREATED:20250103T203523Z
LAST-MODIFIED:20250103T204947Z
UID:990000163-1834051500-1834055100@nolensvillefbc.com
SUMMARY:Sunday Worship Service
DESCRIPTION:Join Nolensville First Baptist Church for our weekly Sunday worship service. \nLearn about what to expect\, and read through our frequently asked questions on our Visit page.
URL:https://nolensvillefbc.com/event/sunday-worship-service/2028-02-13/
LOCATION:Nolensville First Baptist Church\, 9624 Clovercroft Road\, Nolensville\, TN\, 37135\, United States
CATEGORIES:Worship
ORGANIZER;CN="Nolensville First Baptist Church":MAILTO:info@nolensvillefbc.com
END:VEVENT
BEGIN:VEVENT
DTSTART;TZID=America/Chicago:20280216T180000
DTEND;TZID=America/Chicago:20280216T190000
DTSTAMP:20260424T142959
CREATED:20250103T204907Z
LAST-MODIFIED:20250402T163756Z
UID:990000946-1834336800-1834340400@nolensvillefbc.com
SUMMARY:Wednesday Bible Study
DESCRIPTION:Join us for Wednesday Night Bible Study\nWednesday nights are a great mid-week Church service. Each week there is a brief time of prayer followed by a Bible Study led by Dr. Farmer.
URL:https://nolensvillefbc.com/event/wednesday-bible-study/2028-02-16/
LOCATION:Nolensville First Baptist Church\, 9624 Clovercroft Road\, Nolensville\, TN\, 37135\, United States
CATEGORIES:Worship
ORGANIZER;CN="Nolensville First Baptist Church":MAILTO:info@nolensvillefbc.com
END:VEVENT
END:VCALENDAR