BEGIN:VCALENDAR
VERSION:2.0
PRODID:-//Nolensville First Baptist Church - ECPv6.15.20//NONSGML v1.0//EN
CALSCALE:GREGORIAN
METHOD:PUBLISH
X-WR-CALNAME:Nolensville First Baptist Church
X-ORIGINAL-URL:https://nolensvillefbc.com
X-WR-CALDESC:Events for Nolensville First Baptist Church
REFRESH-INTERVAL;VALUE=DURATION:PT1H
X-Robots-Tag:noindex
X-PUBLISHED-TTL:PT1H
BEGIN:VTIMEZONE
TZID:America/Chicago
BEGIN:DAYLIGHT
TZOFFSETFROM:-0600
TZOFFSETTO:-0500
TZNAME:CDT
DTSTART:20240310T080000
END:DAYLIGHT
BEGIN:STANDARD
TZOFFSETFROM:-0500
TZOFFSETTO:-0600
TZNAME:CST
DTSTART:20241103T070000
END:STANDARD
BEGIN:DAYLIGHT
TZOFFSETFROM:-0600
TZOFFSETTO:-0500
TZNAME:CDT
DTSTART:20250309T080000
END:DAYLIGHT
BEGIN:STANDARD
TZOFFSETFROM:-0500
TZOFFSETTO:-0600
TZNAME:CST
DTSTART:20251102T070000
END:STANDARD
BEGIN:DAYLIGHT
TZOFFSETFROM:-0600
TZOFFSETTO:-0500
TZNAME:CDT
DTSTART:20260308T080000
END:DAYLIGHT
BEGIN:STANDARD
TZOFFSETFROM:-0500
TZOFFSETTO:-0600
TZNAME:CST
DTSTART:20261101T070000
END:STANDARD
END:VTIMEZONE
BEGIN:VEVENT
DTSTART;TZID=America/Chicago:20250702T180000
DTEND;TZID=America/Chicago:20250702T190000
DTSTAMP:20260423T015509
CREATED:20250103T204907Z
LAST-MODIFIED:20250402T163756Z
UID:990000809-1751479200-1751482800@nolensvillefbc.com
SUMMARY:Wednesday Bible Study
DESCRIPTION:Join us for Wednesday Night Bible Study\nWednesday nights are a great mid-week Church service. Each week there is a brief time of prayer followed by a Bible Study led by Dr. Farmer.
URL:https://nolensvillefbc.com/event/wednesday-bible-study/2025-07-02/
LOCATION:Nolensville First Baptist Church\, 9624 Clovercroft Road\, Nolensville\, TN\, 37135\, United States
CATEGORIES:Worship
ORGANIZER;CN="Nolensville First Baptist Church":MAILTO:info@nolensvillefbc.com
END:VEVENT
BEGIN:VEVENT
DTSTART;TZID=America/Chicago:20250629T104500
DTEND;TZID=America/Chicago:20250629T114500
DTSTAMP:20260423T015509
CREATED:20250522T164315Z
LAST-MODIFIED:20250522T164416Z
UID:990001423-1751193900-1751197500@nolensvillefbc.com
SUMMARY:Lord's Supper
DESCRIPTION:At the conclusion of the regular Sunday Worship service\, we will be observing the Lord’s Supper.
URL:https://nolensvillefbc.com/event/lords-supper/2025-06-29/
LOCATION:Nolensville First Baptist Church\, 9624 Clovercroft Road\, Nolensville\, TN\, 37135\, United States
CATEGORIES:Worship
ATTACH;FMTTYPE=image/jpeg:https://nolensvillefbc.com/wp-content/uploads/2025/05/Communion.jpg
ORGANIZER;CN="Nolensville First Baptist Church":MAILTO:info@nolensvillefbc.com
END:VEVENT
BEGIN:VEVENT
DTSTART;TZID=America/Chicago:20250629T104500
DTEND;TZID=America/Chicago:20250629T114500
DTSTAMP:20260423T015509
CREATED:20250103T203523Z
LAST-MODIFIED:20250103T204947Z
UID:990000026-1751193900-1751197500@nolensvillefbc.com
SUMMARY:Sunday Worship Service
DESCRIPTION:Join Nolensville First Baptist Church for our weekly Sunday worship service. \nLearn about what to expect\, and read through our frequently asked questions on our Visit page.
URL:https://nolensvillefbc.com/event/sunday-worship-service/2025-06-29/
LOCATION:Nolensville First Baptist Church\, 9624 Clovercroft Road\, Nolensville\, TN\, 37135\, United States
CATEGORIES:Worship
ORGANIZER;CN="Nolensville First Baptist Church":MAILTO:info@nolensvillefbc.com
END:VEVENT
BEGIN:VEVENT
DTSTART;TZID=America/Chicago:20250629T093000
DTEND;TZID=America/Chicago:20250629T103000
DTSTAMP:20260423T015509
CREATED:20250103T203741Z
LAST-MODIFIED:20250103T203741Z
UID:990000287-1751189400-1751193000@nolensvillefbc.com
SUMMARY:Sunday School
DESCRIPTION:Sunday School classes begin at 9:30 am. We have a nursery that is open for birth to age two. Our children’s Sunday School classes\, spanning from age three to High School\, are held on the second floor. In addition\, we offer two adult Sunday School classes. The co-ed adult class meets on the first floor of our Fellowship Hall building\, while the women’s class convenes in the main worship building.
URL:https://nolensvillefbc.com/event/sunday-school/2025-06-29/
LOCATION:Nolensville First Baptist Church\, 9624 Clovercroft Road\, Nolensville\, TN\, 37135\, United States
CATEGORIES:Sunday School
ORGANIZER;CN="Nolensville First Baptist Church":MAILTO:info@nolensvillefbc.com
END:VEVENT
BEGIN:VEVENT
DTSTART;VALUE=DATE:20250628
DTEND;VALUE=DATE:20250629
DTSTAMP:20260423T015509
CREATED:20250522T162606Z
LAST-MODIFIED:20250522T162606Z
UID:990001401-1751068800-1751155199@nolensvillefbc.com
SUMMARY:Summer Cookout
DESCRIPTION:This will be a time of fellowship while enjoying some fresh cooked hamburgers\, hotdogs and all the fixin’s. Time is current TBD. 
URL:https://nolensvillefbc.com/event/summer-cookout/
LOCATION:Nolensville First Baptist Church\, 9624 Clovercroft Road\, Nolensville\, TN\, 37135\, United States
CATEGORIES:Fellowship
ORGANIZER;CN="Nolensville First Baptist Church":MAILTO:info@nolensvillefbc.com
END:VEVENT
BEGIN:VEVENT
DTSTART;TZID=America/Chicago:20250627T090000
DTEND;TZID=America/Chicago:20250627T120000
DTSTAMP:20260423T015509
CREATED:20250410T170611Z
LAST-MODIFIED:20250622T171219Z
UID:990001334-1751014800-1751025600@nolensvillefbc.com
SUMMARY:Vacation Bible School (FULL)
DESCRIPTION:We are currently at max capacity. \nFor ages 3 years old to 10 years old. \n\nHowdy\, partners! Welcome to Wonder Junction! There’s no greater joy than to praise the name of the Lord all day long. But how can yer kids do that if they don’t know who Jesus is or what he’s done for them?\n\nHere at Wonder Junction\, we marvel at Jesus and live for his glory.
URL:https://nolensvillefbc.com/event/vacation-bible-school/2025-06-27/
LOCATION:Nolensville First Baptist Church\, 9624 Clovercroft Road\, Nolensville\, TN\, 37135\, United States
CATEGORIES:Youth
ATTACH;FMTTYPE=image/jpeg:https://nolensvillefbc.com/wp-content/uploads/2025/04/wonder-junction.jpg
ORGANIZER;CN="Nolensville First Baptist Church":MAILTO:info@nolensvillefbc.com
END:VEVENT
BEGIN:VEVENT
DTSTART;TZID=America/Chicago:20250626T090000
DTEND;TZID=America/Chicago:20250626T120000
DTSTAMP:20260423T015509
CREATED:20250410T170611Z
LAST-MODIFIED:20250622T171219Z
UID:990001333-1750928400-1750939200@nolensvillefbc.com
SUMMARY:Vacation Bible School (FULL)
DESCRIPTION:We are currently at max capacity. \nFor ages 3 years old to 10 years old. \n\nHowdy\, partners! Welcome to Wonder Junction! There’s no greater joy than to praise the name of the Lord all day long. But how can yer kids do that if they don’t know who Jesus is or what he’s done for them?\n\nHere at Wonder Junction\, we marvel at Jesus and live for his glory.
URL:https://nolensvillefbc.com/event/vacation-bible-school/2025-06-26/
LOCATION:Nolensville First Baptist Church\, 9624 Clovercroft Road\, Nolensville\, TN\, 37135\, United States
CATEGORIES:Youth
ATTACH;FMTTYPE=image/jpeg:https://nolensvillefbc.com/wp-content/uploads/2025/04/wonder-junction.jpg
ORGANIZER;CN="Nolensville First Baptist Church":MAILTO:info@nolensvillefbc.com
END:VEVENT
BEGIN:VEVENT
DTSTART;TZID=America/Chicago:20250625T190000
DTEND;TZID=America/Chicago:20250625T200000
DTSTAMP:20260423T015509
CREATED:20250103T204543Z
LAST-MODIFIED:20250402T163730Z
UID:990001069-1750878000-1750881600@nolensvillefbc.com
SUMMARY:Choir Practice
DESCRIPTION:Join the Nolensville First Baptist Choir!\nThe Nolensville Baptist Church Adult Choir is a wonderful opportunity to serve the Lord and share your musical talents. Join this vibrant group of men and women as they sing both contemporary and classic songs each Sunday. \nFour reasons to join our adult choir: \n\nSing to the Lord and Worship Him\nMeet New People\nRelieve Stress\nBe Uplifted\n\nNot everyone in the choir has to read music or be the best singer. Many choir members have no prior music experience. The choir practices every Wednesday night following the Wednesday night prayer group at approximately 6:45 pm. Come worship with us!
URL:https://nolensvillefbc.com/event/choir-practice/2025-06-25/
LOCATION:Nolensville First Baptist Church\, 9624 Clovercroft Road\, Nolensville\, TN\, 37135\, United States
CATEGORIES:Choir,Ministries
ORGANIZER;CN="Nolensville First Baptist Church":MAILTO:info@nolensvillefbc.com
END:VEVENT
BEGIN:VEVENT
DTSTART;TZID=America/Chicago:20250625T180000
DTEND;TZID=America/Chicago:20250625T190000
DTSTAMP:20260423T015509
CREATED:20250103T204907Z
LAST-MODIFIED:20250402T163756Z
UID:990000808-1750874400-1750878000@nolensvillefbc.com
SUMMARY:Wednesday Bible Study
DESCRIPTION:Join us for Wednesday Night Bible Study\nWednesday nights are a great mid-week Church service. Each week there is a brief time of prayer followed by a Bible Study led by Dr. Farmer.
URL:https://nolensvillefbc.com/event/wednesday-bible-study/2025-06-25/
LOCATION:Nolensville First Baptist Church\, 9624 Clovercroft Road\, Nolensville\, TN\, 37135\, United States
CATEGORIES:Worship
ORGANIZER;CN="Nolensville First Baptist Church":MAILTO:info@nolensvillefbc.com
END:VEVENT
BEGIN:VEVENT
DTSTART;TZID=America/Chicago:20250625T090000
DTEND;TZID=America/Chicago:20250625T120000
DTSTAMP:20260423T015509
CREATED:20250410T170611Z
LAST-MODIFIED:20250622T171219Z
UID:990001332-1750842000-1750852800@nolensvillefbc.com
SUMMARY:Vacation Bible School (FULL)
DESCRIPTION:We are currently at max capacity. \nFor ages 3 years old to 10 years old. \n\nHowdy\, partners! Welcome to Wonder Junction! There’s no greater joy than to praise the name of the Lord all day long. But how can yer kids do that if they don’t know who Jesus is or what he’s done for them?\n\nHere at Wonder Junction\, we marvel at Jesus and live for his glory.
URL:https://nolensvillefbc.com/event/vacation-bible-school/2025-06-25/
LOCATION:Nolensville First Baptist Church\, 9624 Clovercroft Road\, Nolensville\, TN\, 37135\, United States
CATEGORIES:Youth
ATTACH;FMTTYPE=image/jpeg:https://nolensvillefbc.com/wp-content/uploads/2025/04/wonder-junction.jpg
ORGANIZER;CN="Nolensville First Baptist Church":MAILTO:info@nolensvillefbc.com
END:VEVENT
BEGIN:VEVENT
DTSTART;TZID=America/Chicago:20250624T090000
DTEND;TZID=America/Chicago:20250624T120000
DTSTAMP:20260423T015509
CREATED:20250410T170611Z
LAST-MODIFIED:20250622T171219Z
UID:990001331-1750755600-1750766400@nolensvillefbc.com
SUMMARY:Vacation Bible School (FULL)
DESCRIPTION:We are currently at max capacity. \nFor ages 3 years old to 10 years old. \n\nHowdy\, partners! Welcome to Wonder Junction! There’s no greater joy than to praise the name of the Lord all day long. But how can yer kids do that if they don’t know who Jesus is or what he’s done for them?\n\nHere at Wonder Junction\, we marvel at Jesus and live for his glory.
URL:https://nolensvillefbc.com/event/vacation-bible-school/2025-06-24/
LOCATION:Nolensville First Baptist Church\, 9624 Clovercroft Road\, Nolensville\, TN\, 37135\, United States
CATEGORIES:Youth
ATTACH;FMTTYPE=image/jpeg:https://nolensvillefbc.com/wp-content/uploads/2025/04/wonder-junction.jpg
ORGANIZER;CN="Nolensville First Baptist Church":MAILTO:info@nolensvillefbc.com
END:VEVENT
BEGIN:VEVENT
DTSTART;TZID=America/Chicago:20250623T090000
DTEND;TZID=America/Chicago:20250623T120000
DTSTAMP:20260423T015509
CREATED:20250410T170611Z
LAST-MODIFIED:20250622T171219Z
UID:990001330-1750669200-1750680000@nolensvillefbc.com
SUMMARY:Vacation Bible School (FULL)
DESCRIPTION:We are currently at max capacity. \nFor ages 3 years old to 10 years old. \n\nHowdy\, partners! Welcome to Wonder Junction! There’s no greater joy than to praise the name of the Lord all day long. But how can yer kids do that if they don’t know who Jesus is or what he’s done for them?\n\nHere at Wonder Junction\, we marvel at Jesus and live for his glory.
URL:https://nolensvillefbc.com/event/vacation-bible-school/2025-06-23/
LOCATION:Nolensville First Baptist Church\, 9624 Clovercroft Road\, Nolensville\, TN\, 37135\, United States
CATEGORIES:Youth
ATTACH;FMTTYPE=image/jpeg:https://nolensvillefbc.com/wp-content/uploads/2025/04/wonder-junction.jpg
ORGANIZER;CN="Nolensville First Baptist Church":MAILTO:info@nolensvillefbc.com
END:VEVENT
BEGIN:VEVENT
DTSTART;TZID=America/Chicago:20250622T104500
DTEND;TZID=America/Chicago:20250622T114500
DTSTAMP:20260423T015509
CREATED:20250103T203523Z
LAST-MODIFIED:20250103T204947Z
UID:990000025-1750589100-1750592700@nolensvillefbc.com
SUMMARY:Sunday Worship Service
DESCRIPTION:Join Nolensville First Baptist Church for our weekly Sunday worship service. \nLearn about what to expect\, and read through our frequently asked questions on our Visit page.
URL:https://nolensvillefbc.com/event/sunday-worship-service/2025-06-22/
LOCATION:Nolensville First Baptist Church\, 9624 Clovercroft Road\, Nolensville\, TN\, 37135\, United States
CATEGORIES:Worship
ORGANIZER;CN="Nolensville First Baptist Church":MAILTO:info@nolensvillefbc.com
END:VEVENT
BEGIN:VEVENT
DTSTART;TZID=America/Chicago:20250622T093000
DTEND;TZID=America/Chicago:20250622T103000
DTSTAMP:20260423T015509
CREATED:20250103T203741Z
LAST-MODIFIED:20250103T203741Z
UID:990000286-1750584600-1750588200@nolensvillefbc.com
SUMMARY:Sunday School
DESCRIPTION:Sunday School classes begin at 9:30 am. We have a nursery that is open for birth to age two. Our children’s Sunday School classes\, spanning from age three to High School\, are held on the second floor. In addition\, we offer two adult Sunday School classes. The co-ed adult class meets on the first floor of our Fellowship Hall building\, while the women’s class convenes in the main worship building.
URL:https://nolensvillefbc.com/event/sunday-school/2025-06-22/
LOCATION:Nolensville First Baptist Church\, 9624 Clovercroft Road\, Nolensville\, TN\, 37135\, United States
CATEGORIES:Sunday School
ORGANIZER;CN="Nolensville First Baptist Church":MAILTO:info@nolensvillefbc.com
END:VEVENT
BEGIN:VEVENT
DTSTART;TZID=America/Chicago:20250621T080000
DTEND;TZID=America/Chicago:20250621T090000
DTSTAMP:20260423T015509
CREATED:20250428T181728Z
LAST-MODIFIED:20250522T162400Z
UID:990001341-1750492800-1750496400@nolensvillefbc.com
SUMMARY:Men's Breakfast
DESCRIPTION:Men will gather to enjoy a fresh cooked breakfast and fellowship in a brief Bible Study. All men are welcome!
URL:https://nolensvillefbc.com/event/mens-breakfast/2025-06-21/
LOCATION:Nolensville First Baptist Church\, 9624 Clovercroft Road\, Nolensville\, TN\, 37135\, United States
CATEGORIES:Men
ORGANIZER;CN="Nolensville First Baptist Church":MAILTO:info@nolensvillefbc.com
END:VEVENT
BEGIN:VEVENT
DTSTART;TZID=America/Chicago:20250618T190000
DTEND;TZID=America/Chicago:20250618T200000
DTSTAMP:20260423T015509
CREATED:20250103T204543Z
LAST-MODIFIED:20250402T163730Z
UID:990001068-1750273200-1750276800@nolensvillefbc.com
SUMMARY:Choir Practice
DESCRIPTION:Join the Nolensville First Baptist Choir!\nThe Nolensville Baptist Church Adult Choir is a wonderful opportunity to serve the Lord and share your musical talents. Join this vibrant group of men and women as they sing both contemporary and classic songs each Sunday. \nFour reasons to join our adult choir: \n\nSing to the Lord and Worship Him\nMeet New People\nRelieve Stress\nBe Uplifted\n\nNot everyone in the choir has to read music or be the best singer. Many choir members have no prior music experience. The choir practices every Wednesday night following the Wednesday night prayer group at approximately 6:45 pm. Come worship with us!
URL:https://nolensvillefbc.com/event/choir-practice/2025-06-18/
LOCATION:Nolensville First Baptist Church\, 9624 Clovercroft Road\, Nolensville\, TN\, 37135\, United States
CATEGORIES:Choir,Ministries
ORGANIZER;CN="Nolensville First Baptist Church":MAILTO:info@nolensvillefbc.com
END:VEVENT
BEGIN:VEVENT
DTSTART;TZID=America/Chicago:20250618T180000
DTEND;TZID=America/Chicago:20250618T190000
DTSTAMP:20260423T015509
CREATED:20250103T204907Z
LAST-MODIFIED:20250402T163756Z
UID:990000807-1750269600-1750273200@nolensvillefbc.com
SUMMARY:Wednesday Bible Study
DESCRIPTION:Join us for Wednesday Night Bible Study\nWednesday nights are a great mid-week Church service. Each week there is a brief time of prayer followed by a Bible Study led by Dr. Farmer.
URL:https://nolensvillefbc.com/event/wednesday-bible-study/2025-06-18/
LOCATION:Nolensville First Baptist Church\, 9624 Clovercroft Road\, Nolensville\, TN\, 37135\, United States
CATEGORIES:Worship
ORGANIZER;CN="Nolensville First Baptist Church":MAILTO:info@nolensvillefbc.com
END:VEVENT
BEGIN:VEVENT
DTSTART;TZID=America/Chicago:20250617T180000
DTEND;TZID=America/Chicago:20250617T190000
DTSTAMP:20260423T015509
CREATED:20250522T162249Z
LAST-MODIFIED:20250522T162302Z
UID:990001340-1750183200-1750186800@nolensvillefbc.com
SUMMARY:Women on Mission Meeting
DESCRIPTION:Women of the Church will gather for a light meal and will discuss upcoming mission opportunities.
URL:https://nolensvillefbc.com/event/women-on-mission-meeting-june-2025/
LOCATION:Nolensville First Baptist Church\, 9624 Clovercroft Road\, Nolensville\, TN\, 37135\, United States
CATEGORIES:Women
ORGANIZER;CN="Nolensville First Baptist Church":MAILTO:info@nolensvillefbc.com
END:VEVENT
BEGIN:VEVENT
DTSTART;TZID=America/Chicago:20250615T104500
DTEND;TZID=America/Chicago:20250615T114500
DTSTAMP:20260423T015509
CREATED:20250103T203523Z
LAST-MODIFIED:20250103T204947Z
UID:990000024-1749984300-1749987900@nolensvillefbc.com
SUMMARY:Sunday Worship Service
DESCRIPTION:Join Nolensville First Baptist Church for our weekly Sunday worship service. \nLearn about what to expect\, and read through our frequently asked questions on our Visit page.
URL:https://nolensvillefbc.com/event/sunday-worship-service/2025-06-15/
LOCATION:Nolensville First Baptist Church\, 9624 Clovercroft Road\, Nolensville\, TN\, 37135\, United States
CATEGORIES:Worship
ORGANIZER;CN="Nolensville First Baptist Church":MAILTO:info@nolensvillefbc.com
END:VEVENT
BEGIN:VEVENT
DTSTART;TZID=America/Chicago:20250615T093000
DTEND;TZID=America/Chicago:20250615T103000
DTSTAMP:20260423T015509
CREATED:20250103T203741Z
LAST-MODIFIED:20250103T203741Z
UID:990000285-1749979800-1749983400@nolensvillefbc.com
SUMMARY:Sunday School
DESCRIPTION:Sunday School classes begin at 9:30 am. We have a nursery that is open for birth to age two. Our children’s Sunday School classes\, spanning from age three to High School\, are held on the second floor. In addition\, we offer two adult Sunday School classes. The co-ed adult class meets on the first floor of our Fellowship Hall building\, while the women’s class convenes in the main worship building.
URL:https://nolensvillefbc.com/event/sunday-school/2025-06-15/
LOCATION:Nolensville First Baptist Church\, 9624 Clovercroft Road\, Nolensville\, TN\, 37135\, United States
CATEGORIES:Sunday School
ORGANIZER;CN="Nolensville First Baptist Church":MAILTO:info@nolensvillefbc.com
END:VEVENT
BEGIN:VEVENT
DTSTART;TZID=America/Chicago:20250611T190000
DTEND;TZID=America/Chicago:20250611T200000
DTSTAMP:20260423T015509
CREATED:20250103T204543Z
LAST-MODIFIED:20250402T163730Z
UID:990001067-1749668400-1749672000@nolensvillefbc.com
SUMMARY:Choir Practice
DESCRIPTION:Join the Nolensville First Baptist Choir!\nThe Nolensville Baptist Church Adult Choir is a wonderful opportunity to serve the Lord and share your musical talents. Join this vibrant group of men and women as they sing both contemporary and classic songs each Sunday. \nFour reasons to join our adult choir: \n\nSing to the Lord and Worship Him\nMeet New People\nRelieve Stress\nBe Uplifted\n\nNot everyone in the choir has to read music or be the best singer. Many choir members have no prior music experience. The choir practices every Wednesday night following the Wednesday night prayer group at approximately 6:45 pm. Come worship with us!
URL:https://nolensvillefbc.com/event/choir-practice/2025-06-11/
LOCATION:Nolensville First Baptist Church\, 9624 Clovercroft Road\, Nolensville\, TN\, 37135\, United States
CATEGORIES:Choir,Ministries
ORGANIZER;CN="Nolensville First Baptist Church":MAILTO:info@nolensvillefbc.com
END:VEVENT
BEGIN:VEVENT
DTSTART;TZID=America/Chicago:20250611T180000
DTEND;TZID=America/Chicago:20250611T190000
DTSTAMP:20260423T015509
CREATED:20250103T204907Z
LAST-MODIFIED:20250402T163756Z
UID:990000806-1749664800-1749668400@nolensvillefbc.com
SUMMARY:Wednesday Bible Study
DESCRIPTION:Join us for Wednesday Night Bible Study\nWednesday nights are a great mid-week Church service. Each week there is a brief time of prayer followed by a Bible Study led by Dr. Farmer.
URL:https://nolensvillefbc.com/event/wednesday-bible-study/2025-06-11/
LOCATION:Nolensville First Baptist Church\, 9624 Clovercroft Road\, Nolensville\, TN\, 37135\, United States
CATEGORIES:Worship
ORGANIZER;CN="Nolensville First Baptist Church":MAILTO:info@nolensvillefbc.com
END:VEVENT
BEGIN:VEVENT
DTSTART;TZID=America/Chicago:20250608T104500
DTEND;TZID=America/Chicago:20250608T114500
DTSTAMP:20260423T015509
CREATED:20250103T203523Z
LAST-MODIFIED:20250103T204947Z
UID:990000023-1749379500-1749383100@nolensvillefbc.com
SUMMARY:Sunday Worship Service
DESCRIPTION:Join Nolensville First Baptist Church for our weekly Sunday worship service. \nLearn about what to expect\, and read through our frequently asked questions on our Visit page.
URL:https://nolensvillefbc.com/event/sunday-worship-service/2025-06-08/
LOCATION:Nolensville First Baptist Church\, 9624 Clovercroft Road\, Nolensville\, TN\, 37135\, United States
CATEGORIES:Worship
ORGANIZER;CN="Nolensville First Baptist Church":MAILTO:info@nolensvillefbc.com
END:VEVENT
BEGIN:VEVENT
DTSTART;TZID=America/Chicago:20250608T093000
DTEND;TZID=America/Chicago:20250608T103000
DTSTAMP:20260423T015509
CREATED:20250103T203741Z
LAST-MODIFIED:20250103T203741Z
UID:990000284-1749375000-1749378600@nolensvillefbc.com
SUMMARY:Sunday School
DESCRIPTION:Sunday School classes begin at 9:30 am. We have a nursery that is open for birth to age two. Our children’s Sunday School classes\, spanning from age three to High School\, are held on the second floor. In addition\, we offer two adult Sunday School classes. The co-ed adult class meets on the first floor of our Fellowship Hall building\, while the women’s class convenes in the main worship building.
URL:https://nolensvillefbc.com/event/sunday-school/2025-06-08/
LOCATION:Nolensville First Baptist Church\, 9624 Clovercroft Road\, Nolensville\, TN\, 37135\, United States
CATEGORIES:Sunday School
ORGANIZER;CN="Nolensville First Baptist Church":MAILTO:info@nolensvillefbc.com
END:VEVENT
BEGIN:VEVENT
DTSTART;TZID=America/Chicago:20250604T190000
DTEND;TZID=America/Chicago:20250604T200000
DTSTAMP:20260423T015509
CREATED:20250103T204543Z
LAST-MODIFIED:20250402T163730Z
UID:990001066-1749063600-1749067200@nolensvillefbc.com
SUMMARY:Choir Practice
DESCRIPTION:Join the Nolensville First Baptist Choir!\nThe Nolensville Baptist Church Adult Choir is a wonderful opportunity to serve the Lord and share your musical talents. Join this vibrant group of men and women as they sing both contemporary and classic songs each Sunday. \nFour reasons to join our adult choir: \n\nSing to the Lord and Worship Him\nMeet New People\nRelieve Stress\nBe Uplifted\n\nNot everyone in the choir has to read music or be the best singer. Many choir members have no prior music experience. The choir practices every Wednesday night following the Wednesday night prayer group at approximately 6:45 pm. Come worship with us!
URL:https://nolensvillefbc.com/event/choir-practice/2025-06-04/
LOCATION:Nolensville First Baptist Church\, 9624 Clovercroft Road\, Nolensville\, TN\, 37135\, United States
CATEGORIES:Choir,Ministries
ORGANIZER;CN="Nolensville First Baptist Church":MAILTO:info@nolensvillefbc.com
END:VEVENT
BEGIN:VEVENT
DTSTART;TZID=America/Chicago:20250604T180000
DTEND;TZID=America/Chicago:20250604T190000
DTSTAMP:20260423T015509
CREATED:20250522T162144Z
LAST-MODIFIED:20250522T162144Z
UID:990001339-1749060000-1749063600@nolensvillefbc.com
SUMMARY:Business Meeting
DESCRIPTION:Monthly meeting to review the business items of the Church.
URL:https://nolensvillefbc.com/event/business-meeting-june-2025/
LOCATION:Nolensville First Baptist Church\, 9624 Clovercroft Road\, Nolensville\, TN\, 37135\, United States
CATEGORIES:Church Meetings
ORGANIZER;CN="Nolensville First Baptist Church":MAILTO:info@nolensvillefbc.com
END:VEVENT
BEGIN:VEVENT
DTSTART;TZID=America/Chicago:20250604T180000
DTEND;TZID=America/Chicago:20250604T190000
DTSTAMP:20260423T015509
CREATED:20250103T204907Z
LAST-MODIFIED:20250402T163756Z
UID:990000805-1749060000-1749063600@nolensvillefbc.com
SUMMARY:Wednesday Bible Study
DESCRIPTION:Join us for Wednesday Night Bible Study\nWednesday nights are a great mid-week Church service. Each week there is a brief time of prayer followed by a Bible Study led by Dr. Farmer.
URL:https://nolensvillefbc.com/event/wednesday-bible-study/2025-06-04/
LOCATION:Nolensville First Baptist Church\, 9624 Clovercroft Road\, Nolensville\, TN\, 37135\, United States
CATEGORIES:Worship
ORGANIZER;CN="Nolensville First Baptist Church":MAILTO:info@nolensvillefbc.com
END:VEVENT
BEGIN:VEVENT
DTSTART;TZID=America/Chicago:20250601T104500
DTEND;TZID=America/Chicago:20250601T114500
DTSTAMP:20260423T015509
CREATED:20250103T203523Z
LAST-MODIFIED:20250103T204947Z
UID:990000022-1748774700-1748778300@nolensvillefbc.com
SUMMARY:Sunday Worship Service
DESCRIPTION:Join Nolensville First Baptist Church for our weekly Sunday worship service. \nLearn about what to expect\, and read through our frequently asked questions on our Visit page.
URL:https://nolensvillefbc.com/event/sunday-worship-service/2025-06-01/
LOCATION:Nolensville First Baptist Church\, 9624 Clovercroft Road\, Nolensville\, TN\, 37135\, United States
CATEGORIES:Worship
ORGANIZER;CN="Nolensville First Baptist Church":MAILTO:info@nolensvillefbc.com
END:VEVENT
BEGIN:VEVENT
DTSTART;TZID=America/Chicago:20250601T093000
DTEND;TZID=America/Chicago:20250601T103000
DTSTAMP:20260423T015509
CREATED:20250103T203741Z
LAST-MODIFIED:20250103T203741Z
UID:990000283-1748770200-1748773800@nolensvillefbc.com
SUMMARY:Sunday School
DESCRIPTION:Sunday School classes begin at 9:30 am. We have a nursery that is open for birth to age two. Our children’s Sunday School classes\, spanning from age three to High School\, are held on the second floor. In addition\, we offer two adult Sunday School classes. The co-ed adult class meets on the first floor of our Fellowship Hall building\, while the women’s class convenes in the main worship building.
URL:https://nolensvillefbc.com/event/sunday-school/2025-06-01/
LOCATION:Nolensville First Baptist Church\, 9624 Clovercroft Road\, Nolensville\, TN\, 37135\, United States
CATEGORIES:Sunday School
ORGANIZER;CN="Nolensville First Baptist Church":MAILTO:info@nolensvillefbc.com
END:VEVENT
BEGIN:VEVENT
DTSTART;TZID=America/Chicago:20250528T190000
DTEND;TZID=America/Chicago:20250528T200000
DTSTAMP:20260423T015509
CREATED:20250103T204543Z
LAST-MODIFIED:20250402T163730Z
UID:990001065-1748458800-1748462400@nolensvillefbc.com
SUMMARY:Choir Practice
DESCRIPTION:Join the Nolensville First Baptist Choir!\nThe Nolensville Baptist Church Adult Choir is a wonderful opportunity to serve the Lord and share your musical talents. Join this vibrant group of men and women as they sing both contemporary and classic songs each Sunday. \nFour reasons to join our adult choir: \n\nSing to the Lord and Worship Him\nMeet New People\nRelieve Stress\nBe Uplifted\n\nNot everyone in the choir has to read music or be the best singer. Many choir members have no prior music experience. The choir practices every Wednesday night following the Wednesday night prayer group at approximately 6:45 pm. Come worship with us!
URL:https://nolensvillefbc.com/event/choir-practice/2025-05-28/
LOCATION:Nolensville First Baptist Church\, 9624 Clovercroft Road\, Nolensville\, TN\, 37135\, United States
CATEGORIES:Choir,Ministries
ORGANIZER;CN="Nolensville First Baptist Church":MAILTO:info@nolensvillefbc.com
END:VEVENT
END:VCALENDAR