BEGIN:VCALENDAR
VERSION:2.0
PRODID:-//Nolensville First Baptist Church - ECPv6.15.20//NONSGML v1.0//EN
CALSCALE:GREGORIAN
METHOD:PUBLISH
X-WR-CALNAME:Nolensville First Baptist Church
X-ORIGINAL-URL:https://nolensvillefbc.com
X-WR-CALDESC:Events for Nolensville First Baptist Church
REFRESH-INTERVAL;VALUE=DURATION:PT1H
X-Robots-Tag:noindex
X-PUBLISHED-TTL:PT1H
BEGIN:VTIMEZONE
TZID:America/Chicago
BEGIN:DAYLIGHT
TZOFFSETFROM:-0600
TZOFFSETTO:-0500
TZNAME:CDT
DTSTART:20260308T080000
END:DAYLIGHT
BEGIN:STANDARD
TZOFFSETFROM:-0500
TZOFFSETTO:-0600
TZNAME:CST
DTSTART:20261101T070000
END:STANDARD
BEGIN:DAYLIGHT
TZOFFSETFROM:-0600
TZOFFSETTO:-0500
TZNAME:CDT
DTSTART:20270314T080000
END:DAYLIGHT
BEGIN:STANDARD
TZOFFSETFROM:-0500
TZOFFSETTO:-0600
TZNAME:CST
DTSTART:20271107T070000
END:STANDARD
BEGIN:DAYLIGHT
TZOFFSETFROM:-0600
TZOFFSETTO:-0500
TZNAME:CDT
DTSTART:20280312T080000
END:DAYLIGHT
BEGIN:STANDARD
TZOFFSETFROM:-0500
TZOFFSETTO:-0600
TZNAME:CST
DTSTART:20281105T070000
END:STANDARD
END:VTIMEZONE
BEGIN:VEVENT
DTSTART;TZID=America/Chicago:20270519T190000
DTEND;TZID=America/Chicago:20270519T200000
DTSTAMP:20260424T215333
CREATED:20250103T204543Z
LAST-MODIFIED:20250402T163730Z
UID:990001168-1810753200-1810756800@nolensvillefbc.com
SUMMARY:Choir Practice
DESCRIPTION:Join the Nolensville First Baptist Choir!\nThe Nolensville Baptist Church Adult Choir is a wonderful opportunity to serve the Lord and share your musical talents. Join this vibrant group of men and women as they sing both contemporary and classic songs each Sunday. \nFour reasons to join our adult choir: \n\nSing to the Lord and Worship Him\nMeet New People\nRelieve Stress\nBe Uplifted\n\nNot everyone in the choir has to read music or be the best singer. Many choir members have no prior music experience. The choir practices every Wednesday night following the Wednesday night prayer group at approximately 6:45 pm. Come worship with us!
URL:https://nolensvillefbc.com/event/choir-practice/2027-05-19/
LOCATION:Nolensville First Baptist Church\, 9624 Clovercroft Road\, Nolensville\, TN\, 37135\, United States
CATEGORIES:Choir,Ministries
ORGANIZER;CN="Nolensville First Baptist Church":MAILTO:info@nolensvillefbc.com
END:VEVENT
BEGIN:VEVENT
DTSTART;TZID=America/Chicago:20270523T093000
DTEND;TZID=America/Chicago:20270523T103000
DTSTAMP:20260424T215333
CREATED:20250103T203741Z
LAST-MODIFIED:20250103T203741Z
UID:990000386-1811064600-1811068200@nolensvillefbc.com
SUMMARY:Sunday School
DESCRIPTION:Sunday School classes begin at 9:30 am. We have a nursery that is open for birth to age two. Our children’s Sunday School classes\, spanning from age three to High School\, are held on the second floor. In addition\, we offer two adult Sunday School classes. The co-ed adult class meets on the first floor of our Fellowship Hall building\, while the women’s class convenes in the main worship building.
URL:https://nolensvillefbc.com/event/sunday-school/2027-05-23/
LOCATION:Nolensville First Baptist Church\, 9624 Clovercroft Road\, Nolensville\, TN\, 37135\, United States
CATEGORIES:Sunday School
ORGANIZER;CN="Nolensville First Baptist Church":MAILTO:info@nolensvillefbc.com
END:VEVENT
BEGIN:VEVENT
DTSTART;TZID=America/Chicago:20270523T104500
DTEND;TZID=America/Chicago:20270523T114500
DTSTAMP:20260424T215333
CREATED:20250103T203523Z
LAST-MODIFIED:20250103T204947Z
UID:990000125-1811069100-1811072700@nolensvillefbc.com
SUMMARY:Sunday Worship Service
DESCRIPTION:Join Nolensville First Baptist Church for our weekly Sunday worship service. \nLearn about what to expect\, and read through our frequently asked questions on our Visit page.
URL:https://nolensvillefbc.com/event/sunday-worship-service/2027-05-23/
LOCATION:Nolensville First Baptist Church\, 9624 Clovercroft Road\, Nolensville\, TN\, 37135\, United States
CATEGORIES:Worship
ORGANIZER;CN="Nolensville First Baptist Church":MAILTO:info@nolensvillefbc.com
END:VEVENT
BEGIN:VEVENT
DTSTART;TZID=America/Chicago:20270526T180000
DTEND;TZID=America/Chicago:20270526T190000
DTSTAMP:20260424T215333
CREATED:20250103T204907Z
LAST-MODIFIED:20250402T163756Z
UID:990000908-1811354400-1811358000@nolensvillefbc.com
SUMMARY:Wednesday Bible Study
DESCRIPTION:Join us for Wednesday Night Bible Study\nWednesday nights are a great mid-week Church service. Each week there is a brief time of prayer followed by a Bible Study led by Dr. Farmer.
URL:https://nolensvillefbc.com/event/wednesday-bible-study/2027-05-26/
LOCATION:Nolensville First Baptist Church\, 9624 Clovercroft Road\, Nolensville\, TN\, 37135\, United States
CATEGORIES:Worship
ORGANIZER;CN="Nolensville First Baptist Church":MAILTO:info@nolensvillefbc.com
END:VEVENT
BEGIN:VEVENT
DTSTART;TZID=America/Chicago:20270526T190000
DTEND;TZID=America/Chicago:20270526T200000
DTSTAMP:20260424T215333
CREATED:20250103T204543Z
LAST-MODIFIED:20250402T163730Z
UID:990001169-1811358000-1811361600@nolensvillefbc.com
SUMMARY:Choir Practice
DESCRIPTION:Join the Nolensville First Baptist Choir!\nThe Nolensville Baptist Church Adult Choir is a wonderful opportunity to serve the Lord and share your musical talents. Join this vibrant group of men and women as they sing both contemporary and classic songs each Sunday. \nFour reasons to join our adult choir: \n\nSing to the Lord and Worship Him\nMeet New People\nRelieve Stress\nBe Uplifted\n\nNot everyone in the choir has to read music or be the best singer. Many choir members have no prior music experience. The choir practices every Wednesday night following the Wednesday night prayer group at approximately 6:45 pm. Come worship with us!
URL:https://nolensvillefbc.com/event/choir-practice/2027-05-26/
LOCATION:Nolensville First Baptist Church\, 9624 Clovercroft Road\, Nolensville\, TN\, 37135\, United States
CATEGORIES:Choir,Ministries
ORGANIZER;CN="Nolensville First Baptist Church":MAILTO:info@nolensvillefbc.com
END:VEVENT
BEGIN:VEVENT
DTSTART;TZID=America/Chicago:20270530T093000
DTEND;TZID=America/Chicago:20270530T103000
DTSTAMP:20260424T215333
CREATED:20250103T203741Z
LAST-MODIFIED:20250103T203741Z
UID:990000387-1811669400-1811673000@nolensvillefbc.com
SUMMARY:Sunday School
DESCRIPTION:Sunday School classes begin at 9:30 am. We have a nursery that is open for birth to age two. Our children’s Sunday School classes\, spanning from age three to High School\, are held on the second floor. In addition\, we offer two adult Sunday School classes. The co-ed adult class meets on the first floor of our Fellowship Hall building\, while the women’s class convenes in the main worship building.
URL:https://nolensvillefbc.com/event/sunday-school/2027-05-30/
LOCATION:Nolensville First Baptist Church\, 9624 Clovercroft Road\, Nolensville\, TN\, 37135\, United States
CATEGORIES:Sunday School
ORGANIZER;CN="Nolensville First Baptist Church":MAILTO:info@nolensvillefbc.com
END:VEVENT
BEGIN:VEVENT
DTSTART;TZID=America/Chicago:20270530T104500
DTEND;TZID=America/Chicago:20270530T114500
DTSTAMP:20260424T215333
CREATED:20250103T203523Z
LAST-MODIFIED:20250103T204947Z
UID:990000126-1811673900-1811677500@nolensvillefbc.com
SUMMARY:Sunday Worship Service
DESCRIPTION:Join Nolensville First Baptist Church for our weekly Sunday worship service. \nLearn about what to expect\, and read through our frequently asked questions on our Visit page.
URL:https://nolensvillefbc.com/event/sunday-worship-service/2027-05-30/
LOCATION:Nolensville First Baptist Church\, 9624 Clovercroft Road\, Nolensville\, TN\, 37135\, United States
CATEGORIES:Worship
ORGANIZER;CN="Nolensville First Baptist Church":MAILTO:info@nolensvillefbc.com
END:VEVENT
BEGIN:VEVENT
DTSTART;TZID=America/Chicago:20270530T104500
DTEND;TZID=America/Chicago:20270530T114500
DTSTAMP:20260424T215333
CREATED:20250522T164315Z
LAST-MODIFIED:20250522T164416Z
UID:990001431-1811673900-1811677500@nolensvillefbc.com
SUMMARY:Lord's Supper
DESCRIPTION:At the conclusion of the regular Sunday Worship service\, we will be observing the Lord’s Supper.
URL:https://nolensvillefbc.com/event/lords-supper/2027-05-30/
LOCATION:Nolensville First Baptist Church\, 9624 Clovercroft Road\, Nolensville\, TN\, 37135\, United States
CATEGORIES:Worship
ATTACH;FMTTYPE=image/jpeg:https://nolensvillefbc.com/wp-content/uploads/2025/05/Communion.jpg
ORGANIZER;CN="Nolensville First Baptist Church":MAILTO:info@nolensvillefbc.com
END:VEVENT
BEGIN:VEVENT
DTSTART;TZID=America/Chicago:20270602T180000
DTEND;TZID=America/Chicago:20270602T190000
DTSTAMP:20260424T215333
CREATED:20250103T204907Z
LAST-MODIFIED:20250402T163756Z
UID:990000909-1811959200-1811962800@nolensvillefbc.com
SUMMARY:Wednesday Bible Study
DESCRIPTION:Join us for Wednesday Night Bible Study\nWednesday nights are a great mid-week Church service. Each week there is a brief time of prayer followed by a Bible Study led by Dr. Farmer.
URL:https://nolensvillefbc.com/event/wednesday-bible-study/2027-06-02/
LOCATION:Nolensville First Baptist Church\, 9624 Clovercroft Road\, Nolensville\, TN\, 37135\, United States
CATEGORIES:Worship
ORGANIZER;CN="Nolensville First Baptist Church":MAILTO:info@nolensvillefbc.com
END:VEVENT
BEGIN:VEVENT
DTSTART;TZID=America/Chicago:20270602T190000
DTEND;TZID=America/Chicago:20270602T200000
DTSTAMP:20260424T215333
CREATED:20250103T204543Z
LAST-MODIFIED:20250402T163730Z
UID:990001170-1811962800-1811966400@nolensvillefbc.com
SUMMARY:Choir Practice
DESCRIPTION:Join the Nolensville First Baptist Choir!\nThe Nolensville Baptist Church Adult Choir is a wonderful opportunity to serve the Lord and share your musical talents. Join this vibrant group of men and women as they sing both contemporary and classic songs each Sunday. \nFour reasons to join our adult choir: \n\nSing to the Lord and Worship Him\nMeet New People\nRelieve Stress\nBe Uplifted\n\nNot everyone in the choir has to read music or be the best singer. Many choir members have no prior music experience. The choir practices every Wednesday night following the Wednesday night prayer group at approximately 6:45 pm. Come worship with us!
URL:https://nolensvillefbc.com/event/choir-practice/2027-06-02/
LOCATION:Nolensville First Baptist Church\, 9624 Clovercroft Road\, Nolensville\, TN\, 37135\, United States
CATEGORIES:Choir,Ministries
ORGANIZER;CN="Nolensville First Baptist Church":MAILTO:info@nolensvillefbc.com
END:VEVENT
BEGIN:VEVENT
DTSTART;TZID=America/Chicago:20270606T093000
DTEND;TZID=America/Chicago:20270606T103000
DTSTAMP:20260424T215333
CREATED:20250103T203741Z
LAST-MODIFIED:20250103T203741Z
UID:990000388-1812274200-1812277800@nolensvillefbc.com
SUMMARY:Sunday School
DESCRIPTION:Sunday School classes begin at 9:30 am. We have a nursery that is open for birth to age two. Our children’s Sunday School classes\, spanning from age three to High School\, are held on the second floor. In addition\, we offer two adult Sunday School classes. The co-ed adult class meets on the first floor of our Fellowship Hall building\, while the women’s class convenes in the main worship building.
URL:https://nolensvillefbc.com/event/sunday-school/2027-06-06/
LOCATION:Nolensville First Baptist Church\, 9624 Clovercroft Road\, Nolensville\, TN\, 37135\, United States
CATEGORIES:Sunday School
ORGANIZER;CN="Nolensville First Baptist Church":MAILTO:info@nolensvillefbc.com
END:VEVENT
BEGIN:VEVENT
DTSTART;TZID=America/Chicago:20270606T104500
DTEND;TZID=America/Chicago:20270606T114500
DTSTAMP:20260424T215333
CREATED:20250103T203523Z
LAST-MODIFIED:20250103T204947Z
UID:990000127-1812278700-1812282300@nolensvillefbc.com
SUMMARY:Sunday Worship Service
DESCRIPTION:Join Nolensville First Baptist Church for our weekly Sunday worship service. \nLearn about what to expect\, and read through our frequently asked questions on our Visit page.
URL:https://nolensvillefbc.com/event/sunday-worship-service/2027-06-06/
LOCATION:Nolensville First Baptist Church\, 9624 Clovercroft Road\, Nolensville\, TN\, 37135\, United States
CATEGORIES:Worship
ORGANIZER;CN="Nolensville First Baptist Church":MAILTO:info@nolensvillefbc.com
END:VEVENT
BEGIN:VEVENT
DTSTART;TZID=America/Chicago:20270609T180000
DTEND;TZID=America/Chicago:20270609T190000
DTSTAMP:20260424T215333
CREATED:20250103T204907Z
LAST-MODIFIED:20250402T163756Z
UID:990000910-1812564000-1812567600@nolensvillefbc.com
SUMMARY:Wednesday Bible Study
DESCRIPTION:Join us for Wednesday Night Bible Study\nWednesday nights are a great mid-week Church service. Each week there is a brief time of prayer followed by a Bible Study led by Dr. Farmer.
URL:https://nolensvillefbc.com/event/wednesday-bible-study/2027-06-09/
LOCATION:Nolensville First Baptist Church\, 9624 Clovercroft Road\, Nolensville\, TN\, 37135\, United States
CATEGORIES:Worship
ORGANIZER;CN="Nolensville First Baptist Church":MAILTO:info@nolensvillefbc.com
END:VEVENT
BEGIN:VEVENT
DTSTART;TZID=America/Chicago:20270609T190000
DTEND;TZID=America/Chicago:20270609T200000
DTSTAMP:20260424T215333
CREATED:20250103T204543Z
LAST-MODIFIED:20250402T163730Z
UID:990001171-1812567600-1812571200@nolensvillefbc.com
SUMMARY:Choir Practice
DESCRIPTION:Join the Nolensville First Baptist Choir!\nThe Nolensville Baptist Church Adult Choir is a wonderful opportunity to serve the Lord and share your musical talents. Join this vibrant group of men and women as they sing both contemporary and classic songs each Sunday. \nFour reasons to join our adult choir: \n\nSing to the Lord and Worship Him\nMeet New People\nRelieve Stress\nBe Uplifted\n\nNot everyone in the choir has to read music or be the best singer. Many choir members have no prior music experience. The choir practices every Wednesday night following the Wednesday night prayer group at approximately 6:45 pm. Come worship with us!
URL:https://nolensvillefbc.com/event/choir-practice/2027-06-09/
LOCATION:Nolensville First Baptist Church\, 9624 Clovercroft Road\, Nolensville\, TN\, 37135\, United States
CATEGORIES:Choir,Ministries
ORGANIZER;CN="Nolensville First Baptist Church":MAILTO:info@nolensvillefbc.com
END:VEVENT
BEGIN:VEVENT
DTSTART;TZID=America/Chicago:20270613T093000
DTEND;TZID=America/Chicago:20270613T103000
DTSTAMP:20260424T215333
CREATED:20250103T203741Z
LAST-MODIFIED:20250103T203741Z
UID:990000389-1812879000-1812882600@nolensvillefbc.com
SUMMARY:Sunday School
DESCRIPTION:Sunday School classes begin at 9:30 am. We have a nursery that is open for birth to age two. Our children’s Sunday School classes\, spanning from age three to High School\, are held on the second floor. In addition\, we offer two adult Sunday School classes. The co-ed adult class meets on the first floor of our Fellowship Hall building\, while the women’s class convenes in the main worship building.
URL:https://nolensvillefbc.com/event/sunday-school/2027-06-13/
LOCATION:Nolensville First Baptist Church\, 9624 Clovercroft Road\, Nolensville\, TN\, 37135\, United States
CATEGORIES:Sunday School
ORGANIZER;CN="Nolensville First Baptist Church":MAILTO:info@nolensvillefbc.com
END:VEVENT
BEGIN:VEVENT
DTSTART;TZID=America/Chicago:20270613T104500
DTEND;TZID=America/Chicago:20270613T114500
DTSTAMP:20260424T215333
CREATED:20250103T203523Z
LAST-MODIFIED:20250103T204947Z
UID:990000128-1812883500-1812887100@nolensvillefbc.com
SUMMARY:Sunday Worship Service
DESCRIPTION:Join Nolensville First Baptist Church for our weekly Sunday worship service. \nLearn about what to expect\, and read through our frequently asked questions on our Visit page.
URL:https://nolensvillefbc.com/event/sunday-worship-service/2027-06-13/
LOCATION:Nolensville First Baptist Church\, 9624 Clovercroft Road\, Nolensville\, TN\, 37135\, United States
CATEGORIES:Worship
ORGANIZER;CN="Nolensville First Baptist Church":MAILTO:info@nolensvillefbc.com
END:VEVENT
BEGIN:VEVENT
DTSTART;TZID=America/Chicago:20270616T180000
DTEND;TZID=America/Chicago:20270616T190000
DTSTAMP:20260424T215333
CREATED:20250103T204907Z
LAST-MODIFIED:20250402T163756Z
UID:990000911-1813168800-1813172400@nolensvillefbc.com
SUMMARY:Wednesday Bible Study
DESCRIPTION:Join us for Wednesday Night Bible Study\nWednesday nights are a great mid-week Church service. Each week there is a brief time of prayer followed by a Bible Study led by Dr. Farmer.
URL:https://nolensvillefbc.com/event/wednesday-bible-study/2027-06-16/
LOCATION:Nolensville First Baptist Church\, 9624 Clovercroft Road\, Nolensville\, TN\, 37135\, United States
CATEGORIES:Worship
ORGANIZER;CN="Nolensville First Baptist Church":MAILTO:info@nolensvillefbc.com
END:VEVENT
BEGIN:VEVENT
DTSTART;TZID=America/Chicago:20270616T190000
DTEND;TZID=America/Chicago:20270616T200000
DTSTAMP:20260424T215333
CREATED:20250103T204543Z
LAST-MODIFIED:20250402T163730Z
UID:990001172-1813172400-1813176000@nolensvillefbc.com
SUMMARY:Choir Practice
DESCRIPTION:Join the Nolensville First Baptist Choir!\nThe Nolensville Baptist Church Adult Choir is a wonderful opportunity to serve the Lord and share your musical talents. Join this vibrant group of men and women as they sing both contemporary and classic songs each Sunday. \nFour reasons to join our adult choir: \n\nSing to the Lord and Worship Him\nMeet New People\nRelieve Stress\nBe Uplifted\n\nNot everyone in the choir has to read music or be the best singer. Many choir members have no prior music experience. The choir practices every Wednesday night following the Wednesday night prayer group at approximately 6:45 pm. Come worship with us!
URL:https://nolensvillefbc.com/event/choir-practice/2027-06-16/
LOCATION:Nolensville First Baptist Church\, 9624 Clovercroft Road\, Nolensville\, TN\, 37135\, United States
CATEGORIES:Choir,Ministries
ORGANIZER;CN="Nolensville First Baptist Church":MAILTO:info@nolensvillefbc.com
END:VEVENT
BEGIN:VEVENT
DTSTART;TZID=America/Chicago:20270619T080000
DTEND;TZID=America/Chicago:20270619T090000
DTSTAMP:20260424T215333
CREATED:20250428T181728Z
LAST-MODIFIED:20250522T162400Z
UID:990001365-1813392000-1813395600@nolensvillefbc.com
SUMMARY:Men's Breakfast
DESCRIPTION:Men will gather to enjoy a fresh cooked breakfast and fellowship in a brief Bible Study. All men are welcome!
URL:https://nolensvillefbc.com/event/mens-breakfast/2027-06-19/
LOCATION:Nolensville First Baptist Church\, 9624 Clovercroft Road\, Nolensville\, TN\, 37135\, United States
CATEGORIES:Men
ORGANIZER;CN="Nolensville First Baptist Church":MAILTO:info@nolensvillefbc.com
END:VEVENT
BEGIN:VEVENT
DTSTART;TZID=America/Chicago:20270620T093000
DTEND;TZID=America/Chicago:20270620T103000
DTSTAMP:20260424T215333
CREATED:20250103T203741Z
LAST-MODIFIED:20250103T203741Z
UID:990000390-1813483800-1813487400@nolensvillefbc.com
SUMMARY:Sunday School
DESCRIPTION:Sunday School classes begin at 9:30 am. We have a nursery that is open for birth to age two. Our children’s Sunday School classes\, spanning from age three to High School\, are held on the second floor. In addition\, we offer two adult Sunday School classes. The co-ed adult class meets on the first floor of our Fellowship Hall building\, while the women’s class convenes in the main worship building.
URL:https://nolensvillefbc.com/event/sunday-school/2027-06-20/
LOCATION:Nolensville First Baptist Church\, 9624 Clovercroft Road\, Nolensville\, TN\, 37135\, United States
CATEGORIES:Sunday School
ORGANIZER;CN="Nolensville First Baptist Church":MAILTO:info@nolensvillefbc.com
END:VEVENT
BEGIN:VEVENT
DTSTART;TZID=America/Chicago:20270620T104500
DTEND;TZID=America/Chicago:20270620T114500
DTSTAMP:20260424T215333
CREATED:20250103T203523Z
LAST-MODIFIED:20250103T204947Z
UID:990000129-1813488300-1813491900@nolensvillefbc.com
SUMMARY:Sunday Worship Service
DESCRIPTION:Join Nolensville First Baptist Church for our weekly Sunday worship service. \nLearn about what to expect\, and read through our frequently asked questions on our Visit page.
URL:https://nolensvillefbc.com/event/sunday-worship-service/2027-06-20/
LOCATION:Nolensville First Baptist Church\, 9624 Clovercroft Road\, Nolensville\, TN\, 37135\, United States
CATEGORIES:Worship
ORGANIZER;CN="Nolensville First Baptist Church":MAILTO:info@nolensvillefbc.com
END:VEVENT
BEGIN:VEVENT
DTSTART;TZID=America/Chicago:20270623T180000
DTEND;TZID=America/Chicago:20270623T190000
DTSTAMP:20260424T215333
CREATED:20250103T204907Z
LAST-MODIFIED:20250402T163756Z
UID:990000912-1813773600-1813777200@nolensvillefbc.com
SUMMARY:Wednesday Bible Study
DESCRIPTION:Join us for Wednesday Night Bible Study\nWednesday nights are a great mid-week Church service. Each week there is a brief time of prayer followed by a Bible Study led by Dr. Farmer.
URL:https://nolensvillefbc.com/event/wednesday-bible-study/2027-06-23/
LOCATION:Nolensville First Baptist Church\, 9624 Clovercroft Road\, Nolensville\, TN\, 37135\, United States
CATEGORIES:Worship
ORGANIZER;CN="Nolensville First Baptist Church":MAILTO:info@nolensvillefbc.com
END:VEVENT
BEGIN:VEVENT
DTSTART;TZID=America/Chicago:20270623T190000
DTEND;TZID=America/Chicago:20270623T200000
DTSTAMP:20260424T215333
CREATED:20250103T204543Z
LAST-MODIFIED:20250402T163730Z
UID:990001173-1813777200-1813780800@nolensvillefbc.com
SUMMARY:Choir Practice
DESCRIPTION:Join the Nolensville First Baptist Choir!\nThe Nolensville Baptist Church Adult Choir is a wonderful opportunity to serve the Lord and share your musical talents. Join this vibrant group of men and women as they sing both contemporary and classic songs each Sunday. \nFour reasons to join our adult choir: \n\nSing to the Lord and Worship Him\nMeet New People\nRelieve Stress\nBe Uplifted\n\nNot everyone in the choir has to read music or be the best singer. Many choir members have no prior music experience. The choir practices every Wednesday night following the Wednesday night prayer group at approximately 6:45 pm. Come worship with us!
URL:https://nolensvillefbc.com/event/choir-practice/2027-06-23/
LOCATION:Nolensville First Baptist Church\, 9624 Clovercroft Road\, Nolensville\, TN\, 37135\, United States
CATEGORIES:Choir,Ministries
ORGANIZER;CN="Nolensville First Baptist Church":MAILTO:info@nolensvillefbc.com
END:VEVENT
BEGIN:VEVENT
DTSTART;TZID=America/Chicago:20270627T093000
DTEND;TZID=America/Chicago:20270627T103000
DTSTAMP:20260424T215333
CREATED:20250103T203741Z
LAST-MODIFIED:20250103T203741Z
UID:990000391-1814088600-1814092200@nolensvillefbc.com
SUMMARY:Sunday School
DESCRIPTION:Sunday School classes begin at 9:30 am. We have a nursery that is open for birth to age two. Our children’s Sunday School classes\, spanning from age three to High School\, are held on the second floor. In addition\, we offer two adult Sunday School classes. The co-ed adult class meets on the first floor of our Fellowship Hall building\, while the women’s class convenes in the main worship building.
URL:https://nolensvillefbc.com/event/sunday-school/2027-06-27/
LOCATION:Nolensville First Baptist Church\, 9624 Clovercroft Road\, Nolensville\, TN\, 37135\, United States
CATEGORIES:Sunday School
ORGANIZER;CN="Nolensville First Baptist Church":MAILTO:info@nolensvillefbc.com
END:VEVENT
BEGIN:VEVENT
DTSTART;TZID=America/Chicago:20270627T104500
DTEND;TZID=America/Chicago:20270627T114500
DTSTAMP:20260424T215333
CREATED:20250103T203523Z
LAST-MODIFIED:20250103T204947Z
UID:990000130-1814093100-1814096700@nolensvillefbc.com
SUMMARY:Sunday Worship Service
DESCRIPTION:Join Nolensville First Baptist Church for our weekly Sunday worship service. \nLearn about what to expect\, and read through our frequently asked questions on our Visit page.
URL:https://nolensvillefbc.com/event/sunday-worship-service/2027-06-27/
LOCATION:Nolensville First Baptist Church\, 9624 Clovercroft Road\, Nolensville\, TN\, 37135\, United States
CATEGORIES:Worship
ORGANIZER;CN="Nolensville First Baptist Church":MAILTO:info@nolensvillefbc.com
END:VEVENT
BEGIN:VEVENT
DTSTART;TZID=America/Chicago:20270630T180000
DTEND;TZID=America/Chicago:20270630T190000
DTSTAMP:20260424T215333
CREATED:20250103T204907Z
LAST-MODIFIED:20250402T163756Z
UID:990000913-1814378400-1814382000@nolensvillefbc.com
SUMMARY:Wednesday Bible Study
DESCRIPTION:Join us for Wednesday Night Bible Study\nWednesday nights are a great mid-week Church service. Each week there is a brief time of prayer followed by a Bible Study led by Dr. Farmer.
URL:https://nolensvillefbc.com/event/wednesday-bible-study/2027-06-30/
LOCATION:Nolensville First Baptist Church\, 9624 Clovercroft Road\, Nolensville\, TN\, 37135\, United States
CATEGORIES:Worship
ORGANIZER;CN="Nolensville First Baptist Church":MAILTO:info@nolensvillefbc.com
END:VEVENT
BEGIN:VEVENT
DTSTART;TZID=America/Chicago:20270630T190000
DTEND;TZID=America/Chicago:20270630T200000
DTSTAMP:20260424T215333
CREATED:20250103T204543Z
LAST-MODIFIED:20250402T163730Z
UID:990001174-1814382000-1814385600@nolensvillefbc.com
SUMMARY:Choir Practice
DESCRIPTION:Join the Nolensville First Baptist Choir!\nThe Nolensville Baptist Church Adult Choir is a wonderful opportunity to serve the Lord and share your musical talents. Join this vibrant group of men and women as they sing both contemporary and classic songs each Sunday. \nFour reasons to join our adult choir: \n\nSing to the Lord and Worship Him\nMeet New People\nRelieve Stress\nBe Uplifted\n\nNot everyone in the choir has to read music or be the best singer. Many choir members have no prior music experience. The choir practices every Wednesday night following the Wednesday night prayer group at approximately 6:45 pm. Come worship with us!
URL:https://nolensvillefbc.com/event/choir-practice/2027-06-30/
LOCATION:Nolensville First Baptist Church\, 9624 Clovercroft Road\, Nolensville\, TN\, 37135\, United States
CATEGORIES:Choir,Ministries
ORGANIZER;CN="Nolensville First Baptist Church":MAILTO:info@nolensvillefbc.com
END:VEVENT
BEGIN:VEVENT
DTSTART;TZID=America/Chicago:20270704T093000
DTEND;TZID=America/Chicago:20270704T103000
DTSTAMP:20260424T215333
CREATED:20250103T203741Z
LAST-MODIFIED:20250103T203741Z
UID:990000392-1814693400-1814697000@nolensvillefbc.com
SUMMARY:Sunday School
DESCRIPTION:Sunday School classes begin at 9:30 am. We have a nursery that is open for birth to age two. Our children’s Sunday School classes\, spanning from age three to High School\, are held on the second floor. In addition\, we offer two adult Sunday School classes. The co-ed adult class meets on the first floor of our Fellowship Hall building\, while the women’s class convenes in the main worship building.
URL:https://nolensvillefbc.com/event/sunday-school/2027-07-04/
LOCATION:Nolensville First Baptist Church\, 9624 Clovercroft Road\, Nolensville\, TN\, 37135\, United States
CATEGORIES:Sunday School
ORGANIZER;CN="Nolensville First Baptist Church":MAILTO:info@nolensvillefbc.com
END:VEVENT
BEGIN:VEVENT
DTSTART;TZID=America/Chicago:20270704T104500
DTEND;TZID=America/Chicago:20270704T114500
DTSTAMP:20260424T215333
CREATED:20250103T203523Z
LAST-MODIFIED:20250103T204947Z
UID:990000131-1814697900-1814701500@nolensvillefbc.com
SUMMARY:Sunday Worship Service
DESCRIPTION:Join Nolensville First Baptist Church for our weekly Sunday worship service. \nLearn about what to expect\, and read through our frequently asked questions on our Visit page.
URL:https://nolensvillefbc.com/event/sunday-worship-service/2027-07-04/
LOCATION:Nolensville First Baptist Church\, 9624 Clovercroft Road\, Nolensville\, TN\, 37135\, United States
CATEGORIES:Worship
ORGANIZER;CN="Nolensville First Baptist Church":MAILTO:info@nolensvillefbc.com
END:VEVENT
BEGIN:VEVENT
DTSTART;TZID=America/Chicago:20270707T180000
DTEND;TZID=America/Chicago:20270707T190000
DTSTAMP:20260424T215333
CREATED:20250103T204907Z
LAST-MODIFIED:20250402T163756Z
UID:990000914-1814983200-1814986800@nolensvillefbc.com
SUMMARY:Wednesday Bible Study
DESCRIPTION:Join us for Wednesday Night Bible Study\nWednesday nights are a great mid-week Church service. Each week there is a brief time of prayer followed by a Bible Study led by Dr. Farmer.
URL:https://nolensvillefbc.com/event/wednesday-bible-study/2027-07-07/
LOCATION:Nolensville First Baptist Church\, 9624 Clovercroft Road\, Nolensville\, TN\, 37135\, United States
CATEGORIES:Worship
ORGANIZER;CN="Nolensville First Baptist Church":MAILTO:info@nolensvillefbc.com
END:VEVENT
END:VCALENDAR