BEGIN:VCALENDAR
VERSION:2.0
PRODID:-//Nolensville First Baptist Church - ECPv6.15.20//NONSGML v1.0//EN
CALSCALE:GREGORIAN
METHOD:PUBLISH
X-WR-CALNAME:Nolensville First Baptist Church
X-ORIGINAL-URL:https://nolensvillefbc.com
X-WR-CALDESC:Events for Nolensville First Baptist Church
REFRESH-INTERVAL;VALUE=DURATION:PT1H
X-Robots-Tag:noindex
X-PUBLISHED-TTL:PT1H
BEGIN:VTIMEZONE
TZID:America/Chicago
BEGIN:DAYLIGHT
TZOFFSETFROM:-0600
TZOFFSETTO:-0500
TZNAME:CDT
DTSTART:20240310T080000
END:DAYLIGHT
BEGIN:STANDARD
TZOFFSETFROM:-0500
TZOFFSETTO:-0600
TZNAME:CST
DTSTART:20241103T070000
END:STANDARD
BEGIN:DAYLIGHT
TZOFFSETFROM:-0600
TZOFFSETTO:-0500
TZNAME:CDT
DTSTART:20250309T080000
END:DAYLIGHT
BEGIN:STANDARD
TZOFFSETFROM:-0500
TZOFFSETTO:-0600
TZNAME:CST
DTSTART:20251102T070000
END:STANDARD
BEGIN:DAYLIGHT
TZOFFSETFROM:-0600
TZOFFSETTO:-0500
TZNAME:CDT
DTSTART:20260308T080000
END:DAYLIGHT
BEGIN:STANDARD
TZOFFSETFROM:-0500
TZOFFSETTO:-0600
TZNAME:CST
DTSTART:20261101T070000
END:STANDARD
END:VTIMEZONE
BEGIN:VEVENT
DTSTART;TZID=America/Chicago:20250823T080000
DTEND;TZID=America/Chicago:20250823T090000
DTSTAMP:20260422T210736
CREATED:20250811T174216Z
LAST-MODIFIED:20250811T174216Z
UID:990001448-1755936000-1755939600@nolensvillefbc.com
SUMMARY:Men's Breakfast
DESCRIPTION:Men will gather to enjoy a fresh cooked breakfast and fellowship in a brief Bible Study. All men are welcome!
URL:https://nolensvillefbc.com/event/mens-breakfast-2/
LOCATION:Nolensville First Baptist Church\, 9624 Clovercroft Road\, Nolensville\, TN\, 37135\, United States
CATEGORIES:Men,Ministries
ORGANIZER;CN="Nolensville First Baptist Church":MAILTO:info@nolensvillefbc.com
END:VEVENT
BEGIN:VEVENT
DTSTART;TZID=America/Chicago:20250820T190000
DTEND;TZID=America/Chicago:20250820T200000
DTSTAMP:20260422T210736
CREATED:20250103T204543Z
LAST-MODIFIED:20250402T163730Z
UID:990001077-1755716400-1755720000@nolensvillefbc.com
SUMMARY:Choir Practice
DESCRIPTION:Join the Nolensville First Baptist Choir!\nThe Nolensville Baptist Church Adult Choir is a wonderful opportunity to serve the Lord and share your musical talents. Join this vibrant group of men and women as they sing both contemporary and classic songs each Sunday. \nFour reasons to join our adult choir: \n\nSing to the Lord and Worship Him\nMeet New People\nRelieve Stress\nBe Uplifted\n\nNot everyone in the choir has to read music or be the best singer. Many choir members have no prior music experience. The choir practices every Wednesday night following the Wednesday night prayer group at approximately 6:45 pm. Come worship with us!
URL:https://nolensvillefbc.com/event/choir-practice/2025-08-20/
LOCATION:Nolensville First Baptist Church\, 9624 Clovercroft Road\, Nolensville\, TN\, 37135\, United States
CATEGORIES:Choir,Ministries
ORGANIZER;CN="Nolensville First Baptist Church":MAILTO:info@nolensvillefbc.com
END:VEVENT
BEGIN:VEVENT
DTSTART;TZID=America/Chicago:20250820T180000
DTEND;TZID=America/Chicago:20250820T190000
DTSTAMP:20260422T210736
CREATED:20250103T204907Z
LAST-MODIFIED:20250402T163756Z
UID:990000816-1755712800-1755716400@nolensvillefbc.com
SUMMARY:Wednesday Bible Study
DESCRIPTION:Join us for Wednesday Night Bible Study\nWednesday nights are a great mid-week Church service. Each week there is a brief time of prayer followed by a Bible Study led by Dr. Farmer.
URL:https://nolensvillefbc.com/event/wednesday-bible-study/2025-08-20/
LOCATION:Nolensville First Baptist Church\, 9624 Clovercroft Road\, Nolensville\, TN\, 37135\, United States
CATEGORIES:Worship
ORGANIZER;CN="Nolensville First Baptist Church":MAILTO:info@nolensvillefbc.com
END:VEVENT
BEGIN:VEVENT
DTSTART;TZID=America/Chicago:20250819T180000
DTEND;TZID=America/Chicago:20250819T190000
DTSTAMP:20260422T210736
CREATED:20250811T174119Z
LAST-MODIFIED:20250811T174119Z
UID:990001447-1755626400-1755630000@nolensvillefbc.com
SUMMARY:Women on Mission Meeting
DESCRIPTION:Women of the Church will gather for a light meal and will discuss upcoming mission opportunities.
URL:https://nolensvillefbc.com/event/women-on-mission-meeting-2/
LOCATION:Nolensville First Baptist Church\, 9624 Clovercroft Road\, Nolensville\, TN\, 37135\, United States
CATEGORIES:Ministries,Women
ORGANIZER;CN="Nolensville First Baptist Church":MAILTO:info@nolensvillefbc.com
END:VEVENT
BEGIN:VEVENT
DTSTART;TZID=America/Chicago:20250817T104500
DTEND;TZID=America/Chicago:20250817T114500
DTSTAMP:20260422T210736
CREATED:20250103T203523Z
LAST-MODIFIED:20250103T204947Z
UID:990000033-1755427500-1755431100@nolensvillefbc.com
SUMMARY:Sunday Worship Service
DESCRIPTION:Join Nolensville First Baptist Church for our weekly Sunday worship service. \nLearn about what to expect\, and read through our frequently asked questions on our Visit page.
URL:https://nolensvillefbc.com/event/sunday-worship-service/2025-08-17/
LOCATION:Nolensville First Baptist Church\, 9624 Clovercroft Road\, Nolensville\, TN\, 37135\, United States
CATEGORIES:Worship
ORGANIZER;CN="Nolensville First Baptist Church":MAILTO:info@nolensvillefbc.com
END:VEVENT
BEGIN:VEVENT
DTSTART;TZID=America/Chicago:20250817T093000
DTEND;TZID=America/Chicago:20250817T103000
DTSTAMP:20260422T210736
CREATED:20250103T203741Z
LAST-MODIFIED:20250103T203741Z
UID:990000294-1755423000-1755426600@nolensvillefbc.com
SUMMARY:Sunday School
DESCRIPTION:Sunday School classes begin at 9:30 am. We have a nursery that is open for birth to age two. Our children’s Sunday School classes\, spanning from age three to High School\, are held on the second floor. In addition\, we offer two adult Sunday School classes. The co-ed adult class meets on the first floor of our Fellowship Hall building\, while the women’s class convenes in the main worship building.
URL:https://nolensvillefbc.com/event/sunday-school/2025-08-17/
LOCATION:Nolensville First Baptist Church\, 9624 Clovercroft Road\, Nolensville\, TN\, 37135\, United States
CATEGORIES:Sunday School
ORGANIZER;CN="Nolensville First Baptist Church":MAILTO:info@nolensvillefbc.com
END:VEVENT
BEGIN:VEVENT
DTSTART;TZID=America/Chicago:20250816T080000
DTEND;TZID=America/Chicago:20250816T090000
DTSTAMP:20260422T210736
CREATED:20250428T181728Z
LAST-MODIFIED:20250522T162400Z
UID:990001343-1755331200-1755334800@nolensvillefbc.com
SUMMARY:Men's Breakfast
DESCRIPTION:Men will gather to enjoy a fresh cooked breakfast and fellowship in a brief Bible Study. All men are welcome!
URL:https://nolensvillefbc.com/event/mens-breakfast/2025-08-16/
LOCATION:Nolensville First Baptist Church\, 9624 Clovercroft Road\, Nolensville\, TN\, 37135\, United States
CATEGORIES:Men
ORGANIZER;CN="Nolensville First Baptist Church":MAILTO:info@nolensvillefbc.com
END:VEVENT
BEGIN:VEVENT
DTSTART;TZID=America/Chicago:20250813T190000
DTEND;TZID=America/Chicago:20250813T200000
DTSTAMP:20260422T210736
CREATED:20250103T204543Z
LAST-MODIFIED:20250402T163730Z
UID:990001076-1755111600-1755115200@nolensvillefbc.com
SUMMARY:Choir Practice
DESCRIPTION:Join the Nolensville First Baptist Choir!\nThe Nolensville Baptist Church Adult Choir is a wonderful opportunity to serve the Lord and share your musical talents. Join this vibrant group of men and women as they sing both contemporary and classic songs each Sunday. \nFour reasons to join our adult choir: \n\nSing to the Lord and Worship Him\nMeet New People\nRelieve Stress\nBe Uplifted\n\nNot everyone in the choir has to read music or be the best singer. Many choir members have no prior music experience. The choir practices every Wednesday night following the Wednesday night prayer group at approximately 6:45 pm. Come worship with us!
URL:https://nolensvillefbc.com/event/choir-practice/2025-08-13/
LOCATION:Nolensville First Baptist Church\, 9624 Clovercroft Road\, Nolensville\, TN\, 37135\, United States
CATEGORIES:Choir,Ministries
ORGANIZER;CN="Nolensville First Baptist Church":MAILTO:info@nolensvillefbc.com
END:VEVENT
BEGIN:VEVENT
DTSTART;TZID=America/Chicago:20250813T180000
DTEND;TZID=America/Chicago:20250813T190000
DTSTAMP:20260422T210736
CREATED:20250103T204907Z
LAST-MODIFIED:20250402T163756Z
UID:990000815-1755108000-1755111600@nolensvillefbc.com
SUMMARY:Wednesday Bible Study
DESCRIPTION:Join us for Wednesday Night Bible Study\nWednesday nights are a great mid-week Church service. Each week there is a brief time of prayer followed by a Bible Study led by Dr. Farmer.
URL:https://nolensvillefbc.com/event/wednesday-bible-study/2025-08-13/
LOCATION:Nolensville First Baptist Church\, 9624 Clovercroft Road\, Nolensville\, TN\, 37135\, United States
CATEGORIES:Worship
ORGANIZER;CN="Nolensville First Baptist Church":MAILTO:info@nolensvillefbc.com
END:VEVENT
BEGIN:VEVENT
DTSTART;TZID=America/Chicago:20250810T104500
DTEND;TZID=America/Chicago:20250810T114500
DTSTAMP:20260422T210736
CREATED:20250103T203523Z
LAST-MODIFIED:20250103T204947Z
UID:990000032-1754822700-1754826300@nolensvillefbc.com
SUMMARY:Sunday Worship Service
DESCRIPTION:Join Nolensville First Baptist Church for our weekly Sunday worship service. \nLearn about what to expect\, and read through our frequently asked questions on our Visit page.
URL:https://nolensvillefbc.com/event/sunday-worship-service/2025-08-10/
LOCATION:Nolensville First Baptist Church\, 9624 Clovercroft Road\, Nolensville\, TN\, 37135\, United States
CATEGORIES:Worship
ORGANIZER;CN="Nolensville First Baptist Church":MAILTO:info@nolensvillefbc.com
END:VEVENT
BEGIN:VEVENT
DTSTART;TZID=America/Chicago:20250810T093000
DTEND;TZID=America/Chicago:20250810T103000
DTSTAMP:20260422T210736
CREATED:20250103T203741Z
LAST-MODIFIED:20250103T203741Z
UID:990000293-1754818200-1754821800@nolensvillefbc.com
SUMMARY:Sunday School
DESCRIPTION:Sunday School classes begin at 9:30 am. We have a nursery that is open for birth to age two. Our children’s Sunday School classes\, spanning from age three to High School\, are held on the second floor. In addition\, we offer two adult Sunday School classes. The co-ed adult class meets on the first floor of our Fellowship Hall building\, while the women’s class convenes in the main worship building.
URL:https://nolensvillefbc.com/event/sunday-school/2025-08-10/
LOCATION:Nolensville First Baptist Church\, 9624 Clovercroft Road\, Nolensville\, TN\, 37135\, United States
CATEGORIES:Sunday School
ORGANIZER;CN="Nolensville First Baptist Church":MAILTO:info@nolensvillefbc.com
END:VEVENT
BEGIN:VEVENT
DTSTART;TZID=America/Chicago:20250806T190000
DTEND;TZID=America/Chicago:20250806T200000
DTSTAMP:20260422T210736
CREATED:20250103T204543Z
LAST-MODIFIED:20250402T163730Z
UID:990001075-1754506800-1754510400@nolensvillefbc.com
SUMMARY:Choir Practice
DESCRIPTION:Join the Nolensville First Baptist Choir!\nThe Nolensville Baptist Church Adult Choir is a wonderful opportunity to serve the Lord and share your musical talents. Join this vibrant group of men and women as they sing both contemporary and classic songs each Sunday. \nFour reasons to join our adult choir: \n\nSing to the Lord and Worship Him\nMeet New People\nRelieve Stress\nBe Uplifted\n\nNot everyone in the choir has to read music or be the best singer. Many choir members have no prior music experience. The choir practices every Wednesday night following the Wednesday night prayer group at approximately 6:45 pm. Come worship with us!
URL:https://nolensvillefbc.com/event/choir-practice/2025-08-06/
LOCATION:Nolensville First Baptist Church\, 9624 Clovercroft Road\, Nolensville\, TN\, 37135\, United States
CATEGORIES:Choir,Ministries
ORGANIZER;CN="Nolensville First Baptist Church":MAILTO:info@nolensvillefbc.com
END:VEVENT
BEGIN:VEVENT
DTSTART;TZID=America/Chicago:20250806T180000
DTEND;TZID=America/Chicago:20250806T190000
DTSTAMP:20260422T210736
CREATED:20250103T204907Z
LAST-MODIFIED:20250402T163756Z
UID:990000814-1754503200-1754506800@nolensvillefbc.com
SUMMARY:Wednesday Bible Study
DESCRIPTION:Join us for Wednesday Night Bible Study\nWednesday nights are a great mid-week Church service. Each week there is a brief time of prayer followed by a Bible Study led by Dr. Farmer.
URL:https://nolensvillefbc.com/event/wednesday-bible-study/2025-08-06/
LOCATION:Nolensville First Baptist Church\, 9624 Clovercroft Road\, Nolensville\, TN\, 37135\, United States
CATEGORIES:Worship
ORGANIZER;CN="Nolensville First Baptist Church":MAILTO:info@nolensvillefbc.com
END:VEVENT
BEGIN:VEVENT
DTSTART;TZID=America/Chicago:20250803T104500
DTEND;TZID=America/Chicago:20250803T114500
DTSTAMP:20260422T210736
CREATED:20250103T203523Z
LAST-MODIFIED:20250103T204947Z
UID:990000031-1754217900-1754221500@nolensvillefbc.com
SUMMARY:Sunday Worship Service
DESCRIPTION:Join Nolensville First Baptist Church for our weekly Sunday worship service. \nLearn about what to expect\, and read through our frequently asked questions on our Visit page.
URL:https://nolensvillefbc.com/event/sunday-worship-service/2025-08-03/
LOCATION:Nolensville First Baptist Church\, 9624 Clovercroft Road\, Nolensville\, TN\, 37135\, United States
CATEGORIES:Worship
ORGANIZER;CN="Nolensville First Baptist Church":MAILTO:info@nolensvillefbc.com
END:VEVENT
BEGIN:VEVENT
DTSTART;TZID=America/Chicago:20250803T093000
DTEND;TZID=America/Chicago:20250803T103000
DTSTAMP:20260422T210736
CREATED:20250103T203741Z
LAST-MODIFIED:20250103T203741Z
UID:990000292-1754213400-1754217000@nolensvillefbc.com
SUMMARY:Sunday School
DESCRIPTION:Sunday School classes begin at 9:30 am. We have a nursery that is open for birth to age two. Our children’s Sunday School classes\, spanning from age three to High School\, are held on the second floor. In addition\, we offer two adult Sunday School classes. The co-ed adult class meets on the first floor of our Fellowship Hall building\, while the women’s class convenes in the main worship building.
URL:https://nolensvillefbc.com/event/sunday-school/2025-08-03/
LOCATION:Nolensville First Baptist Church\, 9624 Clovercroft Road\, Nolensville\, TN\, 37135\, United States
CATEGORIES:Sunday School
ORGANIZER;CN="Nolensville First Baptist Church":MAILTO:info@nolensvillefbc.com
END:VEVENT
BEGIN:VEVENT
DTSTART;TZID=America/Chicago:20250730T190000
DTEND;TZID=America/Chicago:20250730T200000
DTSTAMP:20260422T210736
CREATED:20250103T204543Z
LAST-MODIFIED:20250402T163730Z
UID:990001074-1753902000-1753905600@nolensvillefbc.com
SUMMARY:Choir Practice
DESCRIPTION:Join the Nolensville First Baptist Choir!\nThe Nolensville Baptist Church Adult Choir is a wonderful opportunity to serve the Lord and share your musical talents. Join this vibrant group of men and women as they sing both contemporary and classic songs each Sunday. \nFour reasons to join our adult choir: \n\nSing to the Lord and Worship Him\nMeet New People\nRelieve Stress\nBe Uplifted\n\nNot everyone in the choir has to read music or be the best singer. Many choir members have no prior music experience. The choir practices every Wednesday night following the Wednesday night prayer group at approximately 6:45 pm. Come worship with us!
URL:https://nolensvillefbc.com/event/choir-practice/2025-07-30/
LOCATION:Nolensville First Baptist Church\, 9624 Clovercroft Road\, Nolensville\, TN\, 37135\, United States
CATEGORIES:Choir,Ministries
ORGANIZER;CN="Nolensville First Baptist Church":MAILTO:info@nolensvillefbc.com
END:VEVENT
BEGIN:VEVENT
DTSTART;TZID=America/Chicago:20250730T180000
DTEND;TZID=America/Chicago:20250730T190000
DTSTAMP:20260422T210736
CREATED:20250103T204907Z
LAST-MODIFIED:20250402T163756Z
UID:990000813-1753898400-1753902000@nolensvillefbc.com
SUMMARY:Wednesday Bible Study
DESCRIPTION:Join us for Wednesday Night Bible Study\nWednesday nights are a great mid-week Church service. Each week there is a brief time of prayer followed by a Bible Study led by Dr. Farmer.
URL:https://nolensvillefbc.com/event/wednesday-bible-study/2025-07-30/
LOCATION:Nolensville First Baptist Church\, 9624 Clovercroft Road\, Nolensville\, TN\, 37135\, United States
CATEGORIES:Worship
ORGANIZER;CN="Nolensville First Baptist Church":MAILTO:info@nolensvillefbc.com
END:VEVENT
BEGIN:VEVENT
DTSTART;TZID=America/Chicago:20250727T180000
DTEND;TZID=America/Chicago:20250727T190000
DTSTAMP:20260422T210736
CREATED:20250707T160555Z
LAST-MODIFIED:20250707T160555Z
UID:990001446-1753639200-1753642800@nolensvillefbc.com
SUMMARY:Night of Prayer
DESCRIPTION:This will be a time of prayer focused on the upcoming schoolyear with a time of fellowship and light snacks to follow. TIME TBD
URL:https://nolensvillefbc.com/event/night-of-prayer/
LOCATION:Nolensville First Baptist Church\, 9624 Clovercroft Road\, Nolensville\, TN\, 37135\, United States
CATEGORIES:Ministries,Women
ORGANIZER;CN="Nolensville First Baptist Church":MAILTO:info@nolensvillefbc.com
END:VEVENT
BEGIN:VEVENT
DTSTART;TZID=America/Chicago:20250727T104500
DTEND;TZID=America/Chicago:20250727T114500
DTSTAMP:20260422T210736
CREATED:20250103T203523Z
LAST-MODIFIED:20250103T204947Z
UID:990000030-1753613100-1753616700@nolensvillefbc.com
SUMMARY:Sunday Worship Service
DESCRIPTION:Join Nolensville First Baptist Church for our weekly Sunday worship service. \nLearn about what to expect\, and read through our frequently asked questions on our Visit page.
URL:https://nolensvillefbc.com/event/sunday-worship-service/2025-07-27/
LOCATION:Nolensville First Baptist Church\, 9624 Clovercroft Road\, Nolensville\, TN\, 37135\, United States
CATEGORIES:Worship
ORGANIZER;CN="Nolensville First Baptist Church":MAILTO:info@nolensvillefbc.com
END:VEVENT
BEGIN:VEVENT
DTSTART;TZID=America/Chicago:20250727T093000
DTEND;TZID=America/Chicago:20250727T103000
DTSTAMP:20260422T210736
CREATED:20250103T203741Z
LAST-MODIFIED:20250103T203741Z
UID:990000291-1753608600-1753612200@nolensvillefbc.com
SUMMARY:Sunday School
DESCRIPTION:Sunday School classes begin at 9:30 am. We have a nursery that is open for birth to age two. Our children’s Sunday School classes\, spanning from age three to High School\, are held on the second floor. In addition\, we offer two adult Sunday School classes. The co-ed adult class meets on the first floor of our Fellowship Hall building\, while the women’s class convenes in the main worship building.
URL:https://nolensvillefbc.com/event/sunday-school/2025-07-27/
LOCATION:Nolensville First Baptist Church\, 9624 Clovercroft Road\, Nolensville\, TN\, 37135\, United States
CATEGORIES:Sunday School
ORGANIZER;CN="Nolensville First Baptist Church":MAILTO:info@nolensvillefbc.com
END:VEVENT
BEGIN:VEVENT
DTSTART;TZID=America/Chicago:20250723T190000
DTEND;TZID=America/Chicago:20250723T200000
DTSTAMP:20260422T210736
CREATED:20250103T204543Z
LAST-MODIFIED:20250402T163730Z
UID:990001073-1753297200-1753300800@nolensvillefbc.com
SUMMARY:Choir Practice
DESCRIPTION:Join the Nolensville First Baptist Choir!\nThe Nolensville Baptist Church Adult Choir is a wonderful opportunity to serve the Lord and share your musical talents. Join this vibrant group of men and women as they sing both contemporary and classic songs each Sunday. \nFour reasons to join our adult choir: \n\nSing to the Lord and Worship Him\nMeet New People\nRelieve Stress\nBe Uplifted\n\nNot everyone in the choir has to read music or be the best singer. Many choir members have no prior music experience. The choir practices every Wednesday night following the Wednesday night prayer group at approximately 6:45 pm. Come worship with us!
URL:https://nolensvillefbc.com/event/choir-practice/2025-07-23/
LOCATION:Nolensville First Baptist Church\, 9624 Clovercroft Road\, Nolensville\, TN\, 37135\, United States
CATEGORIES:Choir,Ministries
ORGANIZER;CN="Nolensville First Baptist Church":MAILTO:info@nolensvillefbc.com
END:VEVENT
BEGIN:VEVENT
DTSTART;TZID=America/Chicago:20250723T180000
DTEND;TZID=America/Chicago:20250723T190000
DTSTAMP:20260422T210736
CREATED:20250103T204907Z
LAST-MODIFIED:20250402T163756Z
UID:990000812-1753293600-1753297200@nolensvillefbc.com
SUMMARY:Wednesday Bible Study
DESCRIPTION:Join us for Wednesday Night Bible Study\nWednesday nights are a great mid-week Church service. Each week there is a brief time of prayer followed by a Bible Study led by Dr. Farmer.
URL:https://nolensvillefbc.com/event/wednesday-bible-study/2025-07-23/
LOCATION:Nolensville First Baptist Church\, 9624 Clovercroft Road\, Nolensville\, TN\, 37135\, United States
CATEGORIES:Worship
ORGANIZER;CN="Nolensville First Baptist Church":MAILTO:info@nolensvillefbc.com
END:VEVENT
BEGIN:VEVENT
DTSTART;TZID=America/Chicago:20250720T104500
DTEND;TZID=America/Chicago:20250720T114500
DTSTAMP:20260422T210736
CREATED:20250103T203523Z
LAST-MODIFIED:20250103T204947Z
UID:990000029-1753008300-1753011900@nolensvillefbc.com
SUMMARY:Sunday Worship Service
DESCRIPTION:Join Nolensville First Baptist Church for our weekly Sunday worship service. \nLearn about what to expect\, and read through our frequently asked questions on our Visit page.
URL:https://nolensvillefbc.com/event/sunday-worship-service/2025-07-20/
LOCATION:Nolensville First Baptist Church\, 9624 Clovercroft Road\, Nolensville\, TN\, 37135\, United States
CATEGORIES:Worship
ORGANIZER;CN="Nolensville First Baptist Church":MAILTO:info@nolensvillefbc.com
END:VEVENT
BEGIN:VEVENT
DTSTART;TZID=America/Chicago:20250720T093000
DTEND;TZID=America/Chicago:20250720T103000
DTSTAMP:20260422T210736
CREATED:20250103T203741Z
LAST-MODIFIED:20250103T203741Z
UID:990000290-1753003800-1753007400@nolensvillefbc.com
SUMMARY:Sunday School
DESCRIPTION:Sunday School classes begin at 9:30 am. We have a nursery that is open for birth to age two. Our children’s Sunday School classes\, spanning from age three to High School\, are held on the second floor. In addition\, we offer two adult Sunday School classes. The co-ed adult class meets on the first floor of our Fellowship Hall building\, while the women’s class convenes in the main worship building.
URL:https://nolensvillefbc.com/event/sunday-school/2025-07-20/
LOCATION:Nolensville First Baptist Church\, 9624 Clovercroft Road\, Nolensville\, TN\, 37135\, United States
CATEGORIES:Sunday School
ORGANIZER;CN="Nolensville First Baptist Church":MAILTO:info@nolensvillefbc.com
END:VEVENT
BEGIN:VEVENT
DTSTART;TZID=America/Chicago:20250719T080000
DTEND;TZID=America/Chicago:20250719T090000
DTSTAMP:20260422T210736
CREATED:20250428T181728Z
LAST-MODIFIED:20250522T162400Z
UID:990001342-1752912000-1752915600@nolensvillefbc.com
SUMMARY:Men's Breakfast
DESCRIPTION:Men will gather to enjoy a fresh cooked breakfast and fellowship in a brief Bible Study. All men are welcome!
URL:https://nolensvillefbc.com/event/mens-breakfast/2025-07-19/
LOCATION:Nolensville First Baptist Church\, 9624 Clovercroft Road\, Nolensville\, TN\, 37135\, United States
CATEGORIES:Men
ORGANIZER;CN="Nolensville First Baptist Church":MAILTO:info@nolensvillefbc.com
END:VEVENT
BEGIN:VEVENT
DTSTART;TZID=America/Chicago:20250716T190000
DTEND;TZID=America/Chicago:20250716T200000
DTSTAMP:20260422T210736
CREATED:20250103T204543Z
LAST-MODIFIED:20250402T163730Z
UID:990001072-1752692400-1752696000@nolensvillefbc.com
SUMMARY:Choir Practice
DESCRIPTION:Join the Nolensville First Baptist Choir!\nThe Nolensville Baptist Church Adult Choir is a wonderful opportunity to serve the Lord and share your musical talents. Join this vibrant group of men and women as they sing both contemporary and classic songs each Sunday. \nFour reasons to join our adult choir: \n\nSing to the Lord and Worship Him\nMeet New People\nRelieve Stress\nBe Uplifted\n\nNot everyone in the choir has to read music or be the best singer. Many choir members have no prior music experience. The choir practices every Wednesday night following the Wednesday night prayer group at approximately 6:45 pm. Come worship with us!
URL:https://nolensvillefbc.com/event/choir-practice/2025-07-16/
LOCATION:Nolensville First Baptist Church\, 9624 Clovercroft Road\, Nolensville\, TN\, 37135\, United States
CATEGORIES:Choir,Ministries
ORGANIZER;CN="Nolensville First Baptist Church":MAILTO:info@nolensvillefbc.com
END:VEVENT
BEGIN:VEVENT
DTSTART;TZID=America/Chicago:20250716T180000
DTEND;TZID=America/Chicago:20250716T190000
DTSTAMP:20260422T210736
CREATED:20250103T204907Z
LAST-MODIFIED:20250402T163756Z
UID:990000811-1752688800-1752692400@nolensvillefbc.com
SUMMARY:Wednesday Bible Study
DESCRIPTION:Join us for Wednesday Night Bible Study\nWednesday nights are a great mid-week Church service. Each week there is a brief time of prayer followed by a Bible Study led by Dr. Farmer.
URL:https://nolensvillefbc.com/event/wednesday-bible-study/2025-07-16/
LOCATION:Nolensville First Baptist Church\, 9624 Clovercroft Road\, Nolensville\, TN\, 37135\, United States
CATEGORIES:Worship
ORGANIZER;CN="Nolensville First Baptist Church":MAILTO:info@nolensvillefbc.com
END:VEVENT
BEGIN:VEVENT
DTSTART;TZID=America/Chicago:20250713T120000
DTEND;TZID=America/Chicago:20250713T130000
DTSTAMP:20260422T210736
CREATED:20250707T160431Z
LAST-MODIFIED:20250707T160431Z
UID:990001445-1752408000-1752411600@nolensvillefbc.com
SUMMARY:Homecoming
DESCRIPTION:NFBC will be celebrating Homecoming 2025 with a lunch fellowship to follow the Sunday morning service.
URL:https://nolensvillefbc.com/event/homecoming/
LOCATION:Nolensville First Baptist Church\, 9624 Clovercroft Road\, Nolensville\, TN\, 37135\, United States
CATEGORIES:Fellowship
ORGANIZER;CN="Nolensville First Baptist Church":MAILTO:info@nolensvillefbc.com
END:VEVENT
BEGIN:VEVENT
DTSTART;TZID=America/Chicago:20250713T104500
DTEND;TZID=America/Chicago:20250713T114500
DTSTAMP:20260422T210736
CREATED:20250103T203523Z
LAST-MODIFIED:20250103T204947Z
UID:990000028-1752403500-1752407100@nolensvillefbc.com
SUMMARY:Sunday Worship Service
DESCRIPTION:Join Nolensville First Baptist Church for our weekly Sunday worship service. \nLearn about what to expect\, and read through our frequently asked questions on our Visit page.
URL:https://nolensvillefbc.com/event/sunday-worship-service/2025-07-13/
LOCATION:Nolensville First Baptist Church\, 9624 Clovercroft Road\, Nolensville\, TN\, 37135\, United States
CATEGORIES:Worship
ORGANIZER;CN="Nolensville First Baptist Church":MAILTO:info@nolensvillefbc.com
END:VEVENT
BEGIN:VEVENT
DTSTART;TZID=America/Chicago:20250713T093000
DTEND;TZID=America/Chicago:20250713T103000
DTSTAMP:20260422T210736
CREATED:20250103T203741Z
LAST-MODIFIED:20250103T203741Z
UID:990000289-1752399000-1752402600@nolensvillefbc.com
SUMMARY:Sunday School
DESCRIPTION:Sunday School classes begin at 9:30 am. We have a nursery that is open for birth to age two. Our children’s Sunday School classes\, spanning from age three to High School\, are held on the second floor. In addition\, we offer two adult Sunday School classes. The co-ed adult class meets on the first floor of our Fellowship Hall building\, while the women’s class convenes in the main worship building.
URL:https://nolensvillefbc.com/event/sunday-school/2025-07-13/
LOCATION:Nolensville First Baptist Church\, 9624 Clovercroft Road\, Nolensville\, TN\, 37135\, United States
CATEGORIES:Sunday School
ORGANIZER;CN="Nolensville First Baptist Church":MAILTO:info@nolensvillefbc.com
END:VEVENT
END:VCALENDAR