BEGIN:VCALENDAR
VERSION:2.0
PRODID:-//Nolensville First Baptist Church - ECPv6.15.20//NONSGML v1.0//EN
CALSCALE:GREGORIAN
METHOD:PUBLISH
X-WR-CALNAME:Nolensville First Baptist Church
X-ORIGINAL-URL:https://nolensvillefbc.com
X-WR-CALDESC:Events for Nolensville First Baptist Church
REFRESH-INTERVAL;VALUE=DURATION:PT1H
X-Robots-Tag:noindex
X-PUBLISHED-TTL:PT1H
BEGIN:VTIMEZONE
TZID:America/Chicago
BEGIN:DAYLIGHT
TZOFFSETFROM:-0600
TZOFFSETTO:-0500
TZNAME:CDT
DTSTART:20240310T080000
END:DAYLIGHT
BEGIN:STANDARD
TZOFFSETFROM:-0500
TZOFFSETTO:-0600
TZNAME:CST
DTSTART:20241103T070000
END:STANDARD
BEGIN:DAYLIGHT
TZOFFSETFROM:-0600
TZOFFSETTO:-0500
TZNAME:CDT
DTSTART:20250309T080000
END:DAYLIGHT
BEGIN:STANDARD
TZOFFSETFROM:-0500
TZOFFSETTO:-0600
TZNAME:CST
DTSTART:20251102T070000
END:STANDARD
BEGIN:DAYLIGHT
TZOFFSETFROM:-0600
TZOFFSETTO:-0500
TZNAME:CDT
DTSTART:20260308T080000
END:DAYLIGHT
BEGIN:STANDARD
TZOFFSETFROM:-0500
TZOFFSETTO:-0600
TZNAME:CST
DTSTART:20261101T070000
END:STANDARD
END:VTIMEZONE
BEGIN:VEVENT
DTSTART;TZID=America/Chicago:20250514T190000
DTEND;TZID=America/Chicago:20250514T200000
DTSTAMP:20260425T064112
CREATED:20250103T204543Z
LAST-MODIFIED:20250402T163730Z
UID:990001063-1747249200-1747252800@nolensvillefbc.com
SUMMARY:Choir Practice
DESCRIPTION:Join the Nolensville First Baptist Choir!\nThe Nolensville Baptist Church Adult Choir is a wonderful opportunity to serve the Lord and share your musical talents. Join this vibrant group of men and women as they sing both contemporary and classic songs each Sunday. \nFour reasons to join our adult choir: \n\nSing to the Lord and Worship Him\nMeet New People\nRelieve Stress\nBe Uplifted\n\nNot everyone in the choir has to read music or be the best singer. Many choir members have no prior music experience. The choir practices every Wednesday night following the Wednesday night prayer group at approximately 6:45 pm. Come worship with us!
URL:https://nolensvillefbc.com/event/choir-practice/2025-05-14/
LOCATION:Nolensville First Baptist Church\, 9624 Clovercroft Road\, Nolensville\, TN\, 37135\, United States
CATEGORIES:Choir,Ministries
ORGANIZER;CN="Nolensville First Baptist Church":MAILTO:info@nolensvillefbc.com
END:VEVENT
BEGIN:VEVENT
DTSTART;TZID=America/Chicago:20250514T180000
DTEND;TZID=America/Chicago:20250514T190000
DTSTAMP:20260425T064112
CREATED:20250428T181559Z
LAST-MODIFIED:20250428T181559Z
UID:990001337-1747245600-1747249200@nolensvillefbc.com
SUMMARY:Women on Mission Meeting
DESCRIPTION:
URL:https://nolensvillefbc.com/event/women-on-mission-meeting/
LOCATION:Nolensville First Baptist Church\, 9624 Clovercroft Road\, Nolensville\, TN\, 37135\, United States
CATEGORIES:Ministries,Women
ORGANIZER;CN="Nolensville First Baptist Church":MAILTO:info@nolensvillefbc.com
END:VEVENT
BEGIN:VEVENT
DTSTART;TZID=America/Chicago:20250514T180000
DTEND;TZID=America/Chicago:20250514T190000
DTSTAMP:20260425T064112
CREATED:20250103T204907Z
LAST-MODIFIED:20250402T163756Z
UID:990000802-1747245600-1747249200@nolensvillefbc.com
SUMMARY:Wednesday Bible Study
DESCRIPTION:Join us for Wednesday Night Bible Study\nWednesday nights are a great mid-week Church service. Each week there is a brief time of prayer followed by a Bible Study led by Dr. Farmer.
URL:https://nolensvillefbc.com/event/wednesday-bible-study/2025-05-14/
LOCATION:Nolensville First Baptist Church\, 9624 Clovercroft Road\, Nolensville\, TN\, 37135\, United States
CATEGORIES:Worship
ORGANIZER;CN="Nolensville First Baptist Church":MAILTO:info@nolensvillefbc.com
END:VEVENT
BEGIN:VEVENT
DTSTART;TZID=America/Chicago:20250511T104500
DTEND;TZID=America/Chicago:20250511T114500
DTSTAMP:20260425T064112
CREATED:20250103T203523Z
LAST-MODIFIED:20250103T204947Z
UID:990000019-1746960300-1746963900@nolensvillefbc.com
SUMMARY:Sunday Worship Service
DESCRIPTION:Join Nolensville First Baptist Church for our weekly Sunday worship service. \nLearn about what to expect\, and read through our frequently asked questions on our Visit page.
URL:https://nolensvillefbc.com/event/sunday-worship-service/2025-05-11/
LOCATION:Nolensville First Baptist Church\, 9624 Clovercroft Road\, Nolensville\, TN\, 37135\, United States
CATEGORIES:Worship
ORGANIZER;CN="Nolensville First Baptist Church":MAILTO:info@nolensvillefbc.com
END:VEVENT
BEGIN:VEVENT
DTSTART;TZID=America/Chicago:20250511T093000
DTEND;TZID=America/Chicago:20250511T103000
DTSTAMP:20260425T064112
CREATED:20250103T203741Z
LAST-MODIFIED:20250103T203741Z
UID:990000280-1746955800-1746959400@nolensvillefbc.com
SUMMARY:Sunday School
DESCRIPTION:Sunday School classes begin at 9:30 am. We have a nursery that is open for birth to age two. Our children’s Sunday School classes\, spanning from age three to High School\, are held on the second floor. In addition\, we offer two adult Sunday School classes. The co-ed adult class meets on the first floor of our Fellowship Hall building\, while the women’s class convenes in the main worship building.
URL:https://nolensvillefbc.com/event/sunday-school/2025-05-11/
LOCATION:Nolensville First Baptist Church\, 9624 Clovercroft Road\, Nolensville\, TN\, 37135\, United States
CATEGORIES:Sunday School
ORGANIZER;CN="Nolensville First Baptist Church":MAILTO:info@nolensvillefbc.com
END:VEVENT
BEGIN:VEVENT
DTSTART;TZID=America/Chicago:20250510T170000
DTEND;TZID=America/Chicago:20250510T180000
DTSTAMP:20260425T064112
CREATED:20250428T181500Z
LAST-MODIFIED:20250428T181500Z
UID:990001336-1746896400-1746900000@nolensvillefbc.com
SUMMARY:End of School Bash 2025
DESCRIPTION:
URL:https://nolensvillefbc.com/event/end-of-school-bash-2025/
LOCATION:Nolensville First Baptist Church\, 9624 Clovercroft Road\, Nolensville\, TN\, 37135\, United States
CATEGORIES:Ministries,Youth
ORGANIZER;CN="Nolensville First Baptist Church":MAILTO:info@nolensvillefbc.com
END:VEVENT
BEGIN:VEVENT
DTSTART;TZID=America/Chicago:20250507T190000
DTEND;TZID=America/Chicago:20250507T200000
DTSTAMP:20260425T064112
CREATED:20250103T204543Z
LAST-MODIFIED:20250402T163730Z
UID:990001062-1746644400-1746648000@nolensvillefbc.com
SUMMARY:Choir Practice
DESCRIPTION:Join the Nolensville First Baptist Choir!\nThe Nolensville Baptist Church Adult Choir is a wonderful opportunity to serve the Lord and share your musical talents. Join this vibrant group of men and women as they sing both contemporary and classic songs each Sunday. \nFour reasons to join our adult choir: \n\nSing to the Lord and Worship Him\nMeet New People\nRelieve Stress\nBe Uplifted\n\nNot everyone in the choir has to read music or be the best singer. Many choir members have no prior music experience. The choir practices every Wednesday night following the Wednesday night prayer group at approximately 6:45 pm. Come worship with us!
URL:https://nolensvillefbc.com/event/choir-practice/2025-05-07/
LOCATION:Nolensville First Baptist Church\, 9624 Clovercroft Road\, Nolensville\, TN\, 37135\, United States
CATEGORIES:Choir,Ministries
ORGANIZER;CN="Nolensville First Baptist Church":MAILTO:info@nolensvillefbc.com
END:VEVENT
BEGIN:VEVENT
DTSTART;TZID=America/Chicago:20250507T180000
DTEND;TZID=America/Chicago:20250507T190000
DTSTAMP:20260425T064112
CREATED:20250428T181356Z
LAST-MODIFIED:20250428T181356Z
UID:990001335-1746640800-1746644400@nolensvillefbc.com
SUMMARY:Business Meeting
DESCRIPTION:
URL:https://nolensvillefbc.com/event/business-meeting/
LOCATION:Nolensville First Baptist Church\, 9624 Clovercroft Road\, Nolensville\, TN\, 37135\, United States
CATEGORIES:Church Meetings
ORGANIZER;CN="Nolensville First Baptist Church":MAILTO:info@nolensvillefbc.com
END:VEVENT
BEGIN:VEVENT
DTSTART;TZID=America/Chicago:20250507T180000
DTEND;TZID=America/Chicago:20250507T190000
DTSTAMP:20260425T064112
CREATED:20250103T204907Z
LAST-MODIFIED:20250402T163756Z
UID:990000801-1746640800-1746644400@nolensvillefbc.com
SUMMARY:Wednesday Bible Study
DESCRIPTION:Join us for Wednesday Night Bible Study\nWednesday nights are a great mid-week Church service. Each week there is a brief time of prayer followed by a Bible Study led by Dr. Farmer.
URL:https://nolensvillefbc.com/event/wednesday-bible-study/2025-05-07/
LOCATION:Nolensville First Baptist Church\, 9624 Clovercroft Road\, Nolensville\, TN\, 37135\, United States
CATEGORIES:Worship
ORGANIZER;CN="Nolensville First Baptist Church":MAILTO:info@nolensvillefbc.com
END:VEVENT
BEGIN:VEVENT
DTSTART;TZID=America/Chicago:20250504T104500
DTEND;TZID=America/Chicago:20250504T114500
DTSTAMP:20260425T064112
CREATED:20250103T203523Z
LAST-MODIFIED:20250103T204947Z
UID:990000018-1746355500-1746359100@nolensvillefbc.com
SUMMARY:Sunday Worship Service
DESCRIPTION:Join Nolensville First Baptist Church for our weekly Sunday worship service. \nLearn about what to expect\, and read through our frequently asked questions on our Visit page.
URL:https://nolensvillefbc.com/event/sunday-worship-service/2025-05-04/
LOCATION:Nolensville First Baptist Church\, 9624 Clovercroft Road\, Nolensville\, TN\, 37135\, United States
CATEGORIES:Worship
ORGANIZER;CN="Nolensville First Baptist Church":MAILTO:info@nolensvillefbc.com
END:VEVENT
BEGIN:VEVENT
DTSTART;TZID=America/Chicago:20250504T093000
DTEND;TZID=America/Chicago:20250504T103000
DTSTAMP:20260425T064112
CREATED:20250103T203741Z
LAST-MODIFIED:20250103T203741Z
UID:990000279-1746351000-1746354600@nolensvillefbc.com
SUMMARY:Sunday School
DESCRIPTION:Sunday School classes begin at 9:30 am. We have a nursery that is open for birth to age two. Our children’s Sunday School classes\, spanning from age three to High School\, are held on the second floor. In addition\, we offer two adult Sunday School classes. The co-ed adult class meets on the first floor of our Fellowship Hall building\, while the women’s class convenes in the main worship building.
URL:https://nolensvillefbc.com/event/sunday-school/2025-05-04/
LOCATION:Nolensville First Baptist Church\, 9624 Clovercroft Road\, Nolensville\, TN\, 37135\, United States
CATEGORIES:Sunday School
ORGANIZER;CN="Nolensville First Baptist Church":MAILTO:info@nolensvillefbc.com
END:VEVENT
BEGIN:VEVENT
DTSTART;TZID=America/Chicago:20250430T190000
DTEND;TZID=America/Chicago:20250430T200000
DTSTAMP:20260425T064112
CREATED:20250103T204543Z
LAST-MODIFIED:20250402T163730Z
UID:990001061-1746039600-1746043200@nolensvillefbc.com
SUMMARY:Choir Practice
DESCRIPTION:Join the Nolensville First Baptist Choir!\nThe Nolensville Baptist Church Adult Choir is a wonderful opportunity to serve the Lord and share your musical talents. Join this vibrant group of men and women as they sing both contemporary and classic songs each Sunday. \nFour reasons to join our adult choir: \n\nSing to the Lord and Worship Him\nMeet New People\nRelieve Stress\nBe Uplifted\n\nNot everyone in the choir has to read music or be the best singer. Many choir members have no prior music experience. The choir practices every Wednesday night following the Wednesday night prayer group at approximately 6:45 pm. Come worship with us!
URL:https://nolensvillefbc.com/event/choir-practice/2025-04-30/
LOCATION:Nolensville First Baptist Church\, 9624 Clovercroft Road\, Nolensville\, TN\, 37135\, United States
CATEGORIES:Choir,Ministries
ORGANIZER;CN="Nolensville First Baptist Church":MAILTO:info@nolensvillefbc.com
END:VEVENT
BEGIN:VEVENT
DTSTART;TZID=America/Chicago:20250430T180000
DTEND;TZID=America/Chicago:20250430T190000
DTSTAMP:20260425T064112
CREATED:20250103T204907Z
LAST-MODIFIED:20250402T163756Z
UID:990000800-1746036000-1746039600@nolensvillefbc.com
SUMMARY:Wednesday Bible Study
DESCRIPTION:Join us for Wednesday Night Bible Study\nWednesday nights are a great mid-week Church service. Each week there is a brief time of prayer followed by a Bible Study led by Dr. Farmer.
URL:https://nolensvillefbc.com/event/wednesday-bible-study/2025-04-30/
LOCATION:Nolensville First Baptist Church\, 9624 Clovercroft Road\, Nolensville\, TN\, 37135\, United States
CATEGORIES:Worship
ORGANIZER;CN="Nolensville First Baptist Church":MAILTO:info@nolensvillefbc.com
END:VEVENT
BEGIN:VEVENT
DTSTART;TZID=America/Chicago:20250427T104500
DTEND;TZID=America/Chicago:20250427T114500
DTSTAMP:20260425T064112
CREATED:20250103T203523Z
LAST-MODIFIED:20250103T204947Z
UID:990000017-1745750700-1745754300@nolensvillefbc.com
SUMMARY:Sunday Worship Service
DESCRIPTION:Join Nolensville First Baptist Church for our weekly Sunday worship service. \nLearn about what to expect\, and read through our frequently asked questions on our Visit page.
URL:https://nolensvillefbc.com/event/sunday-worship-service/2025-04-27/
LOCATION:Nolensville First Baptist Church\, 9624 Clovercroft Road\, Nolensville\, TN\, 37135\, United States
CATEGORIES:Worship
ORGANIZER;CN="Nolensville First Baptist Church":MAILTO:info@nolensvillefbc.com
END:VEVENT
BEGIN:VEVENT
DTSTART;TZID=America/Chicago:20250427T093000
DTEND;TZID=America/Chicago:20250427T103000
DTSTAMP:20260425T064112
CREATED:20250103T203741Z
LAST-MODIFIED:20250103T203741Z
UID:990000278-1745746200-1745749800@nolensvillefbc.com
SUMMARY:Sunday School
DESCRIPTION:Sunday School classes begin at 9:30 am. We have a nursery that is open for birth to age two. Our children’s Sunday School classes\, spanning from age three to High School\, are held on the second floor. In addition\, we offer two adult Sunday School classes. The co-ed adult class meets on the first floor of our Fellowship Hall building\, while the women’s class convenes in the main worship building.
URL:https://nolensvillefbc.com/event/sunday-school/2025-04-27/
LOCATION:Nolensville First Baptist Church\, 9624 Clovercroft Road\, Nolensville\, TN\, 37135\, United States
CATEGORIES:Sunday School
ORGANIZER;CN="Nolensville First Baptist Church":MAILTO:info@nolensvillefbc.com
END:VEVENT
BEGIN:VEVENT
DTSTART;TZID=America/Chicago:20250423T190000
DTEND;TZID=America/Chicago:20250423T200000
DTSTAMP:20260425T064112
CREATED:20250103T204543Z
LAST-MODIFIED:20250402T163730Z
UID:990001060-1745434800-1745438400@nolensvillefbc.com
SUMMARY:Choir Practice
DESCRIPTION:Join the Nolensville First Baptist Choir!\nThe Nolensville Baptist Church Adult Choir is a wonderful opportunity to serve the Lord and share your musical talents. Join this vibrant group of men and women as they sing both contemporary and classic songs each Sunday. \nFour reasons to join our adult choir: \n\nSing to the Lord and Worship Him\nMeet New People\nRelieve Stress\nBe Uplifted\n\nNot everyone in the choir has to read music or be the best singer. Many choir members have no prior music experience. The choir practices every Wednesday night following the Wednesday night prayer group at approximately 6:45 pm. Come worship with us!
URL:https://nolensvillefbc.com/event/choir-practice/2025-04-23/
LOCATION:Nolensville First Baptist Church\, 9624 Clovercroft Road\, Nolensville\, TN\, 37135\, United States
CATEGORIES:Choir,Ministries
ORGANIZER;CN="Nolensville First Baptist Church":MAILTO:info@nolensvillefbc.com
END:VEVENT
BEGIN:VEVENT
DTSTART;TZID=America/Chicago:20250423T180000
DTEND;TZID=America/Chicago:20250423T190000
DTSTAMP:20260425T064112
CREATED:20250103T204907Z
LAST-MODIFIED:20250402T163756Z
UID:990000799-1745431200-1745434800@nolensvillefbc.com
SUMMARY:Wednesday Bible Study
DESCRIPTION:Join us for Wednesday Night Bible Study\nWednesday nights are a great mid-week Church service. Each week there is a brief time of prayer followed by a Bible Study led by Dr. Farmer.
URL:https://nolensvillefbc.com/event/wednesday-bible-study/2025-04-23/
LOCATION:Nolensville First Baptist Church\, 9624 Clovercroft Road\, Nolensville\, TN\, 37135\, United States
CATEGORIES:Worship
ORGANIZER;CN="Nolensville First Baptist Church":MAILTO:info@nolensvillefbc.com
END:VEVENT
BEGIN:VEVENT
DTSTART;TZID=America/Chicago:20250420T104500
DTEND;TZID=America/Chicago:20250420T114500
DTSTAMP:20260425T064112
CREATED:20250103T203523Z
LAST-MODIFIED:20250103T204947Z
UID:990000016-1745145900-1745149500@nolensvillefbc.com
SUMMARY:Sunday Worship Service
DESCRIPTION:Join Nolensville First Baptist Church for our weekly Sunday worship service. \nLearn about what to expect\, and read through our frequently asked questions on our Visit page.
URL:https://nolensvillefbc.com/event/sunday-worship-service/2025-04-20/
LOCATION:Nolensville First Baptist Church\, 9624 Clovercroft Road\, Nolensville\, TN\, 37135\, United States
CATEGORIES:Worship
ORGANIZER;CN="Nolensville First Baptist Church":MAILTO:info@nolensvillefbc.com
END:VEVENT
BEGIN:VEVENT
DTSTART;TZID=America/Chicago:20250420T093000
DTEND;TZID=America/Chicago:20250420T103000
DTSTAMP:20260425T064112
CREATED:20250103T203741Z
LAST-MODIFIED:20250103T203741Z
UID:990000277-1745141400-1745145000@nolensvillefbc.com
SUMMARY:Sunday School
DESCRIPTION:Sunday School classes begin at 9:30 am. We have a nursery that is open for birth to age two. Our children’s Sunday School classes\, spanning from age three to High School\, are held on the second floor. In addition\, we offer two adult Sunday School classes. The co-ed adult class meets on the first floor of our Fellowship Hall building\, while the women’s class convenes in the main worship building.
URL:https://nolensvillefbc.com/event/sunday-school/2025-04-20/
LOCATION:Nolensville First Baptist Church\, 9624 Clovercroft Road\, Nolensville\, TN\, 37135\, United States
CATEGORIES:Sunday School
ORGANIZER;CN="Nolensville First Baptist Church":MAILTO:info@nolensvillefbc.com
END:VEVENT
BEGIN:VEVENT
DTSTART;TZID=America/Chicago:20250416T190000
DTEND;TZID=America/Chicago:20250416T200000
DTSTAMP:20260425T064112
CREATED:20250103T204543Z
LAST-MODIFIED:20250402T163730Z
UID:990001059-1744830000-1744833600@nolensvillefbc.com
SUMMARY:Choir Practice
DESCRIPTION:Join the Nolensville First Baptist Choir!\nThe Nolensville Baptist Church Adult Choir is a wonderful opportunity to serve the Lord and share your musical talents. Join this vibrant group of men and women as they sing both contemporary and classic songs each Sunday. \nFour reasons to join our adult choir: \n\nSing to the Lord and Worship Him\nMeet New People\nRelieve Stress\nBe Uplifted\n\nNot everyone in the choir has to read music or be the best singer. Many choir members have no prior music experience. The choir practices every Wednesday night following the Wednesday night prayer group at approximately 6:45 pm. Come worship with us!
URL:https://nolensvillefbc.com/event/choir-practice/2025-04-16/
LOCATION:Nolensville First Baptist Church\, 9624 Clovercroft Road\, Nolensville\, TN\, 37135\, United States
CATEGORIES:Choir,Ministries
ORGANIZER;CN="Nolensville First Baptist Church":MAILTO:info@nolensvillefbc.com
END:VEVENT
BEGIN:VEVENT
DTSTART;TZID=America/Chicago:20250416T180000
DTEND;TZID=America/Chicago:20250416T190000
DTSTAMP:20260425T064112
CREATED:20250103T204907Z
LAST-MODIFIED:20250402T163756Z
UID:990000798-1744826400-1744830000@nolensvillefbc.com
SUMMARY:Wednesday Bible Study
DESCRIPTION:Join us for Wednesday Night Bible Study\nWednesday nights are a great mid-week Church service. Each week there is a brief time of prayer followed by a Bible Study led by Dr. Farmer.
URL:https://nolensvillefbc.com/event/wednesday-bible-study/2025-04-16/
LOCATION:Nolensville First Baptist Church\, 9624 Clovercroft Road\, Nolensville\, TN\, 37135\, United States
CATEGORIES:Worship
ORGANIZER;CN="Nolensville First Baptist Church":MAILTO:info@nolensvillefbc.com
END:VEVENT
BEGIN:VEVENT
DTSTART;TZID=America/Chicago:20250413T104500
DTEND;TZID=America/Chicago:20250413T114500
DTSTAMP:20260425T064112
CREATED:20250103T203523Z
LAST-MODIFIED:20250103T204947Z
UID:990000015-1744541100-1744544700@nolensvillefbc.com
SUMMARY:Sunday Worship Service
DESCRIPTION:Join Nolensville First Baptist Church for our weekly Sunday worship service. \nLearn about what to expect\, and read through our frequently asked questions on our Visit page.
URL:https://nolensvillefbc.com/event/sunday-worship-service/2025-04-13/
LOCATION:Nolensville First Baptist Church\, 9624 Clovercroft Road\, Nolensville\, TN\, 37135\, United States
CATEGORIES:Worship
ORGANIZER;CN="Nolensville First Baptist Church":MAILTO:info@nolensvillefbc.com
END:VEVENT
BEGIN:VEVENT
DTSTART;TZID=America/Chicago:20250413T093000
DTEND;TZID=America/Chicago:20250413T103000
DTSTAMP:20260425T064112
CREATED:20250103T203741Z
LAST-MODIFIED:20250103T203741Z
UID:990000276-1744536600-1744540200@nolensvillefbc.com
SUMMARY:Sunday School
DESCRIPTION:Sunday School classes begin at 9:30 am. We have a nursery that is open for birth to age two. Our children’s Sunday School classes\, spanning from age three to High School\, are held on the second floor. In addition\, we offer two adult Sunday School classes. The co-ed adult class meets on the first floor of our Fellowship Hall building\, while the women’s class convenes in the main worship building.
URL:https://nolensvillefbc.com/event/sunday-school/2025-04-13/
LOCATION:Nolensville First Baptist Church\, 9624 Clovercroft Road\, Nolensville\, TN\, 37135\, United States
CATEGORIES:Sunday School
ORGANIZER;CN="Nolensville First Baptist Church":MAILTO:info@nolensvillefbc.com
END:VEVENT
BEGIN:VEVENT
DTSTART;TZID=America/Chicago:20250409T190000
DTEND;TZID=America/Chicago:20250409T200000
DTSTAMP:20260425T064112
CREATED:20250103T204543Z
LAST-MODIFIED:20250402T163730Z
UID:990001058-1744225200-1744228800@nolensvillefbc.com
SUMMARY:Choir Practice
DESCRIPTION:Join the Nolensville First Baptist Choir!\nThe Nolensville Baptist Church Adult Choir is a wonderful opportunity to serve the Lord and share your musical talents. Join this vibrant group of men and women as they sing both contemporary and classic songs each Sunday. \nFour reasons to join our adult choir: \n\nSing to the Lord and Worship Him\nMeet New People\nRelieve Stress\nBe Uplifted\n\nNot everyone in the choir has to read music or be the best singer. Many choir members have no prior music experience. The choir practices every Wednesday night following the Wednesday night prayer group at approximately 6:45 pm. Come worship with us!
URL:https://nolensvillefbc.com/event/choir-practice/2025-04-09/
LOCATION:Nolensville First Baptist Church\, 9624 Clovercroft Road\, Nolensville\, TN\, 37135\, United States
CATEGORIES:Choir,Ministries
ORGANIZER;CN="Nolensville First Baptist Church":MAILTO:info@nolensvillefbc.com
END:VEVENT
BEGIN:VEVENT
DTSTART;TZID=America/Chicago:20250409T180000
DTEND;TZID=America/Chicago:20250409T190000
DTSTAMP:20260425T064112
CREATED:20250103T204907Z
LAST-MODIFIED:20250402T163756Z
UID:990000797-1744221600-1744225200@nolensvillefbc.com
SUMMARY:Wednesday Bible Study
DESCRIPTION:Join us for Wednesday Night Bible Study\nWednesday nights are a great mid-week Church service. Each week there is a brief time of prayer followed by a Bible Study led by Dr. Farmer.
URL:https://nolensvillefbc.com/event/wednesday-bible-study/2025-04-09/
LOCATION:Nolensville First Baptist Church\, 9624 Clovercroft Road\, Nolensville\, TN\, 37135\, United States
CATEGORIES:Worship
ORGANIZER;CN="Nolensville First Baptist Church":MAILTO:info@nolensvillefbc.com
END:VEVENT
BEGIN:VEVENT
DTSTART;TZID=America/Chicago:20250406T104500
DTEND;TZID=America/Chicago:20250406T114500
DTSTAMP:20260425T064112
CREATED:20250103T203523Z
LAST-MODIFIED:20250103T204947Z
UID:990000014-1743936300-1743939900@nolensvillefbc.com
SUMMARY:Sunday Worship Service
DESCRIPTION:Join Nolensville First Baptist Church for our weekly Sunday worship service. \nLearn about what to expect\, and read through our frequently asked questions on our Visit page.
URL:https://nolensvillefbc.com/event/sunday-worship-service/2025-04-06/
LOCATION:Nolensville First Baptist Church\, 9624 Clovercroft Road\, Nolensville\, TN\, 37135\, United States
CATEGORIES:Worship
ORGANIZER;CN="Nolensville First Baptist Church":MAILTO:info@nolensvillefbc.com
END:VEVENT
BEGIN:VEVENT
DTSTART;TZID=America/Chicago:20250406T093000
DTEND;TZID=America/Chicago:20250406T103000
DTSTAMP:20260425T064112
CREATED:20250103T203741Z
LAST-MODIFIED:20250103T203741Z
UID:990000275-1743931800-1743935400@nolensvillefbc.com
SUMMARY:Sunday School
DESCRIPTION:Sunday School classes begin at 9:30 am. We have a nursery that is open for birth to age two. Our children’s Sunday School classes\, spanning from age three to High School\, are held on the second floor. In addition\, we offer two adult Sunday School classes. The co-ed adult class meets on the first floor of our Fellowship Hall building\, while the women’s class convenes in the main worship building.
URL:https://nolensvillefbc.com/event/sunday-school/2025-04-06/
LOCATION:Nolensville First Baptist Church\, 9624 Clovercroft Road\, Nolensville\, TN\, 37135\, United States
CATEGORIES:Sunday School
ORGANIZER;CN="Nolensville First Baptist Church":MAILTO:info@nolensvillefbc.com
END:VEVENT
BEGIN:VEVENT
DTSTART;TZID=America/Chicago:20250402T190000
DTEND;TZID=America/Chicago:20250402T200000
DTSTAMP:20260425T064112
CREATED:20250103T204543Z
LAST-MODIFIED:20250402T163730Z
UID:990001057-1743620400-1743624000@nolensvillefbc.com
SUMMARY:Choir Practice
DESCRIPTION:Join the Nolensville First Baptist Choir!\nThe Nolensville Baptist Church Adult Choir is a wonderful opportunity to serve the Lord and share your musical talents. Join this vibrant group of men and women as they sing both contemporary and classic songs each Sunday. \nFour reasons to join our adult choir: \n\nSing to the Lord and Worship Him\nMeet New People\nRelieve Stress\nBe Uplifted\n\nNot everyone in the choir has to read music or be the best singer. Many choir members have no prior music experience. The choir practices every Wednesday night following the Wednesday night prayer group at approximately 6:45 pm. Come worship with us!
URL:https://nolensvillefbc.com/event/choir-practice/2025-04-02/
LOCATION:Nolensville First Baptist Church\, 9624 Clovercroft Road\, Nolensville\, TN\, 37135\, United States
CATEGORIES:Choir,Ministries
ORGANIZER;CN="Nolensville First Baptist Church":MAILTO:info@nolensvillefbc.com
END:VEVENT
BEGIN:VEVENT
DTSTART;TZID=America/Chicago:20250402T180000
DTEND;TZID=America/Chicago:20250402T190000
DTSTAMP:20260425T064112
CREATED:20250103T204907Z
LAST-MODIFIED:20250402T163756Z
UID:990000796-1743616800-1743620400@nolensvillefbc.com
SUMMARY:Wednesday Bible Study
DESCRIPTION:Join us for Wednesday Night Bible Study\nWednesday nights are a great mid-week Church service. Each week there is a brief time of prayer followed by a Bible Study led by Dr. Farmer.
URL:https://nolensvillefbc.com/event/wednesday-bible-study/2025-04-02/
LOCATION:Nolensville First Baptist Church\, 9624 Clovercroft Road\, Nolensville\, TN\, 37135\, United States
CATEGORIES:Worship
ORGANIZER;CN="Nolensville First Baptist Church":MAILTO:info@nolensvillefbc.com
END:VEVENT
BEGIN:VEVENT
DTSTART;TZID=America/Chicago:20250330T104500
DTEND;TZID=America/Chicago:20250330T114500
DTSTAMP:20260425T064112
CREATED:20250103T203523Z
LAST-MODIFIED:20250103T204947Z
UID:990000013-1743331500-1743335100@nolensvillefbc.com
SUMMARY:Sunday Worship Service
DESCRIPTION:Join Nolensville First Baptist Church for our weekly Sunday worship service. \nLearn about what to expect\, and read through our frequently asked questions on our Visit page.
URL:https://nolensvillefbc.com/event/sunday-worship-service/2025-03-30/
LOCATION:Nolensville First Baptist Church\, 9624 Clovercroft Road\, Nolensville\, TN\, 37135\, United States
CATEGORIES:Worship
ORGANIZER;CN="Nolensville First Baptist Church":MAILTO:info@nolensvillefbc.com
END:VEVENT
END:VCALENDAR